Workbook

Sheet TONG HOP
A1: SỞ GIÁO DỤC VÀ ĐÀO TẠO TÂY NINH | D1: CỘNG HÒA XÃ HỘI CHỦ NGHĨA VIỆT NAM | R1: Tổng số lớp: 23 lớp. Trong đó chia ra:
A2: TRƯỜNG THPT CHU VĂN AN | D2: Độc lập -Tự do - Hạnh phúc | Q2: Khối 10: GDPT 08 lớp
A3: BẢNG PHÂN CÔNG CHUYÊN MÔN NĂM HỌC 2026- 2027- Áp dụng 07.9.2026 (1 tuần)- Tuần 1 | Q3: Khối 11: GDPT 06 lớp, GDTX 01 lớp.
Q4: Khối 12: GDPT 07 lớp, GDTX 01 lớp. | AU4: =54-18 -> 36 | AV4: =51-17 -> 34
A5: STT | B5: Họ và tên | C5: Chức vụ/Vị trí công tác | D5: Chuyên môn | E5: DẠY LỚP VÀ KIÊM NHIỆM HK1 | I5: Cộng số tiết dạy lớp và kiêm nhiệm/ tuần | J5: AI | L5: HĐ trải nghiệm- HN | N5: Ôn thi TN THPT HK1 | P5: Giáo dục địa phương | R5: Số tiết quy đổi HK1 | W5: Tổng số tiết/ tuần | X5: Ghi chú | Y5: DẠY LỚP VÀ KIÊM NHIỆM HỌC KỲ 2 | AC5: Cộng số tiết dạy lớp và kiêm nhiệm/ tuần | AD5: HĐ trải nghiệm- HN | AF5: Ôn thi TN THPT HK1 | AH5: Giáo dục địa phương | AJ5: Số tiết quy đổi HK2 | AO5: Tổng số tiết/ tuần | AP5: Ghi chú | AR5: T1-6, | AS5: T7-16 | AT5: T17,18 | AU5: TS tiết tăng HK1 | AV5: TS tiết tăng HK2 | AW5: TS tiết tăng CN | AX5: Tổng số tiết tăng HK1 buổi 1 | AY5: Tổng số tiết tăng HK1 buổi 2
E6: Phân công chuyên môn (Dạy lớp)- HK1 | G6: Công việc kiêm nhiệm (TTCM, TPCM, BTĐTN, P.BTĐTN, CTCĐ, PCTCĐ, BCHCĐ, TTCĐ, TTND, TV, TB, VN, TDTT, C.Nhiệm lớp, TVTL...) | J6: PC lớp | K6: Số tiết | L6: PC lớp | M6: TS tiết | N6: PC lớp dạy ôn thi TN THPT HK1 | O6: TS tiết | P6: PC lớp dạy Giáo dục địa phương | Q6: TS tiết | R6: Số tiết dạy BD HSG (1t dạy trực tiếp=1t quy đổi) | S6: Số tiết BD Hội thao quốc phòng (1t dạy trực tiếp=1t quy đổi) | T6: Số tiết BD Hội khỏe PĐ (1t dạy trực tiếp=1t quy đổi) | U6: Số tiết BD KHKT (1t dạy trực tiếp=1t quy đổi) | V6: Số tiết BGK chấm thi cấp trường (1t dạy trực tiếp=1t quy đổi) | Y6: Phân công chuyên môn (Dạy lớp)- HK2 | AA6: Công việc kiêm nhiệm (TTCM, TPCM, BTĐTN, P.BTĐTN, CTCĐ, PCTCĐ, BCHCĐ, TTCĐ, TTND, TV, TB, VN, TDTT, C.Nhiệm lớp, TVTL...) | AD6: PC lớp | AE6: TS tiết | AF6: PC lớp dạy ôn thi TN THPT HK1 | AG6: TS tiết | AH6: PC lớp dạy Giáo dục địa phương | AI6: TS tiết | AJ6: Số tiết dạy BD HSG (1t dạy trực tiếp=1t quy đổi) | AK6: Số tiết BD Hội thao quốc phòng (1t dạy trực tiếp=1t quy đổi) | AL6: Số tiết BD Hội khỏe PĐ (1t dạy trực tiếp=1t quy đổi) | AM6: Số tiết BD KHKT (1t dạy trực tiếp=1t quy đổi) | AN6: Số tiết BGK chấm thi cấp trường (1t dạy trực tiếp=1t quy đổi) | AR6: Số tiết /tuần | AS6: Số tiết /tuần | AT6: Số tiết /tuần
E7: Dạy lớp (Môn dạy) | F7: Tổng số tiết | G7: Kiêm nhiệm | H7: Số tiết kiêm nhiệm | Y7: Dạy lớp (Môn dạy, HĐTNHN) | Z7: Tổng số tiết | AA7: Kiêm nhiệm | AB7: Số tiết kiêm nhiệm | AS7: Dạy ôn TN | AU7: =SUM(AU10:AU69) -> 1009 | AV7: =SUM(AV10:AV69) -> #VALUE! | AW7: =AV7+AU7 -> #VALUE!
A8: 1 | B8: 2 | C8: 3 | D8: 4 | E8: 5 | F8: 6 | G8: 7 | H8: 8 | I8: 9 | J8: 10 | K8: 11 | L8: 12 | M8: 13 | N8: 14 | O8: 15 | P8: 16 | Q8: 16 | R8: 17 | S8: 18 | T8: 19 | U8: 20 | V8: 21 | W8: 22 | X8: 23 | Y8: 23 | Z8: 24 | AA8: 25 | AB8: 26 | AC8: 27 | AD8: 28 | AE8: 29 | AF8: 30 | AG8: 31 | AH8: 32 | AI8: 33 | AJ8: 34 | AK8: 35 | AL8: 36 | AM8: 37 | AN8: 38 | AO8: 39 | AP8: 40
A10: 1 | B10: Nguyễn Minh Triều | C10: Hiệu trưởng | D10: Vật lý | G10: HT (15) | H10: 15 | I10: =F10+H10 -> 15 | L10: 10C3 (3) | M10: 3 | W10: =I10+K10+M10+O10+Q10+R10+S10+T10+U10+V10 -> 18 | X10: =SUM('T1:T18'!X10) -> 11 | Y10: =SUM('T1:T18'!Y10) -> 0 | Z10: =SUM('T1:T18'!Z10) -> 0 | AA10: =SUM('T1:T18'!AA10) -> 0 | AB10: =SUM('T1:T18'!AB10) -> 165 | AC10: =SUM('T1:T18'!AC10) -> 165 | AD10: =SUM('T1:T18'!AD10) -> 0 | AE10: =SUM('T1:T18'!AE10) -> 33 | ... AY10: =SUM('T1:T18'!AY10) -> 0
A11: 2 | B11: Mã Thành Thái | C11: Phó Hiệu trưởng | D11: Ngữ văn | E11: 10A1 (3); 10C4 (4) | F11: 7 | G11: PHT (13) | H11: 13 | I11: =F11+H11 -> 20 | N11: 0 | O11: 0 | T11: 0 | U11: 0 | V11: 0 | W11: =I11+K11+M11+O11+Q11+R11+S11+T11+U11+V11 -> 20 | X11: =SUM('T1:T18'!X11) -> 33 | Y11: 11C3 (4), 11A4 (3) | Z11: 7 | AA11: PHT (13) | AB11: 13 | AC11: =Z11+AB11 -> 20 | AF11: 0 | AG11: 0 | AJ11: 0 | AK11: 0 | AL11: 0 | AM11: 0 | AN11: 0 | AO11: =AC11+AE11+AG11+AI11+AJ11+AK11+AL11+AM11+AN11 -> 20 | AP11: Cống hiến 01 tiết chính khoá/01 tuần và tiết chấm giám khảo | AR11: =I11+M11 -> 20 | AS11: =AR11+O11 -> 20 | AT11: =AR11 -> 20 | AU11: =(((I11+M11)*18)-(17*18))+(O11*10)+Q11+R11+S11+T11+U11+V11 -> 54 | AV11: =(((AC11+AE11)*17)-(17*17))+(AG11*17)+AI11+AJ11+AK11+AL11+AM11+AN11 -> 51 | AW11: =AU11+AV11 -> 105 | AX11: =SUM('T1:T18'!AX11) -> 33 | AY11: =SUM('T1:T18'!AY11) -> 0
A12: 3 | B12: Nguyễn Thị Anh Đào | C12: Phó Hiệu trưởng | D12: Hóa học | G12: PHT (13) | H12: 13 | I12: =F12+H12 -> 13 | L12: 12A4 (3), 12A5 (3) | M12: 6 | W12: =I12+K12+M12+O12+Q12+R12+S12+T12+U12+V12 -> 19 | X12: =SUM('T1:T18'!X12) -> 22 | Z12: =N12+P12+R12+T12+U12+V12+W12+X12+Y12 -> 41 | AA12: PHT (13) | AB12: 13 | AC12: =Z12+AB12 -> 54 | AD12: 12B3 (3), 12C1 (3) | AE12: 6 | AO12: =AC12+AE12+AG12+AI12+AJ12+AK12+AL12+AM12+AN12 -> 60 | AR12: =I12+M12 -> 19 | AS12: =AR12+O12 -> 19 | AT12: =AR12 -> 19 | AU12: =(((I12+M12)*18)-(17*18))+(O12*10)+Q12+R12+S12+T12+U12+V12 -> 36 | AV12: =(((AC12+AE12)*17)-(17*17))+(AG12*17)+AI12+AJ12+AK12+AL12+AM12+AN12 -> 731 | AW12: =AU12+AV12 -> 767 | AX12: =SUM('T1:T18'!AX12) -> 22 | AY12: =SUM('T1:T18'!AY12) -> 0
A13: A | B13: MÔN TOÁN
A14: 4 | B14: Phạm Duy Phương | C14: Tổ phó CM | D14: Toán | E14: Toán: 11A1(3), 11A2(3), 10B1(3), 10B2(3) CĐ Toán: 11A1(1), 11A2(1), 10B1(1), 10B2(1) | F14: 16 | G14: TPCM (1) | H14: 1 | I14: =F14+H14 -> 17 | W14: =I14+K14+M14+O14+Q14+R14+S14+T14+U14+V14 -> 17 | X14: =SUM('T1:T18'!X14) -> 0 | Y14: Toán: 10A1 (4), 10A2 (4), 10C1 (3),10C2 (3), 10C3 (3), 11A5 (4), 11C3 (3) | Z14: 24 | AA14: TPCM (1). | AB14: 1 | AC14: =Z14+AB14 -> 25 | AO14: =AC14+AE14+AG14+AI14+AJ14+AK14+AL14+AM14+AN14 -> 25 | AP14: Học TCCT | AR14: =I14+M14 -> 17 | AS14: =AR14+O14 -> 17 | AT14: =AR14 -> 17 | AU14: =(((I14+M14)*18)-(17*18))+(O14*10)+Q14+R14+S14+T14+U14+V14 -> 0 | AV14: =(((AC14+AE14)*17)-(17*17))+(AG14*17)+AI14+AJ14+AK14+AL14+AM14+AN14 -> 136 | AW14: =AU14+AV14 -> 136 | AX14: =SUM('T1:T18'!AX14) -> 0 | AY14: =SUM('T1:T18'!AY14) -> 0 | AZ14: =O14*8 -> 0
A15: 5 | B15: Nguyễn Thị Kim Xuân | C15: Giáo viên | D15: Toán | E15: Toán: 12A1(3), 12A4(3), 10A1(3), 10C1(3), CĐ Toán: 12A1(1), 12A4(1), 10A1 (1). | F15: 15 | H15: 0 | I15: =F15+H15 -> 15 | N15: 12A1, 12A4 | O15: 4 | W15: =I15+K15+M15+O15+Q15+R15+S15+T15+U15+V15 -> 19 | X15: =SUM('T1:T18'!X15) -> 18 | Y15: Toán: 11A4 (4), 12B2 (4), 12C1(3). | Z15: 11 | AA15: C.Nhiệm 12C1 (4) | AB15: 4 | AC15: =Z15+AB15 -> 15 | AF15: Toán: 12B2, 12C1 | AG15: 4 | AO15: =AC15+AE15+AG15+AI15+AJ15+AK15+AL15+AM15+AN15 -> 19 | AR15: =I15+M15 -> 15 | AS15: =AR15+O15 -> 19 | AT15: =AR15 -> 15 | AU15: =(((I15+M15)*18)-(17*18))+(O15*10)+Q15+R15+S15+T15+U15+V15 -> 4 | AV15: =(((AC15+AE15)*17)-(17*17))+(AG15*17)+AI15+AJ15+AK15+AL15+AM15+AN15 -> 34 | AW15: =AU15+AV15 -> 38 | AX15: =SUM('T1:T18'!AX15) -> 2 | AY15: =SUM('T1:T18'!AY15) -> 16 | AZ15: =O15*8 -> 32
A16: 6 | B16: Huỳnh Thanh Nhàn | C16: Giáo viên | D16: Toán | E16: Toán: 12C1(3), 12C3(3), 11C1(3), 11C2(3) CĐ Toán: | F16: 12 | G16: C.Nhiệm 12C3(4) | H16: 4 | I16: =F16+H16 -> 16 | N16: 12C1, 12C3 | O16: 4 | W16: =I16+K16+M16+O16+Q16+R16+S16+T16+U16+V16 -> 20 | X16: =SUM('T1:T18'!X16) -> 29 | Y16: Toán: 12A2 (4), 12B3(4). | Z16: 8 | AA16: C.Nhiệm 12A2 (4), P.BTĐTN (6) | AB16: 10 | AC16: =Z16+AB16 -> 18 | AF16: Toán: 12A2, 12B3 | AG16: 4 | AO16: =AC16+AE16+AG16+AI16+AJ16+AK16+AL16+AM16+AN16 -> 22 | AR16: =I16+M16 -> 16 | AS16: =AR16+O16 -> 20 | AT16: =AR16 -> 16 | AU16: =(((I16+M16)*18)-(17*18))+(O16*10)+Q16+R16+S16+T16+U16+V16 -> 22 | AV16: =(((AC16+AE16)*17)-(17*17))+(AG16*17)+AI16+AJ16+AK16+AL16+AM16+AN16 -> 85 | AW16: =AU16+AV16 -> 107 | AX16: =SUM('T1:T18'!AX16) -> 13 | AY16: =SUM('T1:T18'!AY16) -> 16 | AZ16: =O16*8 -> 32
A17: 7 | B17: Nguyễn Thị Hồng Thảo | C17: Giáo viên | D17: Toán | E17: Toán: 12A3(3), 12A5(3), 10C4(3) CĐ Toán: 12A3(1), 12A5(1) | F17: 11 | G17: C.Nhiệm 12A3(4) | H17: 4 | I17: =F17+H17 -> 15 | N17: 12A3, 12A5 | O17: 4 | W17: =I17+K17+M17+O17+Q17+R17+S17+T17+U17+V17 -> 19 | X17: =SUM('T1:T18'!X17) -> 18 | Y17: Toán: 11A3(4), 11C1(3), 12A1 (4), 12C2(3). | Z17: 14 | AA17: C.Nhiệm 11A3 (4) | AB17: 4 | AC17: =Z17+AB17 -> 18 | AF17: Toán: 12A1, 12C2 | AG17: 4 | AO17: =AC17+AE17+AG17+AI17+AJ17+AK17+AL17+AM17+AN17 -> 22 | AR17: =I17+M17 -> 15 | AS17: =AR17+O17 -> 19 | AT17: =AR17 -> 15 | AU17: =(((I17+M17)*18)-(17*18))+(O17*10)+Q17+R17+S17+T17+U17+V17 -> 4 | AV17: =(((AC17+AE17)*17)-(17*17))+(AG17*17)+AI17+AJ17+AK17+AL17+AM17+AN17 -> 85 | AW17: =AU17+AV17 -> 89 | AX17: =SUM('T1:T18'!AX17) -> 2 | AY17: =SUM('T1:T18'!AY17) -> 16 | AZ17: =O17*8 -> 32
A18: 8 | B18: Trần Thị Kim Ngân | C18: Giáo viên | D18: Toán | E18: Toán: 11B1(3), 11C3(3), 10A2(3), 10C3(3); 10C2(3) CĐ Toán: 11B1(1), 10A2(1), | F18: 17 | G18: C.Nhiệm 10A2(4) | H18: 4 | I18: =F18+H18 -> 21 | W18: =I18+K18+M18+O18+Q18+R18+S18+T18+U18+V18 -> 21 | X18: =SUM('T1:T18'!X18) -> 44 | Y18: Toán: 11A2(4), 12B1 (4), 12C3(3). | Z18: 11 | AA18: C.Nhiệm 12B1 (4) | AB18: 4 | AC18: =Z18+AB18 -> 15 | AF18: Toán: 12B1, 12C3 | AG18: 4 | AO18: =AC18+AE18+AG18+AI18+AJ18+AK18+AL18+AM18+AN18 -> 19 | AR18: =I18+M18 -> 21 | AS18: =AR18+O18 -> 21 | AT18: =AR18 -> 21 | AU18: =(((I18+M18)*18)-(17*18))+(O18*10)+Q18+R18+S18+T18+U18+V18 -> 72 | AV18: =(((AC18+AE18)*17)-(17*17))+(AG18*17)+AI18+AJ18+AK18+AL18+AM18+AN18 -> 34 | AW18: =AU18+AV18 -> 106 | AX18: =SUM('T1:T18'!AX18) -> 44 | AY18: =SUM('T1:T18'!AY18) -> 0 | AZ18: =O18*8 -> 0
A19: 9 | B19: Võ Nguyên Thạch | C19: Giáo viên | D19: Toán | E19: Toán: 12A2(3), 12C2 (3), 11B2(3) CĐ Toán: 12A2(1), 11B2(1) | F19: 11 | G19: C.Nhiệm 12C2(4) | H19: 4 | I19: =F19+H19 -> 15 | N19: 12A2, 12C2 | O19: 4 | W19: =I19+K19+M19+O19+Q19+R19+S19+T19+U19+V19 -> 19 | X19: =SUM('T1:T18'!X19) -> 18 | Y19: Toán: 10A3(4), 10A4 (4), 11A1 (4), 11C2(3). | Z19: 15 | AA19: C.Nhiệm 11C2 (4) | AB19: 4 | AC19: =Z19+AB19 -> 19 | AO19: =AC19+AE19+AG19+AI19+AJ19+AK19+AL19+AM19+AN19 -> 19 | AR19: =I19+M19 -> 15 | AS19: =AR19+O19 -> 19 | AT19: =AR19 -> 15 | AU19: =(((I19+M19)*18)-(17*18))+(O19*10)+Q19+R19+S19+T19+U19+V19 -> 4 | AV19: =(((AC19+AE19)*17)-(17*17))+(AG19*17)+AI19+AJ19+AK19+AL19+AM19+AN19 -> 34 | AW19: =AU19+AV19 -> 38 | AX19: =SUM('T1:T18'!AX19) -> 2 | AY19: =SUM('T1:T18'!AY19) -> 16 | AZ19: =O19*8 -> 32
A20: B | B20: MÔN TIẾNG ANH | I20: =F20+H20 -> 0 | AZ20: =O20*8 -> 0
A21: 10 | B21: Phạm Thị Thanh Giang | C21: Tổ trưởng CM | D21: Tiếng Anh | E21: 10A2 (3), 10B1(3), 12C1(3), 10A1 (3) | F21: 12 | G21: CN 10A1 (4), TTCM(3) | H21: 7 | I21: =F21+H21 -> 19 | L21: 10A1 (3) | M21: 3 | W21: =I21+K21+M21+O21+Q21+R21+S21+T21+U21+V21 -> 22 | X21: =SUM('T1:T18'!X21) -> 49 | Y21: 10A1 (3) ,10A2(3)10B1(3),12B2(3) | Z21: 12 | AA21: CN10A2(4) TTCM(3) | AB21: 7 | AC21: =Z21+AB21 -> 19 | AO21: =AC21+AE21+AG21+AI21+AJ21+AK21+AL21+AM21+AN21 -> 19 | AR21: =I21+M21 -> 22 | AS21: =AR21+O21 -> 22 | AT21: =AR21 -> 22 | AU21: =(((I21+M21)*18)-(17*18))+(O21*10)+Q21+R21+S21+T21+U21+V21 -> 90 | AV21: =L21+N21+(P21*10)+R21+S21+T21+U21+V21+W21 -> #VALUE! | AW21: =AU21+AV21 -> #VALUE! | AX21: =SUM('T1:T18'!AX21) -> 49 | AY21: =SUM('T1:T18'!AY21) -> 0 | AZ21: =O21*8 -> 0
A22: 11 | B22: Nguyễn Trương Đăng Khoa | C22: Giáo viên | D22: Tiếng Anh | E22: 10C3 (3), 10C1(3), 10C4(3), 12A4(3), 12A5 (3) | F22: 15 | G22: CN 12A5 (4) | H22: 4 | I22: =F22+H22 -> 19 | W22: =I22+K22+M22+O22+Q22+R22+S22+T22+U22+V22 -> 19 | X22: =SUM('T1:T18'!X22) -> 28 | Y22: 11A5(3),11C1(3), 11C2(3),12A2(3),12B1(3) | Z22: 15 | AA22: CN 11C1(4) | AB22: 4 | AC22: =Z22+AB22 -> 19 | AF22: 12A2,12B | AG22: 2 | AO22: =AC22+AE22+AG22+AI22+AJ22+AK22+AL22+AM22+AN22 -> 21 | AR22: =I22+M22 -> 19 | AS22: =AR22+O22 -> 19 | AT22: =AR22 -> 19 | AU22: =(((I22+M22)*18)-(17*18))+(O22*10)+Q22+R22+S22+T22+U22+V22 -> 36 | AV22: =L22+N22+(P22*10)+R22+S22+T22+U22+V22+W22 -> 19 | AW22: =AU22+AV22 -> 55 | AX22: =SUM('T1:T18'!AX22) -> 28 | AY22: =SUM('T1:T18'!AY22) -> 0 | AZ22: =O22*8 -> 0
A23: 12 | B23: Nguyễn Thị Kim Thoa | C23: Giáo viên | D23: Tiếng Anh | E23: 11B2 (3), 11C1 (3), 11C2 (3), 12A3 (3) | F23: 12 | G23: CN 11C2(4) | H23: 4 | I23: =F23+H23 -> 16 | L23: 11C2 (3) | M23: 3 | W23: =I23+K23+M23+O23+Q23+R23+S23+T23+U23+V23 -> 19 | X23: =SUM('T1:T18'!X23) -> 22 | Y23: 10B2(3), 10C1(3),10C2(3), 12A1(3), 12C2(3) | Z23: 15 | AA23: CN 12C2(4) | AB23: 4 | AC23: =Z23+AB23 -> 19 | AF23: 12A1,12C2 | AG23: 2 | AO23: =AC23+AE23+AG23+AI23+AJ23+AK23+AL23+AM23+AN23 -> 21 | AR23: =I23+M23 -> 19 | AS23: =AR23+O23 -> 19 | AT23: =AR23 -> 19 | AU23: =(((I23+M23)*18)-(17*18))+(O23*10)+Q23+R23+S23+T23+U23+V23 -> 36 | AV23: =L23+N23+(P23*10)+R23+S23+T23+U23+V23+W23 -> #VALUE! | AW23: =AU23+AV23 -> #VALUE! | AX23: =SUM('T1:T18'!AX23) -> 22 | AY23: =SUM('T1:T18'!AY23) -> 0 | AZ23: =O23*8 -> 0
A24: 13 | B24: Lê Thị Hồng Thủy | C24: Giáo viên | D24: Tiếng Anh | E24: 10B2(3), 10C2(3), 12A1(3), 12A2(3) | F24: 12 | G24: CN 10B2(4) | H24: 4 | I24: =F24+H24 -> 16 | L24: 10B2 (3) | M24: 3 | N24: K12 | O24: 2 | W24: =I24+K24+M24+O24+Q24+R24+S24+T24+U24+V24 -> 21 | X24: =SUM('T1:T18'!X24) -> 30 | Y24: 11A1(3), 11A2(3), 11A3(3), 11A4(3),12B3(3), 12C1(3) | Z24: 18 | AA24: CN 11A2(4) | AB24: 4 | AC24: =Z24+AB24 -> 22 | AO24: =AC24+AE24+AG24+AI24+AJ24+AK24+AL24+AM24+AN24 -> 22 | AR24: =I24+M24 -> 19 | AS24: =AR24+O24 -> 21 | AT24: =AR24 -> 19 | AU24: =(((I24+M24)*18)-(17*18))+(O24*10)+Q24+R24+S24+T24+U24+V24 -> 56 | AV24: =L24+N24+(P24*10)+R24+S24+T24+U24+V24+W24 -> #VALUE! | AW24: =AU24+AV24 -> #VALUE! | AX24: =SUM('T1:T18'!AX24) -> 22 | AY24: =SUM('T1:T18'!AY24) -> 8 | AZ24: =O24*8 -> 16
A25: 14 | B25: Lê Kỳ Duyên | C25: Giáo viên | D25: Tiếng Anh | E25: 11A1(3), 11A2(3),11B1(3),12C2(3) | F25: 12 | G25: CN 11A2(4) | H25: 4 | I25: =F25+H25 -> 16 | L25: 11A2 (3) | M25: 3 | W25: =I25+K25+M25+O25+Q25+R25+S25+T25+U25+V25 -> 19 | X25: =SUM('T1:T18'!X25) -> 22 | AR25: =I25+M25 -> 19 | AT25: =AR25 -> 19 | AX25: =SUM('T1:T18'!AX25) -> 22 | AY25: =SUM('T1:T18'!AY25) -> 0 | AZ25: =O25*8 -> 0
A26: C | B26: MÔN VẬT LÝ | I26: =F26+H26 -> 0 | AZ26: =O26*8 -> 0
A27: 15 | B27: Trần Thanh Tâm | C27: Tổ trưởng CM | D27: Vật lý | E27: Lý: 11A2(2), 11C3(2), 12A4(2), 12C1(2), 12C2(2) CĐ Lý: 11A2(1), 12A4(1) | F27: 12 | G27: TTCM (3) | H27: 3 | I27: =F27+H27 -> 15 | J27: 12C1, 12C2 | K27: 2 | N27: 12A4 +C1+C2 | O27: 2 | R27: 0 | S27: 0 | T27: 0 | U27: 0 | V27: 0 | W27: =I27+K27+M27+O27+Q27+R27+S27+T27+U27+V27 -> 19 | X27: =SUM('T1:T18'!X27) -> 34 | Y27: 10A2(3), 11A4(3), 11C1(2), 11C2(2), 12A2(3), | Z27: 13 | AA27: TTCM | AB27: 3 | AC27: =Z27+AB27 -> 16 | AD27: 12A2(3) | AE27: 3 | AF27: 12A2 | AG27: 2 | AJ27: 0 | AK27: 0 | AL27: 0 | AM27: 0 | AN27: 0 | AO27: =AC27+AE27+AG27+AI27+AJ27+AK27+AL27+AM27+AN27 -> 21 | AR27: =I27+M27 -> 15 | AS27: =AR27+O27 -> 17 | AT27: =AR27 -> 15 | AU27: =(((I27+M27)*18)-(17*18))+(O27*10)+Q27+R27+S27+T27+U27+V27 -> -16 | AV27: =(((AC27+AE27)*17)-(17*17))+(AG27*17)+AI27+AJ27+AK27+AL27+AM27+AN27 -> 68 | AW27: =AU27+AV27 -> 52 | AX27: =SUM('T1:T18'!AX27) -> 26 | AY27: =SUM('T1:T18'!AY27) -> 8 | AZ27: =O27*8 -> 16
A28: 16 | B28: Trần Tấn Phương | C28: Giáo viên | D28: Vật lý | E28: Lý: 10A1(2), 10B2(2), 10C2(2), 10C3(2), 10C4(2), 12A3(2) CĐ Lý: 12A3(1), 10A1(1) | F28: 14 | G28: TKHĐ(2) | H28: 2 | I28: =F28+H28 -> 16 | L28: 12A3 (3) | M28: 3 | N28: 12A3 | O28: 2 | R28: 0 | S28: 0 | T28: 0 | U28: 0 | V28: 0 | W28: =I28+K28+M28+O28+Q28+R28+S28+T28+U28+V28 -> 21 | X28: =SUM('T1:T18'!X28) -> 42 | Y28: 10B1(2), 11A3(3), 12A1(3), 12C3(2), | Z28: 10 | AA28: CN 12A1, TKHĐ | AB28: 6 | AC28: =Z28+AB28 -> 16 | AD28: 11C2(3), 12A1(3) | AE28: 6 | AF28: 12A1 | AG28: 2 | AJ28: 0 | AK28: 0 | AL28: 0 | AM28: 0 | AN28: 0 | AO28: =AC28+AE28+AG28+AI28+AJ28+AK28+AL28+AM28+AN28 -> 24 | AR28: =I28+M28 -> 19 | AS28: =AR28+O28 -> 21 | AT28: =AR28 -> 19 | AU28: =(((I28+M28)*18)-(17*18))+(O28*10)+Q28+R28+S28+T28+U28+V28 -> 56 | AV28: =(((AC28+AE28)*17)-(17*17))+(AG28*17)+AI28+AJ28+AK28+AL28+AM28+AN28 -> 119 | AW28: =AU28+AV28 -> 175 | AX28: =SUM('T1:T18'!AX28) -> 34 | AY28: =SUM('T1:T18'!AY28) -> 8 | AZ28: =O28*8 -> 16
A29: 17 | B29: Nguyễn Bùi Yến Khanh | C29: Giáo viên | D29: Vật lý | E29: LÝ: 11A1(2), 11B2(2), 12A1(2); CĐ Lý: 12A1(1), 11A1(1) | F29: 8 | G29: CN 12A1 (4) | H29: 4 | I29: =F29+H29 -> 12 | L29: 12A1(3); 10C2 (3) | M29: 6 | N29: 12A1(2) | O29: 2 | R29: 0 | S29: 0 | T29: 0 | U29: 0 | V29: 0 | W29: =I29+K29+M29+O29+Q29+R29+S29+T29+U29+V29 -> 20 | X29: =SUM('T1:T18'!X29) -> 9 | Y29: 10A1(3), 10B2(2), 10C1(2), 10C2(2), 11A2(3); | Z29: 12 | AB29: 0 | AC29: =Z29+AB29 -> 12 | AD29: 11A3(3), 11A4(3) | AE29: 6 | AG29: 0 | AJ29: 0 | AK29: 0 | AL29: 0 | AM29: 0 | AN29: 0 | AO29: =AC29+AE29+AG29+AI29+AJ29+AK29+AL29+AM29+AN29 -> 18 | AR29: =I29+M29 -> 18 | AS29: =AR29+O29 -> 20 | AT29: =AR29 -> 18 | AU29: =(((I29+M29)*18)-(17*18))+(O29*10)+Q29+R29+S29+T29+U29+V29 -> 38 | AV29: =(((AC29+AE29)*17)-(17*17))+(AG29*17)+AI29+AJ29+AK29+AL29+AM29+AN29 -> 17 | AW29: =AU29+AV29 -> 55 | AX29: =SUM('T1:T18'!AX29) -> -12 | AY29: =SUM('T1:T18'!AY29) -> 4 | AZ29: =O29*8 -> 16
A30: 18 | B30: Nguyễn Thị Bé Hà | C30: Giáo viên | D30: Vật lý | E30: Lý: 12A2(2), 10A2(2),10B1(2) CĐ Lý: 12A2(1), 10A2(1) | F30: 8 | G30: CN 12A2(4) | H30: 4 | I30: =F30+H30 -> 12 | L30: 12A2(3) | M30: 3 | N30: 12A2 (2) | O30: 2 | R30: 0 | S30: 0 | T30: 0 | U30: 0 | V30: 0 | W30: =I30+K30+M30+O30+Q30+R30+S30+T30+U30+V30 -> 17 | X30: =SUM('T1:T18'!X30) -> 26 | Y30: 11A1(3), 11A5(3), 12B1(2),12B2(2), 12B3(2), | Z30: 12 | AA30: CN 12B2 | AB30: 4 | AC30: =Z30+AB30 -> 16 | AD30: 12B2(3) | AE30: 3 | AF30: 12B2 | AG30: 2 | AJ30: 0 | AK30: 0 | AL30: 0 | AM30: 0 | AN30: 0 | AO30: =AC30+AE30+AG30+AI30+AJ30+AK30+AL30+AM30+AN30 -> 21 | AR30: =I30+M30 -> 15 | AS30: =AR30+O30 -> 17 | AT30: =AR30 -> 15 | AU30: =(((I30+M30)*18)-(17*18))+(O30*10)+Q30+R30+S30+T30+U30+V30 -> -16 | AV30: =(((AC30+AE30)*17)-(17*17))+(AG30*17)+AI30+AJ30+AK30+AL30+AM30+AN30 -> 68 | AW30: =AU30+AV30 -> 52 | AX30: =SUM('T1:T18'!AX30) -> 14 | AY30: =SUM('T1:T18'!AY30) -> 12 | AZ30: =O30*8 -> 16
A31: 19 | B31: Lê Thị Trúc Linh | C31: Giáo viên | D31: Vật lý_Tin | E31: Lý: 11B1(2), 11C1(2); 11C2(2), 12A5(2) CĐ Lý: 12A5(1) | F31: 9 | G31: PBT | H31: 6 | I31: =F31+H31 -> 15 | N31: 12A5(2) | O31: 2 | R31: 0 | S31: 0 | T31: 0 | U31: 0 | V31: 0 | W31: =I31+K31+M31+O31+Q31+R31+S31+T31+U31+V31 -> 17 | X31: =SUM('T1:T18'!X31) -> 34 | Y31: 10A1(3), 10B2(2), 10C1(2), 10C2(2), 11A2(3); | Z31: 12 | AA31: CN 10C1: Phó BT | AB31: 10 | AC31: =Z31+AB31 -> 22 | AD31: 10C1(3) | AE31: 3 | AF31: 0 | AG31: 0 | AJ31: 0 | AK31: 0 | AL31: 0 | AM31: 0 | AN31: 0 | AO31: =AC31+AE31+AG31+AI31+AJ31+AK31+AL31+AM31+AN31 -> 25 | AR31: =I31+M31 -> 15 | AS31: =AR31+O31 -> 17 | AT31: =AR31 -> 15 | AU31: =(((I31+M31)*18)-(17*18))+(O31*10)+Q31+R31+S31+T31+U31+V31 -> -16 | AV31: =(((AC31+AE31)*17)-(17*17))+(AG31*17)+AI31+AJ31+AK31+AL31+AM31+AN31 -> 136 | AW31: =AU31+AV31 -> 120 | AX31: =SUM('T1:T18'!AX31) -> 26 | AY31: =SUM('T1:T18'!AY31) -> 8 | AZ31: =O31*8 -> 16
A32: D | B32: MÔN CÔNG NGHỆ | I32: =F32+H32 -> 0 | AZ32: =O32*8 -> 0
A33: 20 | B33: Phạm Thanh Phong | C33: TPCM | D33: Công nghệ | E33: 11B1(2), 11B2 (2), 12A3(2), 12A4(2) | F33: 8 | G33: CN 11B2 (4); TP (1) | H33: 5 | I33: =F33+H33 -> 13 | L33: 11B2(3), 11C1 (3) | M33: 6 | N33: 0 | O33: 0 | R33: 0 | S33: 0 | T33: 0 | U33: 0 | V33: 0 | W33: =I33+K33+M33+O33+Q33+R33+S33+T33+U33+V33 -> 19 | X33: =SUM('T1:T18'!X33) -> 34 | Y33: 10B1(2), 10B2 (2), 11A3(2), 11A4(2); | Z33: 8 | AA33: CN 11A4 (4); TP (1) | AB33: 5 | AC33: =Z33+AB33 -> 13 | AD33: 10B1(3), 10B2(3) | AE33: 6 | AF33: 0 | AG33: 0 | AJ33: 0 | AK33: 0 | AL33: 0 | AM33: 0 | AN33: 0 | AO33: =AC33+AE33+AG33+AI33+AJ33+AK33+AL33+AM33+AN33 -> 19 | AR33: =I33+M33 -> 19 | AS33: =AR33+O33 -> 19 | AT33: =AR33 -> 19 | AU33: =(((I33+M33)*18)-(17*18))+(O33*10)+Q33+R33+S33+T33+U33+V33 -> 36 | AV33: =L33+N33+(P33*10)+R33+S33+T33+U33+V33+W33 -> #VALUE! | AW33: =AU33+AV33 -> #VALUE! | AX33: =SUM('T1:T18'!AX33) -> 34 | AY33: =SUM('T1:T18'!AY33) -> 0 | AZ33: =O33*8 -> 0
A34: 21 | B34: Nguyễn Trường An | C34: Giáo viên | D34: Công nghệ | E34: 12A5(2), 12C3 (2), 10A1(2), 10A2(2), 10C2(2) | F34: 10 | G34: CN 10C2 (4), TB (3) | H34: 7 | I34: =F34+H34 -> 17 | J34: 10C2 | K34: 1 | N34: 0 | O34: 0 | R34: 0 | S34: 0 | T34: 0 | U34: 0 | V34: 0 | W34: =I34+K34+M34+O34+Q34+R34+S34+T34+U34+V34 -> 18 | X34: =SUM('T1:T18'!X34) -> 6 | Y34: 11A5(2), 11C3 (2), 12B1(2), 12B2(2), 12B3(2), | Z34: 10 | AA34: CN 11A5, TB (3) | AB34: 7 | AC34: =Z34+AB34 -> 17 | AD34: 11A5(3) | AE34: 3 | AF34: 0 | AG34: 0 | AJ34: 0 | AK34: 0 | AL34: 0 | AM34: 0 | AN34: 0 | AO34: =AC34+AE34+AG34+AI34+AJ34+AK34+AL34+AM34+AN34 -> 20 | AR34: =I34+M34 -> 17 | AS34: =AR34+O34 -> 17 | AT34: =AR34 -> 17 | AU34: =(((I34+M34)*18)-(17*18))+(O34*10)+Q34+R34+S34+T34+U34+V34 -> 0 | AV34: =L34+N34+(P34*10)+R34+S34+T34+U34+V34+W34 -> 18 | AW34: =AU34+AV34 -> 18 | AX34: =SUM('T1:T18'!AX34) -> 6 | AY34: =SUM('T1:T18'!AY34) -> 0 | AZ34: =O34*8 -> 0
A35: E | B35: MÔN HÓA HỌC | I35: =F35+H35 -> 0 | AZ35: =O35*8 -> 0
A36: 22 | B36: Trần Lê Tấn Đức | C36: Tổ trưởng CM | D36: Hóa học | E36: Hóa: 11A1(2), 11A2(2), 11B1(2), 11B2(2), 12A1(2); CĐ Hóa: 11A1(1), 11A2(1), 11B1(1), 11B2(1), 12A1(1) | F36: 15 | G36: TTCM(3) | H36: 3 | I36: =F36+H36 -> 18 | N36: 12A1 (2) | O36: 2 | W36: =I36+K36+M36+O36+Q36+R36+S36+T36+U36+V36 -> 20 | X36: =SUM('T1:T18'!X36) -> 19 | Y36: 11A1(3), 11A2(3), 11A3(3), 11A5(3), 12B1(3) | Z36: 17 | AA36: TTCM(3) | AB36: 3 | AC36: =Z36+AB36 -> 20 | AF36: 12B1(2) | AG36: 2 | AO36: =AC36+AE36+AG36+AI36+AJ36+AK36+AL36+AM36+AN36 -> 22 | AR36: =I36+M36 -> 18 | AS36: =AR36+O36 -> 20 | AT36: =AR36 -> 18 | AU36: =(((I36+M36)*18)-(17*18))+(O36*10)+Q36+R36+S36+T36+U36+V36 -> 38 | AV36: =L36+N36+(P36*10)+R36+S36+T36+U36+V36+W36 -> #VALUE! | AW36: =AU36+AV36 -> #VALUE! | AX36: =SUM('T1:T18'!AX36) -> 11 | AY36: =SUM('T1:T18'!AY36) -> 8 | AZ36: =O36*8 -> 16
A37: 23 | B37: Nguyễn Hữu Tân | C37: Giáo viên | D37: Hóa học | E37: Hóa: 10B1(2), 10B2 (2), 12A2(2), 12A4(2), 10C1(2), CĐ Hóa: 10B1(1), 10B2(1), 12A2(1), 12A4(1) | F37: 14 | G37: CN 12A4 (4) | H37: 4 | I37: =F37+H37 -> 18 | N37: 12A2 (2), 12A4(2) | O37: 4 | W37: =I37+K37+M37+O37+Q37+R37+S37+T37+U37+V37 -> 22 | X37: =SUM('T1:T18'!X37) -> 27 | Y37: 11A4(3), 11C1(2), 11C2(2), 12A1(3),12A2(3), 12B2(3) | Z37: 16 | AC37: =Z37+AB37 -> 16 | AF37: 12A1,A2(2), 12B2(2), | AG37: 4 | AO37: =AC37+AE37+AG37+AI37+AJ37+AK37+AL37+AM37+AN37 -> 20 | AR37: =I37+M37 -> 18 | AS37: =AR37+O37 -> 22 | AT37: =AR37 -> 18 | AU37: =(((I37+M37)*18)-(17*18))+(O37*10)+Q37+R37+S37+T37+U37+V37 -> 58 | AV37: =L37+N37+(P37*10)+R37+S37+T37+U37+V37+W37 -> #VALUE! | AW37: =AU37+AV37 -> #VALUE! | AX37: =SUM('T1:T18'!AX37) -> 11 | AY37: =SUM('T1:T18'!AY37) -> 16 | AZ37: =O37*8 -> 32
A38: 24 | B38: Ung Nguyễn Thị Thùy Dương | C38: Giáo viên | D38: Hóa học | E38: Hóa: 10A1(2), 10A2(2), 12A3(2), 12A5(2), 12C2(2); 12C1(2), CĐ Hóa: 10A1(1), 10A2(1), 12A3(1), 12A5(1) | F38: 16 | I38: =F38+H38 -> 16 | N38: 12A3+ 12C1+12C2 (2), 12A4(2) | O38: 4 | W38: =I38+K38+M38+O38+Q38+R38+S38+T38+U38+V38 -> 20 | X38: =SUM('T1:T18'!X38) -> -1 | Y38: 10A1(3), 10A2(3), 10B1(3), 10B2(3), 12B3(3), 12C1(2), 12C2(2) | Z38: 19 | AC38: =Z38+AB38 -> 19 | AF38: 12B3(2) | AG38: 2 | AO38: =AC38+AE38+AG38+AI38+AJ38+AK38+AL38+AM38+AN38 -> 21 | AR38: =I38+M38 -> 16 | AS38: =AR38+O38 -> 20 | AT38: =AR38 -> 16 | AU38: =(((I38+M38)*18)-(17*18))+(O38*10)+Q38+R38+S38+T38+U38+V38 -> 22 | AV38: =L38+N38+(P38*10)+R38+S38+T38+U38+V38+W38 -> #VALUE! | AW38: =AU38+AV38 -> #VALUE! | AX38: =SUM('T1:T18'!AX38) -> -11 | AY38: =SUM('T1:T18'!AY38) -> 10 | AZ38: =O38*8 -> 32
A39: G | B39: MÔN SINH | I39: =F39+H39 -> 0 | AZ39: =O39*8 -> 0
A40: 25 | B40: Ngô Thị Đông Tràng | C40: Tổ phó CM | D40: Sinh học | E40: 10A1(2), 10B2(2), 10C1(2), 11B1(2); CĐ Sinh: 10B2(1), 11B1(1) | F40: 10 | G40: CN 11B1(4); Tổ phó (1) | H40: 5 | I40: =F40+H40 -> 15 | J40: 10A1, 10B2, 10C1, 11B1 | K40: 4 | L40: 11B1(3) | M40: 3 | W40: =I40+K40+M40+O40+Q40+R40+S40+T40+U40+V40 -> 22 | X40: =SUM('T1:T18'!X40) -> 35 | Y40: 10B1 (3), 12B1 (3), 12B2 (3), 12B3 (3) | Z40: 12 | AA40: CN 10B1 (4); tổ phó (1) | AB40: 5 | AC40: =Z40+AB40 -> 17 | AF40: 12A1 12B2 12B3(2), 12B1 (2) | AG40: 4 | AO40: =AC40+AE40+AG40+AI40+AJ40+AK40+AL40+AM40+AN40 -> 21 | AR40: =I40+M40 -> 18 | AS40: =AR40+O40 -> 18 | AT40: =AR40 -> 18 | AU40: =(((I40+M40)*18)-(17*18))+(O40*10)+Q40+R40+S40+T40+U40+V40 -> 18 | AV40: =L40+N40+(P40*10)+R40+S40+T40+U40+V40+W40 -> #VALUE! | AW40: =AU40+AV40 -> #VALUE! | AX40: =SUM('T1:T18'!AX40) -> 35 | AY40: =SUM('T1:T18'!AY40) -> 0 | AZ40: =O40*8 -> 0
A41: 26 | B41: Phạm Thị Thu | C41: Giáo viên | D41: Sinh học | E41: 11A1(2), 11A2(2), 11B2(2), 12A1 (2), 12A2 (2); CĐ Sinh: 11B2(1) | F41: 11 | I41: =F41+H41 -> 11 | J41: 11A1, 11A2, 11B2, 12A1, 12A2 | K41: 5 | L41: 11A1 (3), 10A2 (3) | M41: 6 | W41: =I41+K41+M41+O41+Q41+R41+S41+T41+U41+V41 -> 22 | X41: =SUM('T1:T18'!X41) -> 30 | Y41: 10A1 (2), 10A2 (2), 10B2 (3), 11A3 (2), 11A4 (2), | Z41: 11 | AA41: TV (3) | AB41: 3 | AC41: =Z41+AB41 -> 14 | AD41: 11A2 (3) | AE41: 3 | AO41: =AC41+AE41+AG41+AI41+AJ41+AK41+AL41+AM41+AN41 -> 17 | AR41: =I41+M41 -> 17 | AS41: =AR41+O41 -> 17 | AT41: =AR41 -> 17 | AU41: =(((I41+M41)*18)-(17*18))+(O41*10)+Q41+R41+S41+T41+U41+V41 -> 0 | AV41: =L41+N41+(P41*10)+R41+S41+T41+U41+V41+W41 -> #VALUE! | AW41: =AU41+AV41 -> #VALUE! | AX41: =SUM('T1:T18'!AX41) -> 30 | AY41: =SUM('T1:T18'!AY41) -> 0 | AZ41: =O41*8 -> 0
A42: 27 | B42: Trương Thị Lài | C42: Giáo viên | D42: Sinh học | E42: 10A2(2), 10B1(2), 12A3(2), 12A4(2); CĐ 10B1(1) | F42: 9 | G42: CN10B1 (4) | H42: 4 | I42: =F42+H42 -> 13 | J42: 10A2, 10B1, 12A3, 12A4 | K42: 4 | L42: 10B1 (3) | M42: 3 | N42: 12A1+12A2+12A3+12A4 (2) | O42: 2 | W42: =I42+K42+M42+O42+Q42+R42+S42+T42+U42+V42 -> 22 | X42: =SUM('T1:T18'!X42) -> 13 | Y42: 11A1 (2), 11A2 (2), 12A1 (2), 12A2 (2), 12C1 (2), 12C2 (2), | Z42: 12 | AA42: CN 11A1 (4) | AB42: 4 | AC42: =Z42+AB42 -> 16 | AD42: 11A1 (3) | AE42: 3 | AO42: =AC42+AE42+AG42+AI42+AJ42+AK42+AL42+AM42+AN42 -> 19 | AR42: =I42+M42 -> 16 | AS42: =AR42+O42 -> 18 | AT42: =AR42 -> 16 | AU42: =(((I42+M42)*18)-(17*18))+(O42*10)+Q42+R42+S42+T42+U42+V42 -> 2 | AV42: =L42+N42+(P42*10)+R42+S42+T42+U42+V42+W42 -> #VALUE! | AW42: =AU42+AV42 -> #VALUE! | AX42: =SUM('T1:T18'!AX42) -> 13 | AY42: =SUM('T1:T18'!AY42) -> 0 | AZ42: =O42*8 -> 16
A43: H | B43: MÔN GD KT- PL | I43: =F43+H43 -> 0 | AZ43: =O43*8 -> 0
A44: 28 | B44: Đỗ Nguyễn Hoàng Thúy Vy | C44: Giáo viên | D44: GDKT &PL | E44: 12C1(2), 12C2(2), 12C3(2); 10C3 (2), 10C4 (2) | F44: 10 | G44: CN 10C4 (4) | H44: 4 | I44: =F44+H44 -> 14 | L44: 10C4 (3) | M44: 3 | P44: 10A1 (1), 10A2 (1), 10C3 (1), 10C4 (1) | Q44: 4 | W44: =I44+K44+M44+O44+Q44+R44+S44+T44+U44+V44 -> 21 | X44: =SUM('T1:T18'!X44) -> 12 | Y44: 10C3 (2), 11C1 (2), 11C2 (2), 11C3 (2) | Z44: 8 | AA44: 11C3 (4) | AB44: 4 | AC44: =Z44+AB44 -> 12 | AD44: 11C1 (3), 11C3 (3) | AE44: 6 | AO44: =AC44+AE44+AG44+AI44+AJ44+AK44+AL44+AM44+AN44 -> 18 | AP44: Cả năm: - 107 tiết | AR44: =I44+M44 -> 17 | AS44: =AR44+O44 -> 17 | AT44: =AR44 -> 17 | AU44: =(((I44+M44)*18)-(17*18))+(O44*10)+Q44+R44+S44+T44+U44+V44 -> 4 | AV44: =(((AC44+AE44)*17)-(17*17))+(AG44*17)+AI44+AJ44+AK44+AL44+AM44+AN44 -> 17 | AW44: =AU44+AV44 -> 21 | AX44: =SUM('T1:T18'!AX44) -> 12 | AY44: =SUM('T1:T18'!AY44) -> 0 | AZ44: =O44*8 -> 0
A45: 29 | B45: Đinh Ngọc Mỹ Tiên | C45: Giáo viên | D45: GDKT &PL | E45: 10C1(2), 10C2(2); 11C1(2), 11C2(2), 11C3 (2) | F45: 10 | G45: CN 10C1 (4) | H45: 4 | I45: =F45+H45 -> 14 | L45: 10C1 (3) | M45: 3 | P45: 10B1 (1), 10B2 (1), 10C1(1), 10C2(1); | Q45: 4 | W45: =I45+K45+M45+O45+Q45+R45+S45+T45+U45+V45 -> 21 | X45: =SUM('T1:T18'!X45) -> 11 | AX45: =SUM('T1:T18'!AX45) -> 11 | AY45: =SUM('T1:T18'!AY45) -> 0 | AZ45: =O45*8 -> 0
A46: I | B46: NGỮ VĂN | I46: =F46+H46 -> 0 | AZ46: =O46*8 -> 0
A47: 30 | B47: Trần Xuân Trường | C47: Tổ trưởng CM | D47: Ngữ văn | E47: 12A2 (3), 12A3 (3), 12A4 (3), 11B1 (3);11C2(4) | F47: 16 | G47: TTCM (3) | H47: 3 | I47: =F47+H47 -> 19 | N47: 12A2 (2), 12A3 (2), 12A4 (2) | O47: 6 | R47: 0 | S47: 0 | T47: 0 | U47: 0 | V47: 0 | W47: =I47+K47+M47+O47+Q47+R47+S47+T47+U47+V47 -> 25 | X47: =SUM('T1:T18'!X47) -> 32 | AC47: =Z47+AB47 -> 0 | AJ47: 0 | AK47: 0 | AL47: 0 | AM47: 0 | AO47: =AC47+AE47+AG47+AI47+AJ47+AK47+AL47+AM47+AN47 -> 0 | AR47: =I47+M47 -> 19 | AS47: =AR47+O47 -> 25 | AT47: =AR47 -> 19 | AU47: =(((I47+M47)*18)-(17*18))+(O47*10)+Q47+R47+S47+T47+U47+V47 -> 96 | AV47: =L47+N47+(P47*10)+R47+S47+T47+U47+V47+W47 -> #VALUE! | AW47: =AU47+AV47 -> #VALUE! | AX47: =SUM('T1:T18'!AX47) -> 8 | AY47: =SUM('T1:T18'!AY47) -> 24 | AZ47: =O47*8 -> 48
A48: 31 | B48: Nguyễn Thị Hồng Vân | C48: Giáo viên | D48: Ngữ văn | E48: 10A2 (3), 10B1 (3), 10B2 (3), 10C1 (4),12C2(4), 12C1 (4) | F48: 21 | G48: 0 | H48: 0 | I48: =F48+H48 -> 21 | N48: 12C1 (2), 12C2 (2) | O48: 4 | R48: 0 | S48: 0 | T48: 0 | U48: 0 | V48: 0 | W48: =I48+K48+M48+O48+Q48+R48+S48+T48+U48+V48 -> 25 | X48: =SUM('T1:T18'!X48) -> 57 | AC48: =Z48+AB48 -> 0 | AJ48: 0 | AK48: 0 | AL48: 0 | AM48: 0 | AN48: 0 | AO48: =AC48+AE48+AG48+AI48+AJ48+AK48+AL48+AM48+AN48 -> 0 | AR48: =I48+M48 -> 21 | AS48: =AR48+O48 -> 25 | AT48: =AR48 -> 21 | AU48: =(((I48+M48)*18)-(17*18))+(O48*10)+Q48+R48+S48+T48+U48+V48 -> 112 | AV48: =L48+N48+(P48*10)+R48+S48+T48+U48+V48+W48 -> #VALUE! | AW48: =AU48+AV48 -> #VALUE! | AX48: =SUM('T1:T18'!AX48) -> 41 | AY48: =SUM('T1:T18'!AY48) -> 16 | AZ48: =O48*8 -> 32
A49: 32 | B49: Trịnh Thị Ngọc Hân | C49: Giáo viên | D49: Ngữ văn | E49: 11A2 (3), 11C1 (4), 12A5 (3), 10C2 (4), 12C3 (4) | F49: 18 | G49: 0 | H49: 0 | I49: =F49+H49 -> 18 | N49: 12A5 (2), 12C3 (2) | O49: 4 | R49: 0 | S49: 0 | T49: 0 | U49: 0 | V49: 0 | W49: =I49+K49+M49+O49+Q49+R49+S49+T49+U49+V49 -> 22 | X49: =SUM('T1:T18'!X49) -> 26 | AC49: =Z49+AB49 -> 0 | AJ49: 0 | AK49: 0 | AL49: 0 | AM49: 0 | AN49: 0 | AO49: =AC49+AE49+AG49+AI49+AJ49+AK49+AL49+AM49+AN49 -> 0 | AR49: =I49+M49 -> 18 | AS49: =AR49+O49 -> 22 | AT49: =AR49 -> 18 | AU49: =(((I49+M49)*18)-(17*18))+(O49*10)+Q49+R49+S49+T49+U49+V49 -> 58 | AV49: =L49+N49+(P49*10)+R49+S49+T49+U49+V49+W49 -> #VALUE! | AW49: =AU49+AV49 -> #VALUE! | AX49: =SUM('T1:T18'!AX49) -> 10 | AY49: =SUM('T1:T18'!AY49) -> 16 | AZ49: =O49*8 -> 32
A50: 33 | B50: Võ Thị Kiều Trang | C50: Giáo viên | D50: Ngữ văn | E50: NGHỈ HẬU SẢN | I50: =F50+H50 -> 0 | R50: 0 | S50: 0 | T50: 0 | U50: 0 | V50: 0 | W50: =I50+K50+M50+O50+Q50+R50+S50+T50+U50+V50 -> 0 | X50: =SUM('T1:T18'!X50) -> 0 | AC50: =Z50+AB50 -> 0 | AJ50: 0 | AK50: 0 | AL50: 0 | AM50: 0 | AO50: =AC50+AE50+AG50+AI50+AJ50+AK50+AL50+AM50+AN50 -> 0 | AP50: Cống hiến 02 tiết chấm giám khảo | AR50: =I50+M50 -> 0 | AS50: =AR50+O50 -> 0 | AT50: =AR50 -> 0 | AU50: =(((I50+M50)*18)-(17*18))+(O50*10)+Q50+R50+S50+T50+U50+V50 -> -306 | AV50: =L50+N50+(P50*10)+R50+S50+T50+U50+V50+W50 -> 0 | AW50: =AU50+AV50 -> -306 | AX50: =SUM('T1:T18'!AX50) -> 0 | AY50: =SUM('T1:T18'!AY50) -> 0 | AZ50: =O50*8 -> 0
A51: 34 | B51: Nguyễn Thị Như Huỳnh | C51: Giáo viên | D51: Ngữ văn | E51: 10C3 (4), 11B2 (3), 11C3 (4), 12A1 (3), 11A1(3) | F51: 17 | I51: =F51+H51 -> 17 | N51: 12A1 (2) | O51: 2 | W51: =I51+K51+M51+O51+Q51+R51+S51+T51+U51+V51 -> 19 | X51: =SUM('T1:T18'!X51) -> 12 | AX51: =SUM('T1:T18'!AX51) -> 4 | AY51: =SUM('T1:T18'!AY51) -> 8 | AZ51: =O51*8 -> 16
A52: K | B52: MÔN ĐỊA LÍ | I52: =F52+H52 -> 0 | AZ52: =O52*8 -> 0
A53: 35 | B53: Nguyễn Văn Hiện | C53: Tổ phó CM | D53: Địa lý | E53: 10C2 (2), 10C4 (2), 11C1 (2), 12C3 (2). CĐ Địa:10C2 (1), 10C4 (1), 11C1 (1), 12C3 (1). | F53: 12 | G53: TPCM (1) | H53: 1 | I53: =F53+H53 -> 13 | L53: 12C3(3) | M53: 3 | N53: 12C3 (2) | O53: 2 | P53: 12C3, 12A1, 12A2, 10C2, 10C4, 11C1, 11A1, 11A2 | Q53: 6 | R53: 0 | S53: 0 | T53: 0 | U53: 0 | V53: 0 | W53: =I53+K53+M53+O53+Q53+R53+S53+T53+U53+V53 -> 24 | X53: =SUM('T1:T18'!X53) -> 9 | Y53: 10C1 (3), 10C2 (3), 10C3 (3), 11C2 (3), 12C2 (3) | Z53: 15 | AA53: TPCM(1) | AB53: 1 | AC53: =Z53+AB53 -> 16 | AF53: 12C2 (2) | AG53: 2 | AJ53: 0 | AK53: 0 | AL53: 0 | AM53: 0 | AN53: 0 | AO53: =AC53+AE53+AG53+AI53+AJ53+AK53+AL53+AM53+AN53 -> 18 | AR53: =I53+M53 -> 16 | AS53: =AR53+O53 -> 18 | AT53: =AR53 -> 16 | AU53: =(((I53+M53)*18)-(17*18))+(O53*10)+Q53+R53+S53+T53+U53+V53 -> 8 | AV53: =L53+N53+(P53*10)+R53+S53+T53+U53+V53+W53 -> #VALUE! | AW53: =AU53+AV53 -> #VALUE! | AX53: =SUM('T1:T18'!AX53) -> 1 | AY53: =SUM('T1:T18'!AY53) -> 8 | AZ53: =O53*8 -> 16
A54: 36 | B54: Nguyễn Thanh Quân | C54: Giáo viên | D54: Địa lý | E54: 11C2 (2), 11C3 (2), 12C1 (2); CĐ Địa: 11C2 (1), 11C3 (1), 12C1 (1) | F54: 9 | G54: CN 12C1 (4) | H54: 4 | I54: =F54+H54 -> 13 | L54: 12C1 (3) | M54: 3 | N54: 12C1 (2) | O54: 2 | P54: 12C1, 12A3, 12A4, 10A2, 10B1, 10B2, 11C2, 11C3 | Q54: 5 | R54: 0 | S54: 0 | T54: 0 | U54: 0 | V54: 0 | W54: =I54+K54+M54+O54+Q54+R54+S54+T54+U54+V54 -> 23 | X54: =SUM('T1:T18'!X54) -> 21 | Y54: 11C1 (3), 11C3 (3), 12C1 (3), 12C3 (3); | Z54: 12 | AA54: CN 12C3 (4) | AB54: 4 | AC54: =Z54+AB54 -> 16 | AD54: 12C3 (3) | AE54: 3 | AF54: 12C1 (2), 12C3 (2) | AG54: 4 | AJ54: 0 | AK54: 0 | AL54: 0 | AM54: 0 | AN54: 0 | AO54: =AC54+AE54+AG54+AI54+AJ54+AK54+AL54+AM54+AN54 -> 23 | AR54: =I54+M54 -> 16 | AS54: =AR54+O54 -> 18 | AT54: =AR54 -> 16 | AU54: =(((I54+M54)*18)-(17*18))+(O54*10)+Q54+R54+S54+T54+U54+V54 -> 7 | AV54: =L54+N54+(P54*10)+R54+S54+T54+U54+V54+W54 -> #VALUE! | AW54: =AU54+AV54 -> #VALUE! | AX54: =SUM('T1:T18'!AX54) -> 13 | AY54: =SUM('T1:T18'!AY54) -> 8 | AZ54: =O54*8 -> 16
A55: 37 | B55: Trần Song Hồng Đào | C55: Giáo viên | D55: Địa lý | E55: 10C1 (2), 10C3 (2), 12C2 (2). CĐ Địa: 10C1 (1), 10C3 (1), 12C2 (1). | F55: 9 | G55: CN 10C3 (4) | H55: 4 | I55: =F55+H55 -> 13 | L55: l2C2 (3) | M55: 3 | N55: 12C2 (2) | O55: 2 | P55: 12C2, 12A5, 10C1, 10C3, 10A1, 11B1, 11B2 | Q55: 4 | W55: =I55+K55+M55+O55+Q55+R55+S55+T55+U55+V55 -> 22 | X55: =SUM('T1:T18'!X55) -> 15 | AX55: =SUM('T1:T18'!AX55) -> 13 | AY55: =SUM('T1:T18'!AY55) -> 2 | AZ55: =O55*8 -> 16
A56: L | B56: MÔN GDTC | I56: =F56+H56 -> 0 | N56: =N56 -> 0 | AZ56: =O56*8 -> 0
A57: 38 | B57: Nguyễn Văn En | C57: Tổ trưởng CM | D57: GDTC | E57: 10B1(2),10B2(2),10C1(2),11B1(2),11B2(2),10C2(2),12A2(2),12A3(2) | F57: 16 | G57: TTCM(3) | H57: 3 | I57: =F57+H57 -> 19 | W57: =I57+K57+M57+O57+Q57+R57+S57+T57+U57+V57 -> 19 | X57: =SUM('T1:T18'!X57) -> 28 | Y57: 10B1(2),10B2(2),11A4(2),11A5(2),12A1(2),12A2(2),12B3(2) | Z57: 14 | AA57: TTCM(3) | AB57: 3 | AC57: =Z57+AB57 -> 17 | AD57: 10A1 (3) | AE57: 3 | AO57: =AC57+AE57+AG57+AI57+AJ57+AK57+AL57+AM57+AN57 -> 20 | AR57: =I57+M57 -> 19 | AS57: =AR57+O57 -> 19 | AT57: =AR57 -> 19 | AU57: =(((I57+M57)*18)-(17*18))+(O57*10)+Q57+R57+S57+T57+U57+V57 -> 36 | AV57: =L57+N57+(P57*10)+R57+S57+T57+U57+V57+W57 -> 19 | AW57: =AU57+AV57 -> 55 | AX57: =SUM('T1:T18'!AX57) -> 28 | AY57: =SUM('T1:T18'!AY57) -> 0 | AZ57: =O57*8 -> 0
A58: 39 | B58: Phạm Hồng Hải | C58: Giáo viên | D58: GDTC | E58: 10C3(2),10C4(2),11C1(2),11C2(2)12A4(2),12A5(2) | F58: 12 | G58: CN 11C1 (4); TVTL (4) | H58: 8 | I58: =F58+H58 -> 20 | W58: =I58+K58+M58+O58+Q58+R58+S58+T58+U58+V58 -> 20 | X58: =SUM('T1:T18'!X58) -> 38 | Y58: 10C1(2),10C2(2),11A2(2),11A3(2)12B1(2),12B2(2) | Z58: 12 | AA58: TVTL(4) | AB58: 4 | AC58: =Z58+AB58 -> 16 | AD58: 10A2 (3) | AE58: 3 | AO58: =AC58+AE58+AG58+AI58+AJ58+AK58+AL58+AM58+AN58 -> 19 | AR58: =I58+M58 -> 20 | AS58: =AR58+O58 -> 20 | AT58: =AR58 -> 20 | AU58: =(((I58+M58)*18)-(17*18))+(O58*10)+Q58+R58+S58+T58+U58+V58 -> 54 | AV58: =L58+N58+(P58*10)+R58+S58+T58+U58+V58+W58 -> 20 | AW58: =AU58+AV58 -> 74 | AX58: =SUM('T1:T18'!AX58) -> 38 | AY58: =SUM('T1:T18'!AY58) -> 0 | AZ58: =O58*8 -> 0
A59: 40 | B59: Trần Hồ Minh Tiến | C59: Giáo viên | D59: GDTC | E59: 10A1(2),10A2(2),12A1(2),11A1(2),11A2(2),12C1(2),12C2(2) | F59: 14 | G59: CN 11A1(4) | H59: 4 | I59: =F59+H59 -> 18 | W59: =I59+K59+M59+O59+Q59+R59+S59+T59+U59+V59 -> 18 | X59: =SUM('T1:T18'!X59) -> 10 | Y59: 10A1(2),10A2(2),11A1(2),11C1(2)11C2(2),12C1(2),12C2(2) | Z59: 14 | AA59: CN 10A1(4) | AB59: 4 | AC59: =Z59+AB59 -> 18 | AO59: =AC59+AE59+AG59+AI59+AJ59+AK59+AL59+AM59+AN59 -> 18 | AR59: =I59+M59 -> 18 | AS59: =AR59+O59 -> 18 | AT59: =AR59 -> 18 | AU59: =(((I59+M59)*18)-(17*18))+(O59*10)+Q59+R59+S59+T59+U59+V59 -> 18 | AV59: =L59+N59+(P59*10)+R59+S59+T59+U59+V59+W59 -> 18 | AW59: =AU59+AV59 -> 36 | AX59: =SUM('T1:T18'!AX59) -> 10 | AY59: =SUM('T1:T18'!AY59) -> 0 | AZ59: =O59*8 -> 0
A60: M | B60: MÔN GDQP-AN | I60: =F60+H60 -> 0 | AZ60: =O60*8 -> 0
A61: 41 | B61: Nguyễn Thị Thu Hằng | C61: Giáo viên | D61: GDQP &AN | E61: 10A1(1),10A2(1),10B1(1),10B2(1),10C1(1),10C2(1),10C3,10C4,11A1(1),11A2(1),11B1(1),11B2(1),11C1(1),11C2(1),12A1(1),12A2(1),12A3(1),12A4(1),12A5(1),12C1(1),12C2(1) | F61: 21 | I61: =F61+H61 -> 21 | W61: =I61+K61+M61+O61+Q61+R61+S61+T61+U61+V61 -> 21 | X61: =SUM('T1:T18'!X61) -> 44 | Y61: 10A1(1),10A2(1),10B1(1),10B2(1),10C1(1),10C2(1),11A1(1),11A2(1),11A3(1),11A4(1),11A5(1),11C1(1),11C2(1),12A1(1),12A2(1),12B1(1),12B2(1),12B3(1),12C1(1),12C2(1) | Z61: 20 | AC61: =Z61+AB61 -> 20 | AO61: =AC61+AE61+AG61+AI61+AJ61+AK61+AL61+AM61+AN61 -> 20 | AR61: =I61+M61 -> 21 | AS61: =AR61+O61 -> 21 | AT61: =AR61 -> 21 | AU61: =(((I61+M61)*18)-(17*18))+(O61*10)+Q61+R61+S61+T61+U61+V61 -> 72 | AV61: =L61+N61+(P61*10)+R61+S61+T61+U61+V61+W61 -> 21 | AW61: =AU61+AV61 -> 93 | AX61: =SUM('T1:T18'!AX61) -> 44 | AY61: =SUM('T1:T18'!AY61) -> 0 | AZ61: =O61*8 -> 0
A62: N | B62: MÔN LỊCH SỬ | I62: =F62+H62 -> 0 | AZ62: =O62*8 -> 0
A63: 42 | B63: Phạm Thị Ngọc Diệu | C63: Giáo viên | D63: Lịch sử | E63: 12A1(2), 12A2 (2), 12A3(2), 12A4(2), 12C2(2), 12C3(2), 11A1(1), 11A2(1), 11B1 (1), 11B2(1), 11C1(1), 11C2(1), 11C3(1). CĐ: 12C2(1), 12C3(1), 11C1(1), 11C2(1), 11C3(1). | F63: 24 | G63: 0 | H63: 0 | I63: =F63+H63 -> 24 | N63: 12A1+12A2 (2), 12A3+12A4+12A5 (2), 12C2 (2), 12C3 (2) | O63: 0 | Q63: 0 | R63: 0 | S63: 0 | T63: 0 | U63: 0 | V63: 0 | W63: =I63+K63+M63+O63+Q63+R63+S63+T63+U63+V63 -> 24 | X63: =SUM('T1:T18'!X63) -> 81 | AC63: =Z63+AB63 -> 0 | AO63: =AC63+AE63+AG63+AI63+AJ63+AK63+AL63+AM63+AN63 -> 0 | AR63: =I63+M63 -> 24 | AS63: =AR63+O63 -> 24 | AT63: =AR63 -> 24 | AU63: =(((I63+M63)*18)-(17*18))+(O63*10)+Q63+R63+S63+T63+U63+V63 -> 126 | AV63: =L63+N63+(P63*10)+R63+S63+T63+U63+V63+W63 -> #VALUE! | AW63: =AU63+AV63 -> #VALUE! | AX63: =SUM('T1:T18'!AX63) -> 47 | AY63: =SUM('T1:T18'!AY63) -> 34 | AZ63: =O63*8 -> 0
A64: 43 | B64: Lê Thị Cẩm Quyên | C64: Giáo viên | D64: Lịch sử | E64: 12A5(2), 12C1(2), 10A1(2), 10A2(2), 10B1(2), 10B2(2), 10C1(2), 10C2(2), 10C3(2) 10C4(2). CĐ: 12C1(1), 10C1(1), 10C2(1), 10C3(1), 10C4(1) | F64: 25 | G64: 0 | H64: 0 | I64: =F64+H64 -> 25 | N64: 12C1(2) | R64: 0 | S64: 0 | T64: 0 | U64: 0 | V64: 0 | W64: =I64+K64+M64+O64+Q64+R64+S64+T64+U64+V64 -> 25 | X64: =SUM('T1:T18'!X64) -> 88 | AC64: =Z64+AB64 -> 0 | AO64: =AC64+AE64+AG64+AI64+AJ64+AK64+AL64+AM64+AN64 -> 0 | AR64: =I64+M64 -> 25 | AS64: =AR64+O64 -> 25 | AT64: =AR64 -> 25 | AU64: =(((I64+M64)*18)-(17*18))+(O64*10)+Q64+R64+S64+T64+U64+V64 -> 144 | AV64: =L64+N64+(P64*10)+R64+S64+T64+U64+V64+W64 -> #VALUE! | AW64: =AU64+AV64 -> #VALUE! | AX64: =SUM('T1:T18'!AX64) -> 72 | AY64: =SUM('T1:T18'!AY64) -> 16 | AZ64: =O64*8 -> 0
AZ65: =O65*8 -> 0
A66: O | B66: MÔN TIN | I66: =F66+H66 -> 0 | AZ66: =O66*8 -> 0
A67: 44 | B67: Nguyễn Thị Huyền Trân | C67: Giáo viên | D67: Tin học | E67: Tin: 12A1(2), 12A2(2), 12A5 (2), 12C3(2), 10B1(2),10B2(2),10C3(2),10C4(2) | F67: 16 | G67: CNTT (3) | H67: 3 | I67: =F67+H67 -> 19 | J67: 10C3, 10C4, 12A5, 12C3 | K67: 4 | W67: =I67+K67+M67+O67+Q67+R67+S67+T67+U67+V67 -> 23 | X67: =SUM('T1:T18'!X67) -> 46 | Y67: Tin: 12A1(2), 12A2(2), 12C3(2), 11A1(2), 11A2(2), 11A5(2) | Z67: 12 | AA67: CN 12A2(4) CNTT(3) | AB67: 7 | AC67: =Z67+AB67 -> 19 | AO67: =AC67+AE67+AG67+AI67+AJ67+AK67+AL67+AM67+AN67 -> 19 | AR67: =I67+M67 -> 19 | AS67: =AR67+O67 -> 19 | AT67: =AR67 -> 19 | AU67: =(((I67+M67)*18)-(17*18))+(O67*10)+Q67+R67+S67+T67+U67+V67 -> 36 | AV67: =L67+N67+(P67*10)+R67+S67+T67+U67+V67+W67 -> 23 | AW67: =AU67+AV67 -> 59 | AX67: =SUM('T1:T18'!AX67) -> 46 | AY67: =SUM('T1:T18'!AY67) -> 0 | AZ67: =O67*8 -> 0
A68: 45 | B68: Trương Phụng Thọ | C68: Tổ phó CM | D68: Tin học | E68: Tin: 11A1(2),11A2(2),11C1(2),11C2(2),11C3(2) | F68: 10 | G68: CN 11C3(4) TPCM(1) | H68: 5 | I68: =F68+H68 -> 15 | J68: 11C1, 11C2, 11C3 | K68: 3 | L68: 11C3 (3) | M68: 3 | W68: =I68+K68+M68+O68+Q68+R68+S68+T68+U68+V68 -> 21 | X68: =SUM('T1:T18'!X68) -> 29 | Y68: Tin: 10A1(2), 10A2(2), 10C1(2), 10C2(2), 10C3(2), 11C3(2) | Z68: 12 | AA68: CN 10C3(4) TPCM(1) | AB68: 5 | AC68: =Z68+AB68 -> 17 | AD68: 10C3 (3) | AE68: 3 | AO68: =AC68+AE68+AG68+AI68+AJ68+AK68+AL68+AM68+AN68 -> 20 | AR68: =I68+M68 -> 18 | AS68: =AR68+O68 -> 18 | AT68: =AR68 -> 18 | AU68: =(((I68+M68)*18)-(17*18))+(O68*10)+Q68+R68+S68+T68+U68+V68 -> 18 | AV68: =L68+N68+(P68*10)+R68+S68+T68+U68+V68+W68 -> #VALUE! | AW68: =AU68+AV68 -> #VALUE! | AX68: =SUM('T1:T18'!AX68) -> 29 | AY68: =SUM('T1:T18'!AY68) -> 0 | AZ68: =O68*8 -> 0
A69: P | B69: GIÁO DỤC ĐỊA PHƯƠNG/THỈNH GIẢNG | I69: =F69+H69 -> 0 | W69: =I69+K69+M69+O69+Q69+R69+S69+T69+U69+V69 -> 0 | X69: =SUM('T1:T18'!X69) -> 0 | AC69: =Z69+AB69 -> 0 | AO69: =AC69+AE69+AG69+AI69+AJ69+AK69+AL69+AM69+AN69 -> 0 | AR69: =I69+M69 -> 0 | AS69: =AR69+O69 -> 0 | AT69: =AR69 -> 0 | AU69: =(((I69+M69)*18)-(17*18))+(O69*10)+Q69+R69+S69+T69+U69+V69 -> -306 | AV69: =L69+N69+(P69*10)+R69+S69+T69+U69+V69+W69 -> 0 | AW69: =AU69+AV69 -> -306 | AX69: =SUM('T1:T18'!AX69) -> 0 | AY69: =SUM('T1:T18'!AY69) -> 0
B70: Nguyễn Thị Thúy Hồng | D70: Âm nhạc | E70: 8 K12 | F70: 8 | I70: =F70+H70 -> 8 | W70: =I70+K70+M70+O70+Q70+R70+S70+T70+U70+V70 -> 8 | X70: =SUM('T1:T18'!X70) -> 24 | AC70: =Z70+AB70 -> 0 | AO70: =AC70+AE70+AG70+AI70+AJ70+AK70+AL70+AM70+AN70 -> 0 | AR70: =I70+M70 -> 8 | AS70: =AR70+O70 -> 8 | AT70: =AR70 -> 8 | AU70: =(((I70+M70)*18)-(17*18))+(O70*10)+Q70+R70+S70+T70+U70+V70 -> -162 | AV70: =L70+N70+(P70*10)+R70+S70+T70+U70+V70+W70 -> 8 | AW70: =AU70+AV70 -> -154 | AX70: =SUM('T1:T18'!AX70) -> 88 | AY70: =SUM('T1:T18'!AY70) -> 0
B71: Nguyễn Thị Thùy Ngân | D71: Mĩ thuật | E71: 7 K11 | F71: 7 | I71: =F71+H71 -> 7 | W71: =I71+K71+M71+O71+Q71+R71+S71+T71+U71+V71 -> 7 | X71: =SUM('T1:T18'!X71) -> 21 | AX71: =SUM('T1:T18'!AX71) -> 78 | AY71: =SUM('T1:T18'!AY71) -> 0
B72: Đặng Thị Hận | D72: Lịch sử | W72: =I72+K72+M72+O72+Q72+R72+S72+T72+U72+V72 -> 0 | X72: =SUM('T1:T18'!X72) -> 18 | AX72: =SUM('T1:T18'!AX72) -> 28 | AY72: =SUM('T1:T18'!AY72) -> 0
B73: Phạm Thị Trang | D73: Lịch sử | W73: =I73+K73+M73+O73+Q73+R73+S73+T73+U73+V73 -> 0 | X73: =SUM('T1:T18'!X73) -> 15 | AX73: =SUM('T1:T18'!AX73) -> 20 | AY73: =SUM('T1:T18'!AY73) -> 0
W74: =I74+K74+M74+O74+Q74+R74+S74+T74+U74+V74 -> 0 | X74: =SUM('T1:T18'!X74) -> 0 | AX74: =SUM('T1:T18'!AX74) -> 0 | AY74: =SUM('T1:T18'!AY74) -> 0
N76: Cần Đước, ngày tháng năm 2026
O77: HIỆU TRƯỞNG
O83: Nguyễn Minh Triều
A85: Tổng số lớp: 23 lớp. Trong đó chia ra:
B86: Khối 10: GDPT 08 lớp
B87: Khối 11: GDPT 06 lớp, GDTX 01 lớp.
B88: Khối 12: GDPT 07 lớp, GDTX 01 lớp.
A89: Tổng số VC, NLĐ: 45; trong đó: CBQL: 03; GV: 42; Nhân viên: 04,
B90: Hợp đồng theo NĐ 111: 02 bảo vệ.
A92: Công tác chủ nhiệm | H92: Khối 10 (26.27) | M92: Khối 11 (25.26) | P92: Khối 12 (24.25)
A93: Khối 10 | C93: Khối 11 | E93: Khối 12 | H93: Tổ hợp Môn học lựa chọn (04 môn) | I93: Cụm Chuyên đề học tập có môn học lựa chọn (03 chuyên đề) | L93: Số lớp (8) | M93: Tổ hợp Môn học lựa chọn (04 môn) | N93: Cụm Chuyên đề học tập có môn học lựa chọn (03 chuyên đề) | O93: Số lớp (7) | P93: Tổ hợp Môn học lựa chọn (04 môn) | Q93: Cụm Chuyên đề học tập có môn học lựa chọn (03 chuyên đề) | R93: Số lớp (8)
A94: 10A1: | B94: Giang | C94: 11A1: | D94: Tiến | E94: 12A1: | F94: Khanh | H94: Lý, Hóa, Sinh, Công nghệ (T.Kế&CN) | I94: Toán, Lý, Hóa | L94: 10A1, 10A2 | M94: Lý (2), Hóa (2), Sinh (2), Tin học (2) | N94: Toán (1), Lý (1), Hóa (1) | O94: 11A1, 11A2 | P94: Lý (2), Hóa (2), Sinh (2), Tin học (2) | Q94: Toán, Lý (1), Hóa (1) | R94: 12A1,12A2
A95: 10A2: | B95: Ngân | C95: 11A2: | D95: Duyên | E95: 12A2: | F95: Hà | H95: Lý, Hóa, Sinh, Tin học | I95: Toán, Hóa, Sinh | L95: 10B1, 10B2 | M95: Lý (2), Hóa (2), Sinh (2), Công nghệ (2) (trồng trọt) | N95: Toán (1), Hóa(1), Sinh(1) | O95: 11B1, 11B2 | P95: Lý (2), Hóa (2), Sinh (2), Công nghệ (2) (trồng trọt) | Q95: Toán, Lý (1), Hóa (1) | R95: 12A3,12A4
A96: 10B1: | B96: Lài | C96: 11B1: | D96: Tràng | E96: 12A3: | F96: Thảo | H96: Hóa, Sinh, Địa, Giáo dục KT&PL | I96: Văn, Sử, Địa | L96: 10C1 | M96: Lý (2), Tin (2), Địa (2), Giáo dục KT và PL (2) | N96: Văn (1), Sử (1), Địa (1) | O96: 11C1, 11C2 | P96: Lý (2), Hóa (2),Tin (2), Công nghệ (2) (T.Kế&CN) | Q96: Toán, Lý (1), Hóa (1) | R96: 12A5
A97: 10B2: | B97: Thủy | C97: 11B2: | D97: Phong | E97: 12A4: | F97: Tân | H97: Lý, CN(T.Kế&CN), Địa,Giáo dục KT&PL | I97: Văn, Sử, Địa | L97: 10C2 | M97: Địa (2), Giáo dục KT và PL (2), Tin học (2), Lý (2) | N97: Văn (1), Sử (1), Địa (1) | O97: 11C3 | P97: Lý (2), Hóa (2), Địa, Giáo dục KT và PL (2) | Q97: Văn (1), Sử (1), Địa (1) | R97: 12C1,12C2
A98: 10C1: | B98: Tiên | C98: 11C1: | D98: Hải | E98: 12A5: | F98: Khoa | H98: Lý,Tin, Địa, Giáo dục KT&PL | I98: Văn, Sử, Địa | L98: 10C3,10C4 | P98: Địa (2), Giáo dục KT và PL (2), Tin học (2), Công nghệ (2) (T.Kế&CN) | Q98: Văn (1), Sử (1), Địa (1) | R98: 12C3
A99: 10C2: | B99: An | C99: 11C2: | D99: Thoa | E99: 12C1: | F99: Quân
A100: 10C3: | B100: Đào | C100: 11C3: | D100: Thọ | E100: 12C2: | F100: Thạch
A101: 10C4: | B101: Vy | E101: 12C3: | F101: Nhàn
A103: Trải nghiệm HN
A104: Khối 10 | C104: Khối 11 | E104: Khối 12
A105: 10A1: | C105: 11A1: | E105: 12A1:
A106: 10A2: | C106: 11A2: | E106: 12A2:
A107: 10B1: | C107: 11B1: | E107: 12A3:
A108: 10B2: | C108: 11B2: | E108: 12A4:
A109: 10C1: | C109: 11C1: | E109: 12A5:
A110: 10C2: | C110: 11C2: | E110: 12C1:
...

Sheet T1
A1: SỞ GIÁO DỤC VÀ ĐÀO TẠO TÂY NINH | D1: CỘNG HÒA XÃ HỘI CHỦ NGHĨA VIỆT NAM | R1: Tổng số lớp: 23 lớp. Trong đó chia ra:
A2: TRƯỜNG THPT CHU VĂN AN | D2: Độc lập -Tự do - Hạnh phúc | Q2: Khối 10: GDPT 08 lớp
A3: BẢNG PHÂN CÔNG CHUYÊN MÔN NĂM HỌC 2026- 2027- Áp dụng 07.9.2026 (1 tuần)- Tuần 1 | Q3: Khối 11: GDPT 06 lớp, GDTX 01 lớp.
Q4: Khối 12: GDPT 07 lớp, GDTX 01 lớp. | AU4: =54-18 -> 36 | AV4: =51-17 -> 34
A5: STT | B5: Họ và tên | C5: Chức vụ/Vị trí công tác | D5: Chuyên môn | E5: DẠY LỚP VÀ KIÊM NHIỆM HK1 | I5: Cộng số tiết dạy lớp và kiêm nhiệm/ tuần | J5: AI | L5: HĐ trải nghiệm- HN | N5: Ôn thi TN THPT HK1 | P5: Giáo dục địa phương | R5: Số tiết quy đổi HK1 | W5: Tổng số tiết/ tuần | X5: Ghi chú | Y5: DẠY LỚP VÀ KIÊM NHIỆM HỌC KỲ 2 | AC5: Cộng số tiết dạy lớp và kiêm nhiệm/ tuần | AD5: HĐ trải nghiệm- HN | AF5: Ôn thi TN THPT HK1 | AH5: Giáo dục địa phương | AJ5: Số tiết quy đổi HK2 | AO5: Tổng số tiết/ tuần | AP5: Ghi chú | AR5: T1-6, | AS5: T7-16 | AT5: T17,18 | AU5: TS tiết tăng HK1 | AV5: TS tiết tăng HK2 | AW5: TS tiết tăng CN | AX5: Tổng số tiết tăng HK1 buổi 1 | AY5: Tổng số tiết tăng HK1 buổi 2
E6: Phân công chuyên môn (Dạy lớp)- HK1 | G6: Công việc kiêm nhiệm (TTCM, TPCM, BTĐTN, P.BTĐTN, CTCĐ, PCTCĐ, BCHCĐ, TTCĐ, TTND, TV, TB, VN, TDTT, C.Nhiệm lớp, TVTL...) | J6: PC lớp | K6: Số tiết | L6: PC lớp | M6: TS tiết | N6: PC lớp dạy ôn thi TN THPT HK1 | O6: TS tiết | P6: PC lớp dạy Giáo dục địa phương | Q6: TS tiết | R6: Số tiết dạy BD HSG (1t dạy trực tiếp=1t quy đổi) | S6: Số tiết BD Hội thao quốc phòng (1t dạy trực tiếp=1t quy đổi) | T6: Số tiết BD Hội khỏe PĐ (1t dạy trực tiếp=1t quy đổi) | U6: Số tiết BD KHKT (1t dạy trực tiếp=1t quy đổi) | V6: Số tiết BGK chấm thi cấp trường (1t dạy trực tiếp=1t quy đổi) | Y6: Phân công chuyên môn (Dạy lớp)- HK2 | AA6: Công việc kiêm nhiệm (TTCM, TPCM, BTĐTN, P.BTĐTN, CTCĐ, PCTCĐ, BCHCĐ, TTCĐ, TTND, TV, TB, VN, TDTT, C.Nhiệm lớp, TVTL...) | AD6: PC lớp | AE6: TS tiết | AF6: PC lớp dạy ôn thi TN THPT HK1 | AG6: TS tiết | AH6: PC lớp dạy Giáo dục địa phương | AI6: TS tiết | AJ6: Số tiết dạy BD HSG (1t dạy trực tiếp=1t quy đổi) | AK6: Số tiết BD Hội thao quốc phòng (1t dạy trực tiếp=1t quy đổi) | AL6: Số tiết BD Hội khỏe PĐ (1t dạy trực tiếp=1t quy đổi) | AM6: Số tiết BD KHKT (1t dạy trực tiếp=1t quy đổi) | AN6: Số tiết BGK chấm thi cấp trường (1t dạy trực tiếp=1t quy đổi) | AR6: Số tiết /tuần | AS6: Số tiết /tuần | AT6: Số tiết /tuần
E7: Dạy lớp (Môn dạy) | F7: Tổng số tiết | G7: Kiêm nhiệm | H7: Số tiết kiêm nhiệm | Y7: Dạy lớp (Môn dạy, HĐTNHN) | Z7: Tổng số tiết | AA7: Kiêm nhiệm | AB7: Số tiết kiêm nhiệm | AS7: Dạy ôn TN | AU7: =SUM(AU10:AU69) -> 540 | AV7: =SUM(AV10:AV69) -> #VALUE! | AW7: =AV7+AU7 -> #VALUE!
A8: 1 | B8: 2 | C8: 3 | D8: 4 | E8: 5 | F8: 6 | G8: 7 | H8: 8 | I8: 9 | J8: 10 | K8: 11 | L8: 12 | M8: 13 | N8: 14 | O8: 15 | P8: 16 | Q8: 16 | R8: 17 | S8: 18 | T8: 19 | U8: 20 | V8: 21 | W8: 22 | X8: 23 | Y8: 23 | Z8: 24 | AA8: 25 | AB8: 26 | AC8: 27 | AD8: 28 | AE8: 29 | AF8: 30 | AG8: 31 | AH8: 32 | AI8: 33 | AJ8: 34 | AK8: 35 | AL8: 36 | AM8: 37 | AN8: 38 | AO8: 39 | AP8: 40
B9: Cán bộ quản lý
A10: 1 | B10: Nguyễn Minh Triều | C10: Hiệu trưởng | D10: Vật lý | G10: HT (15) | H10: 15 | I10: =F10+H10 -> 15 | L10: 10C3 (3) | M10: 3 | W10: =I10+K10+M10+O10+Q10+R10+S10+T10+U10+V10 -> 18 | X10: =W10-17 -> 1 | AA10: HT (15) | AB10: 15 | AC10: =Z10+AB10 -> 15 | AD10: 12B1 (3) | AE10: 3 | AO10: =AC10+AE10+AG10+AI10+AJ10+AK10+AL10+AM10+AN10 -> 18 | AR10: =I10+M10 -> 18 | AS10: =AR10+O10 -> 18 | AT10: =AR10 -> 18 | AU10: =(((I10+M10)*18)-(17*18))+(O10*10)+Q10+R10+S10+T10+U10+V10 -> 18 | AV10: =(((AC10+AE10)*17)-(17*17))+(AG10*17)+AI10+AJ10+AK10+AL10+AM10+AN10 -> 17 | AW10: =AU10+AV10 -> 35 | AX10: =(I10+K10+M10+Q10)-15-2 -> 1 | AY10: =O10+R10 -> 0
A11: 2 | B11: Mã Thành Thái | C11: Phó Hiệu trưởng | D11: Ngữ văn | E11: 10A1 (3); 10C4 (4) | F11: 7 | G11: PHT (13) | H11: 13 | I11: =F11+H11 -> 20 | N11: 0 | O11: 0 | T11: 0 | U11: 0 | V11: 0 | W11: =I11+K11+M11+O11+Q11+R11+S11+T11+U11+V11 -> 20 | X11: =W11-17 -> 3 | Y11: 11C3 (4), 11A4 (3) | Z11: 7 | AA11: PHT (13) | AB11: 13 | AC11: =Z11+AB11 -> 20 | AF11: 0 | AG11: 0 | AJ11: 0 | AK11: 0 | AL11: 0 | AM11: 0 | AN11: 0 | AO11: =AC11+AE11+AG11+AI11+AJ11+AK11+AL11+AM11+AN11 -> 20 | AP11: Cống hiến 01 tiết chính khoá/01 tuần và tiết chấm giám khảo | AR11: =I11+M11 -> 20 | AS11: =AR11+O11 -> 20 | AT11: =AR11 -> 20 | AU11: =(((I11+M11)*18)-(17*18))+(O11*10)+Q11+R11+S11+T11+U11+V11 -> 54 | AV11: =(((AC11+AE11)*17)-(17*17))+(AG11*17)+AI11+AJ11+AK11+AL11+AM11+AN11 -> 51 | AW11: =AU11+AV11 -> 105 | AX11: =(I11+K11+M11+Q11)-13-4 -> 3 | AY11: =O11+R11 -> 0
A12: 3 | B12: Nguyễn Thị Anh Đào | C12: Phó Hiệu trưởng | D12: Hóa học | G12: PHT (13) | H12: 13 | I12: =F12+H12 -> 13 | L12: 12A4 (3), 12A5 (3) | M12: 6 | W12: =I12+K12+M12+O12+Q12+R12+S12+T12+U12+V12 -> 19 | X12: =W12-17 -> 2 | Z12: =N12+P12+R12+T12+U12+V12+W12+X12+Y12 -> 21 | AA12: PHT (13) | AB12: 13 | AC12: =Z12+AB12 -> 34 | AD12: 12B3 (3), 12C1 (3) | AE12: 6 | AO12: =AC12+AE12+AG12+AI12+AJ12+AK12+AL12+AM12+AN12 -> 40 | AR12: =I12+M12 -> 19 | AS12: =AR12+O12 -> 19 | AT12: =AR12 -> 19 | AU12: =(((I12+M12)*18)-(17*18))+(O12*10)+Q12+R12+S12+T12+U12+V12 -> 36 | AV12: =(((AC12+AE12)*17)-(17*17))+(AG12*17)+AI12+AJ12+AK12+AL12+AM12+AN12 -> 391 | AW12: =AU12+AV12 -> 427 | AX12: =(I12+K12+M12+Q12)-13-4 -> 2 | AY12: =O12+R12 -> 0
A13: A | B13: MÔN TOÁN | W13: =I13+K13+M13+O13+Q13+R13+S13+T13+U13+V13 -> 0
A14: 4 | B14: Phạm Duy Phương | C14: Tổ phó CM | D14: Toán | E14: Toán: 11A1(3), 11A2(3), 10B1(3), 10B2(3) CĐ Toán: 11A1(1), 11A2(1), 10B1(1), 10B2(1) | F14: 16 | G14: TPCM (1) | H14: 1 | I14: =F14+H14 -> 17 | W14: =I14+K14+M14+O14+Q14+R14+S14+T14+U14+V14 -> 17 | X14: =W14-17 -> 0 | Y14: Toán: 10A1 (4), 10A2 (4), 10C1 (3),10C2 (3), 10C3 (3), 11A5 (4), 11C3 (3) | Z14: 24 | AA14: TPCM (1). | AB14: 1 | AC14: =Z14+AB14 -> 25 | AO14: =AC14+AE14+AG14+AI14+AJ14+AK14+AL14+AM14+AN14 -> 25 | AP14: Học TCCT | AR14: =I14+M14 -> 17 | AS14: =AR14+O14 -> 17 | AT14: =AR14 -> 17 | AU14: =(((I14+M14)*18)-(17*18))+(O14*10)+Q14+R14+S14+T14+U14+V14 -> 0 | AV14: =(((AC14+AE14)*17)-(17*17))+(AG14*17)+AI14+AJ14+AK14+AL14+AM14+AN14 -> 136 | AW14: =AU14+AV14 -> 136 | AX14: =(I14+K14+M14+Q14)-17 -> 0 | AY14: =O14+R14 -> 0
A15: 5 | B15: Nguyễn Thị Kim Xuân | C15: Giáo viên | D15: Toán | E15: Toán: 12A1(3), 12A4(3), 10A1(3), 10C1(3), CĐ Toán: 12A1(1), 12A4(1), 10A1 (1). | F15: 15 | H15: 0 | I15: =F15+H15 -> 15 | N15: 12A1, 12A4 | W15: =I15+K15+M15+O15+Q15+R15+S15+T15+U15+V15 -> 15 | X15: =W15-17 -> -2 | Y15: Toán: 11A4 (4), 12B2 (4), 12C1(3). | Z15: 11 | AA15: C.Nhiệm 12C1 (4) | AB15: 4 | AC15: =Z15+AB15 -> 15 | AF15: Toán: 12B2, 12C1 | AG15: 4 | AO15: =AC15+AE15+AG15+AI15+AJ15+AK15+AL15+AM15+AN15 -> 19 | AR15: =I15+M15 -> 15 | AS15: =AR15+O15 -> 15 | AT15: =AR15 -> 15 | AU15: =(((I15+M15)*18)-(17*18))+(O15*10)+Q15+R15+S15+T15+U15+V15 -> -36 | AV15: =(((AC15+AE15)*17)-(17*17))+(AG15*17)+AI15+AJ15+AK15+AL15+AM15+AN15 -> 34 | AW15: =AU15+AV15 -> -2 | AX15: =(I15+K15+M15+Q15)-17 -> -2 | AY15: =O15+R15 -> 0
A16: 6 | B16: Huỳnh Thanh Nhàn | C16: Giáo viên | D16: Toán | E16: Toán: 12C1(3), 12C3(3), 11C1(3), 11C2(3) CĐ Toán: | F16: 12 | G16: C.Nhiệm 12C3(4) | H16: 4 | I16: =F16+H16 -> 16 | N16: 12C1, 12C3 | W16: =I16+K16+M16+O16+Q16+R16+S16+T16+U16+V16 -> 16 | X16: =W16-17 -> -1 | Y16: Toán: 12A2 (4), 12B3(4). | Z16: 8 | AA16: C.Nhiệm 12A2 (4), P.BTĐTN (6) | AB16: 10 | AC16: =Z16+AB16 -> 18 | AF16: Toán: 12A2, 12B3 | AG16: 4 | AO16: =AC16+AE16+AG16+AI16+AJ16+AK16+AL16+AM16+AN16 -> 22 | AR16: =I16+M16 -> 16 | AS16: =AR16+O16 -> 16 | AT16: =AR16 -> 16 | AU16: =(((I16+M16)*18)-(17*18))+(O16*10)+Q16+R16+S16+T16+U16+V16 -> -18 | AV16: =(((AC16+AE16)*17)-(17*17))+(AG16*17)+AI16+AJ16+AK16+AL16+AM16+AN16 -> 85 | AW16: =AU16+AV16 -> 67 | AX16: =(I16+K16+M16+Q16)-17 -> -1 | AY16: =O16+R16 -> 0
A17: 7 | B17: Nguyễn Thị Hồng Thảo | C17: Giáo viên | D17: Toán | E17: Toán: 12A3(3), 12A5(3), 10C4(3) CĐ Toán: 12A3(1), 12A5(1) | F17: 11 | G17: C.Nhiệm 12A3(4) | H17: 4 | I17: =F17+H17 -> 15 | N17: 12A3, 12A5 | W17: =I17+K17+M17+O17+Q17+R17+S17+T17+U17+V17 -> 15 | X17: =W17-17 -> -2 | Y17: Toán: 11A3(4), 11C1(3), 12A1 (4), 12C2(3). | Z17: 14 | AA17: C.Nhiệm 11A3 (4) | AB17: 4 | AC17: =Z17+AB17 -> 18 | AF17: Toán: 12A1, 12C2 | AG17: 4 | AO17: =AC17+AE17+AG17+AI17+AJ17+AK17+AL17+AM17+AN17 -> 22 | AR17: =I17+M17 -> 15 | AS17: =AR17+O17 -> 15 | AT17: =AR17 -> 15 | AU17: =(((I17+M17)*18)-(17*18))+(O17*10)+Q17+R17+S17+T17+U17+V17 -> -36 | AV17: =(((AC17+AE17)*17)-(17*17))+(AG17*17)+AI17+AJ17+AK17+AL17+AM17+AN17 -> 85 | AW17: =AU17+AV17 -> 49 | AX17: =(I17+K17+M17+Q17)-17 -> -2 | AY17: =O17+R17 -> 0
A18: 8 | B18: Trần Thị Kim Ngân | C18: Giáo viên | D18: Toán | E18: Toán: 11B1(3), 11C3(3), 10A2(3), 10C3(3); 10C2(3) CĐ Toán: 11B1(1), 10A2(1), | F18: 17 | G18: C.Nhiệm 10A2(4) | H18: 4 | I18: =F18+H18 -> 21 | W18: =I18+K18+M18+O18+Q18+R18+S18+T18+U18+V18 -> 21 | X18: =W18-17 -> 4 | Y18: Toán: 11A2(4), 12B1 (4), 12C3(3). | Z18: 11 | AA18: C.Nhiệm 12B1 (4) | AB18: 4 | AC18: =Z18+AB18 -> 15 | AF18: Toán: 12B1, 12C3 | AG18: 4 | AO18: =AC18+AE18+AG18+AI18+AJ18+AK18+AL18+AM18+AN18 -> 19 | AR18: =I18+M18 -> 21 | AS18: =AR18+O18 -> 21 | AT18: =AR18 -> 21 | AU18: =(((I18+M18)*18)-(17*18))+(O18*10)+Q18+R18+S18+T18+U18+V18 -> 72 | AV18: =(((AC18+AE18)*17)-(17*17))+(AG18*17)+AI18+AJ18+AK18+AL18+AM18+AN18 -> 34 | AW18: =AU18+AV18 -> 106 | AX18: =(I18+K18+M18+Q18)-17 -> 4 | AY18: =O18+R18 -> 0
A19: 9 | B19: Võ Nguyên Thạch | C19: Giáo viên | D19: Toán | E19: Toán: 12A2(3), 12C2 (3), 11B2(3) CĐ Toán: 12A2(1), 11B2(1) | F19: 11 | G19: C.Nhiệm 12C2(4) | H19: 4 | I19: =F19+H19 -> 15 | N19: 12A2, 12C2 | W19: =I19+K19+M19+O19+Q19+R19+S19+T19+U19+V19 -> 15 | X19: =W19-17 -> -2 | Y19: Toán: 10A3(4), 10A4 (4), 11A1 (4), 11C2(3). | Z19: 15 | AA19: C.Nhiệm 11C2 (4) | AB19: 4 | AC19: =Z19+AB19 -> 19 | AO19: =AC19+AE19+AG19+AI19+AJ19+AK19+AL19+AM19+AN19 -> 19 | AR19: =I19+M19 -> 15 | AS19: =AR19+O19 -> 15 | AT19: =AR19 -> 15 | AU19: =(((I19+M19)*18)-(17*18))+(O19*10)+Q19+R19+S19+T19+U19+V19 -> -36 | AV19: =(((AC19+AE19)*17)-(17*17))+(AG19*17)+AI19+AJ19+AK19+AL19+AM19+AN19 -> 34 | AW19: =AU19+AV19 -> -2 | AX19: =(I19+K19+M19+Q19)-17 -> -2 | AY19: =O19+R19 -> 0
A20: B | B20: MÔN TIẾNG ANH | I20: =F20+H20 -> 0 | W20: =I20+K20+M20+O20+Q20+R20+S20+T20+U20+V20 -> 0
A21: 10 | B21: Phạm Thị Thanh Giang | C21: Tổ trưởng CM | D21: Tiếng Anh | E21: 10A2 (3), 10B1(3), 12C1(3), 10A1 (3) | F21: 12 | G21: CN 10A1 (4), TTCM(3) | H21: 7 | I21: =F21+H21 -> 19 | L21: 10A1 (3) | M21: 3 | W21: =I21+K21+M21+O21+Q21+R21+S21+T21+U21+V21 -> 22 | X21: =W21-17 -> 5 | Y21: 10A1 (3) ,10A2(3)10B1(3),12B2(3) | Z21: 12 | AA21: CN10A2(4) TTCM(3) | AB21: 7 | AC21: =Z21+AB21 -> 19 | AO21: =AC21+AE21+AG21+AI21+AJ21+AK21+AL21+AM21+AN21 -> 19 | AR21: =I21+M21 -> 22 | AS21: =AR21+O21 -> 22 | AT21: =AR21 -> 22 | AU21: =(((I21+M21)*18)-(17*18))+(O21*10)+Q21+R21+S21+T21+U21+V21 -> 90 | AV21: =L21+N21+(P21*10)+R21+S21+T21+U21+V21+W21 -> #VALUE! | AW21: =AU21+AV21 -> #VALUE! | AX21: =(I21+K21+M21+Q21)-17 -> 5 | AY21: =O21+R21 -> 0
A22: 11 | B22: Nguyễn Trương Đăng Khoa | C22: Giáo viên | D22: Tiếng Anh | E22: 10C3 (3), 10C1(3), 10C4(3), 12A4(3), 12A5 (3) | F22: 15 | G22: CN 12A5 (4) | H22: 4 | I22: =F22+H22 -> 19 | W22: =I22+K22+M22+O22+Q22+R22+S22+T22+U22+V22 -> 19 | X22: =W22-17 -> 2 | Y22: 11A5(3),11C1(3), 11C2(3),12A2(3),12B1(3) | Z22: 15 | AA22: CN 11C1(4) | AB22: 4 | AC22: =Z22+AB22 -> 19 | AF22: 12A2,12B | AG22: 2 | AO22: =AC22+AE22+AG22+AI22+AJ22+AK22+AL22+AM22+AN22 -> 21 | AR22: =I22+M22 -> 19 | AS22: =AR22+O22 -> 19 | AT22: =AR22 -> 19 | AU22: =(((I22+M22)*18)-(17*18))+(O22*10)+Q22+R22+S22+T22+U22+V22 -> 36 | AV22: =L22+N22+(P22*10)+R22+S22+T22+U22+V22+W22 -> 19 | AW22: =AU22+AV22 -> 55 | AX22: =(I22+K22+M22+Q22)-17 -> 2 | AY22: =O22+R22 -> 0
A23: 12 | B23: Nguyễn Thị Kim Thoa | C23: Giáo viên | D23: Tiếng Anh | E23: 11B2 (3), 11C1 (3), 11C2 (3), 12A3 (3) | F23: 12 | G23: CN 11C2(4) | H23: 4 | I23: =F23+H23 -> 16 | L23: 11C2 (3) | M23: 3 | W23: =I23+K23+M23+O23+Q23+R23+S23+T23+U23+V23 -> 19 | X23: =W23-17 -> 2 | Y23: 10B2(3), 10C1(3),10C2(3), 12A1(3), 12C2(3) | Z23: 15 | AA23: CN 12C2(4) | AB23: 4 | AC23: =Z23+AB23 -> 19 | AF23: 12A1,12C2 | AG23: 2 | AO23: =AC23+AE23+AG23+AI23+AJ23+AK23+AL23+AM23+AN23 -> 21 | AR23: =I23+M23 -> 19 | AS23: =AR23+O23 -> 19 | AT23: =AR23 -> 19 | AU23: =(((I23+M23)*18)-(17*18))+(O23*10)+Q23+R23+S23+T23+U23+V23 -> 36 | AV23: =L23+N23+(P23*10)+R23+S23+T23+U23+V23+W23 -> #VALUE! | AW23: =AU23+AV23 -> #VALUE! | AX23: =(I23+K23+M23+Q23)-17 -> 2 | AY23: =O23+R23 -> 0
A24: 13 | B24: Lê Thị Hồng Thủy | C24: Giáo viên | D24: Tiếng Anh | E24: 10B2(3), 10C2(3), 12A1(3), 12A2(3) | F24: 12 | G24: CN 10B2(4) | H24: 4 | I24: =F24+H24 -> 16 | L24: 10B2 (3) | M24: 3 | N24: K12 | W24: =I24+K24+M24+O24+Q24+R24+S24+T24+U24+V24 -> 19 | X24: =W24-17 -> 2 | Y24: 11A1(3), 11A2(3), 11A3(3), 11A4(3),12B3(3), 12C1(3) | Z24: 18 | AA24: CN 11A2(4) | AB24: 4 | AC24: =Z24+AB24 -> 22 | AO24: =AC24+AE24+AG24+AI24+AJ24+AK24+AL24+AM24+AN24 -> 22 | AR24: =I24+M24 -> 19 | AS24: =AR24+O24 -> 19 | AT24: =AR24 -> 19 | AU24: =(((I24+M24)*18)-(17*18))+(O24*10)+Q24+R24+S24+T24+U24+V24 -> 36 | AV24: =L24+N24+(P24*10)+R24+S24+T24+U24+V24+W24 -> #VALUE! | AW24: =AU24+AV24 -> #VALUE! | AX24: =(I24+K24+M24+Q24)-17 -> 2 | AY24: =O24+R24 -> 0
A25: 14 | B25: Lê Kỳ Duyên | C25: Giáo viên | D25: Tiếng Anh | E25: 11A1(3), 11A2(3),11B1(3),12C2(3) | F25: 12 | G25: CN 11A2(4) | H25: 4 | I25: =F25+H25 -> 16 | L25: 11A2 (3) | M25: 3 | W25: =I25+K25+M25+O25+Q25+R25+S25+T25+U25+V25 -> 19 | X25: =W25-17 -> 2 | AR25: =I25+M25 -> 19 | AT25: =AR25 -> 19 | AX25: =(I25+K25+M25+Q25)-17 -> 2 | AY25: =O25+R25 -> 0
A26: C | B26: MÔN VẬT LÝ | I26: =F26+H26 -> 0 | W26: =I26+K26+M26+O26+Q26+R26+S26+T26+U26+V26 -> 0
A27: 15 | B27: Trần Thanh Tâm | C27: Tổ trưởng CM | D27: Vật lý | E27: Lý: 11A2(2), 11C3(2), 12A4(2), 12C1(2), 12C2(2) CĐ Lý: 11A2(1), 12A4(1) | F27: 12 | G27: TTCM (3) | H27: 3 | I27: =F27+H27 -> 15 | J27: 12C1, 12C2 | K27: 2 | N27: 12A4 +C1+C2 | R27: 0 | S27: 0 | T27: 0 | U27: 0 | V27: 0 | W27: =I27+K27+M27+O27+Q27+R27+S27+T27+U27+V27 -> 17 | X27: =W27-17 -> 0 | Y27: 10A2(3), 11A4(3), 11C1(2), 11C2(2), 12A2(3), | Z27: 13 | AA27: TTCM | AB27: 3 | AC27: =Z27+AB27 -> 16 | AD27: 12A2(3) | AE27: 3 | AF27: 12A2 | AG27: 2 | AJ27: 0 | AK27: 0 | AL27: 0 | AM27: 0 | AN27: 0 | AO27: =AC27+AE27+AG27+AI27+AJ27+AK27+AL27+AM27+AN27 -> 21 | AR27: =I27+M27 -> 15 | AS27: =AR27+O27 -> 15 | AT27: =AR27 -> 15 | AU27: =(((I27+M27)*18)-(17*18))+(O27*10)+Q27+R27+S27+T27+U27+V27 -> -36 | AV27: =(((AC27+AE27)*17)-(17*17))+(AG27*17)+AI27+AJ27+AK27+AL27+AM27+AN27 -> 68 | AW27: =AU27+AV27 -> 32 | AX27: =(I27+K27+M27+Q27)-17 -> 0 | AY27: =O27+R27 -> 0
A28: 16 | B28: Trần Tấn Phương | C28: Giáo viên | D28: Vật lý | E28: Lý: 10A1(2), 10B2(2), 10C2(2), 10C3(2), 10C4(2), 12A3(2) CĐ Lý: 12A3(1), 10A1(1) | F28: 14 | G28: TKHĐ(2) | H28: 2 | I28: =F28+H28 -> 16 | L28: 12A3 (3) | M28: 3 | N28: 12A3 | R28: 0 | S28: 0 | T28: 0 | U28: 0 | V28: 0 | W28: =I28+K28+M28+O28+Q28+R28+S28+T28+U28+V28 -> 19 | X28: =W28-17 -> 2 | Y28: 10B1(2), 11A3(3), 12A1(3), 12C3(2), | Z28: 10 | AA28: CN 12A1, TKHĐ | AB28: 6 | AC28: =Z28+AB28 -> 16 | AD28: 11C2(3), 12A1(3) | AE28: 6 | AF28: 12A1 | AG28: 2 | AJ28: 0 | AK28: 0 | AL28: 0 | AM28: 0 | AN28: 0 | AO28: =AC28+AE28+AG28+AI28+AJ28+AK28+AL28+AM28+AN28 -> 24 | AR28: =I28+M28 -> 19 | AS28: =AR28+O28 -> 19 | AT28: =AR28 -> 19 | AU28: =(((I28+M28)*18)-(17*18))+(O28*10)+Q28+R28+S28+T28+U28+V28 -> 36 | AV28: =(((AC28+AE28)*17)-(17*17))+(AG28*17)+AI28+AJ28+AK28+AL28+AM28+AN28 -> 119 | AW28: =AU28+AV28 -> 155 | AX28: =(I28+K28+M28+Q28)-17 -> 2 | AY28: =O28+R28 -> 0
A29: 17 | B29: Nguyễn Bùi Yến Khanh | C29: Giáo viên | D29: Vật lý | E29: LÝ: 11A1(2), 11B2(2), 12A1(2); CĐ Lý: 12A1(1), 11A1(1) | F29: 8 | G29: CN 12A1 (4) | H29: 4 | I29: =F29+H29 -> 12 | L29: 12A1(3); 10C2 (3) | M29: 6 | N29: 12A1(2) | R29: 0 | S29: 0 | T29: 0 | U29: 0 | V29: 0 | W29: =I29+K29+M29+O29+Q29+R29+S29+T29+U29+V29 -> 18 | X29: =W29-17 -> 1 | Y29: 10A1(3), 10B2(2), 10C1(2), 10C2(2), 11A2(3); | Z29: 12 | AB29: 0 | AC29: =Z29+AB29 -> 12 | AD29: 11A3(3), 11A4(3) | AE29: 6 | AG29: 0 | AJ29: 0 | AK29: 0 | AL29: 0 | AM29: 0 | AN29: 0 | AO29: =AC29+AE29+AG29+AI29+AJ29+AK29+AL29+AM29+AN29 -> 18 | AR29: =I29+M29 -> 18 | AS29: =AR29+O29 -> 18 | AT29: =AR29 -> 18 | AU29: =(((I29+M29)*18)-(17*18))+(O29*10)+Q29+R29+S29+T29+U29+V29 -> 18 | AV29: =(((AC29+AE29)*17)-(17*17))+(AG29*17)+AI29+AJ29+AK29+AL29+AM29+AN29 -> 17 | AW29: =AU29+AV29 -> 35 | AX29: =(I29+K29+M29+Q29)-17 -> 1 | AY29: =O29+R29 -> 0
A30: 18 | B30: Nguyễn Thị Bé Hà | C30: Giáo viên | D30: Vật lý | E30: Lý: 12A2(2), 10A2(2),10B1(2) CĐ Lý: 12A2(1), 10A2(1) | F30: 8 | G30: CN 12A2(4) | H30: 4 | I30: =F30+H30 -> 12 | L30: 12A2(3) | M30: 3 | N30: 12A2 (2) | R30: 0 | S30: 0 | T30: 0 | U30: 0 | V30: 0 | W30: =I30+K30+M30+O30+Q30+R30+S30+T30+U30+V30 -> 15 | X30: =W30-17 -> -2 | Y30: 11A1(3), 11A5(3), 12B1(2),12B2(2), 12B3(2), | Z30: 12 | AA30: CN 12B2 | AB30: 4 | AC30: =Z30+AB30 -> 16 | AD30: 12B2(3) | AE30: 3 | AF30: 12B2 | AG30: 2 | AJ30: 0 | AK30: 0 | AL30: 0 | AM30: 0 | AN30: 0 | AO30: =AC30+AE30+AG30+AI30+AJ30+AK30+AL30+AM30+AN30 -> 21 | AR30: =I30+M30 -> 15 | AS30: =AR30+O30 -> 15 | AT30: =AR30 -> 15 | AU30: =(((I30+M30)*18)-(17*18))+(O30*10)+Q30+R30+S30+T30+U30+V30 -> -36 | AV30: =(((AC30+AE30)*17)-(17*17))+(AG30*17)+AI30+AJ30+AK30+AL30+AM30+AN30 -> 68 | AW30: =AU30+AV30 -> 32 | AX30: =(I30+K30+M30+Q30)-17 -> -2 | AY30: =O30+R30 -> 0
A31: 19 | B31: Lê Thị Trúc Linh | C31: Giáo viên | D31: Vật lý_Tin | E31: Lý: 11B1(2), 11C1(2); 11C2(2), 12A5(2) CĐ Lý: 12A5(1) | F31: 9 | G31: PBT | H31: 6 | I31: =F31+H31 -> 15 | N31: 12A5(2) | R31: 0 | S31: 0 | T31: 0 | U31: 0 | V31: 0 | W31: =I31+K31+M31+O31+Q31+R31+S31+T31+U31+V31 -> 15 | X31: =W31-17 -> -2 | Y31: 10A1(3), 10B2(2), 10C1(2), 10C2(2), 11A2(3); | Z31: 12 | AA31: CN 10C1: Phó BT | AB31: 10 | AC31: =Z31+AB31 -> 22 | AD31: 10C1(3) | AE31: 3 | AF31: 0 | AG31: 0 | AJ31: 0 | AK31: 0 | AL31: 0 | AM31: 0 | AN31: 0 | AO31: =AC31+AE31+AG31+AI31+AJ31+AK31+AL31+AM31+AN31 -> 25 | AR31: =I31+M31 -> 15 | AS31: =AR31+O31 -> 15 | AT31: =AR31 -> 15 | AU31: =(((I31+M31)*18)-(17*18))+(O31*10)+Q31+R31+S31+T31+U31+V31 -> -36 | AV31: =(((AC31+AE31)*17)-(17*17))+(AG31*17)+AI31+AJ31+AK31+AL31+AM31+AN31 -> 136 | AW31: =AU31+AV31 -> 100 | AX31: =(I31+K31+M31+Q31)-17 -> -2 | AY31: =O31+R31 -> 0
A32: D | B32: MÔN CÔNG NGHỆ | I32: =F32+H32 -> 0 | W32: =I32+K32+M32+O32+Q32+R32+S32+T32+U32+V32 -> 0
A33: 20 | B33: Phạm Thanh Phong | C33: TPCM | D33: Công nghệ | E33: 11B1(2), 11B2 (2), 12A3(2), 12A4(2) | F33: 8 | G33: CN 11B2 (4); TP (1) | H33: 5 | I33: =F33+H33 -> 13 | L33: 11B2(3), 11C1 (3) | M33: 6 | N33: 0 | O33: 0 | R33: 0 | S33: 0 | T33: 0 | U33: 0 | V33: 0 | W33: =I33+K33+M33+O33+Q33+R33+S33+T33+U33+V33 -> 19 | X33: =W33-17 -> 2 | Y33: 10B1(2), 10B2 (2), 11A3(2), 11A4(2); | Z33: 8 | AA33: CN 11A4 (4); TP (1) | AB33: 5 | AC33: =Z33+AB33 -> 13 | AD33: 10B1(3), 10B2(3) | AE33: 6 | AF33: 0 | AG33: 0 | AJ33: 0 | AK33: 0 | AL33: 0 | AM33: 0 | AN33: 0 | AO33: =AC33+AE33+AG33+AI33+AJ33+AK33+AL33+AM33+AN33 -> 19 | AR33: =I33+M33 -> 19 | AS33: =AR33+O33 -> 19 | AT33: =AR33 -> 19 | AU33: =(((I33+M33)*18)-(17*18))+(O33*10)+Q33+R33+S33+T33+U33+V33 -> 36 | AV33: =L33+N33+(P33*10)+R33+S33+T33+U33+V33+W33 -> #VALUE! | AW33: =AU33+AV33 -> #VALUE! | AX33: =(I33+K33+M33+Q33)-17 -> 2 | AY33: =O33+R33 -> 0
A34: 21 | B34: Nguyễn Trường An | C34: Giáo viên | D34: Công nghệ | E34: 12A5(2), 12C3 (2), 10A1(2), 10A2(2), 10C2(2) | F34: 10 | G34: CN 10C2 (4), TB (3) | H34: 7 | I34: =F34+H34 -> 17 | J34: 10C2 | K34: 1 | N34: 0 | O34: 0 | R34: 0 | S34: 0 | T34: 0 | U34: 0 | V34: 0 | W34: =I34+K34+M34+O34+Q34+R34+S34+T34+U34+V34 -> 18 | X34: =W34-17 -> 1 | Y34: 11A5(2), 11C3 (2), 12B1(2), 12B2(2), 12B3(2), | Z34: 10 | AA34: CN 11A5, TB (3) | AB34: 7 | AC34: =Z34+AB34 -> 17 | AD34: 11A5(3) | AE34: 3 | AF34: 0 | AG34: 0 | AJ34: 0 | AK34: 0 | AL34: 0 | AM34: 0 | AN34: 0 | AO34: =AC34+AE34+AG34+AI34+AJ34+AK34+AL34+AM34+AN34 -> 20 | AR34: =I34+M34 -> 17 | AS34: =AR34+O34 -> 17 | AT34: =AR34 -> 17 | AU34: =(((I34+M34)*18)-(17*18))+(O34*10)+Q34+R34+S34+T34+U34+V34 -> 0 | AV34: =L34+N34+(P34*10)+R34+S34+T34+U34+V34+W34 -> 18 | AW34: =AU34+AV34 -> 18 | AX34: =(I34+K34+M34+Q34)-17 -> 1 | AY34: =O34+R34 -> 0
A35: E | B35: MÔN HÓA HỌC | I35: =F35+H35 -> 0 | W35: =I35+K35+M35+O35+Q35+R35+S35+T35+U35+V35 -> 0
A36: 22 | B36: Trần Lê Tấn Đức | C36: Tổ trưởng CM | D36: Hóa học | E36: Hóa: 11A1(2), 11A2(2), 11B1(2), 11B2(2), 12A1(2); CĐ Hóa: 11A1(1), 11A2(1), 11B1(1), 11B2(1), 12A1(1) | F36: 15 | G36: TTCM(3) | H36: 3 | I36: =F36+H36 -> 18 | N36: 12A1 (2) | W36: =I36+K36+M36+O36+Q36+R36+S36+T36+U36+V36 -> 18 | X36: =W36-17 -> 1 | Y36: 11A1(3), 11A2(3), 11A3(3), 11A5(3), 12B1(3) | Z36: 17 | AA36: TTCM(3) | AB36: 3 | AC36: =Z36+AB36 -> 20 | AF36: 12B1(2) | AG36: 2 | AO36: =AC36+AE36+AG36+AI36+AJ36+AK36+AL36+AM36+AN36 -> 22 | AR36: =I36+M36 -> 18 | AS36: =AR36+O36 -> 18 | AT36: =AR36 -> 18 | AU36: =(((I36+M36)*18)-(17*18))+(O36*10)+Q36+R36+S36+T36+U36+V36 -> 18 | AV36: =L36+N36+(P36*10)+R36+S36+T36+U36+V36+W36 -> #VALUE! | AW36: =AU36+AV36 -> #VALUE! | AX36: =(I36+K36+M36+Q36)-17 -> 1 | AY36: =O36+R36 -> 0
A37: 23 | B37: Nguyễn Hữu Tân | C37: Giáo viên | D37: Hóa học | E37: Hóa: 10B1(2), 10B2 (2), 12A2(2), 12A4(2), 10C1(2), CĐ Hóa: 10B1(1), 10B2(1), 12A2(1), 12A4(1) | F37: 14 | G37: CN 12A4 (4) | H37: 4 | I37: =F37+H37 -> 18 | N37: 12A2 (2), 12A4(2) | W37: =I37+K37+M37+O37+Q37+R37+S37+T37+U37+V37 -> 18 | X37: =W37-17 -> 1 | Y37: 11A4(3), 11C1(2), 11C2(2), 12A1(3),12A2(3), 12B2(3) | Z37: 16 | AC37: =Z37+AB37 -> 16 | AF37: 12A1,A2(2), 12B2(2), | AG37: 4 | AO37: =AC37+AE37+AG37+AI37+AJ37+AK37+AL37+AM37+AN37 -> 20 | AR37: =I37+M37 -> 18 | AS37: =AR37+O37 -> 18 | AT37: =AR37 -> 18 | AU37: =(((I37+M37)*18)-(17*18))+(O37*10)+Q37+R37+S37+T37+U37+V37 -> 18 | AV37: =L37+N37+(P37*10)+R37+S37+T37+U37+V37+W37 -> #VALUE! | AW37: =AU37+AV37 -> #VALUE! | AX37: =(I37+K37+M37+Q37)-17 -> 1 | AY37: =O37+R37 -> 0
A38: 24 | B38: Ung Nguyễn Thị Thùy Dương | C38: Giáo viên | D38: Hóa học | E38: Hóa: 10A1(2), 10A2(2), 12A3(2), 12A5(2), 12C2(2); 12C1(2), CĐ Hóa: 10A1(1), 10A2(1), 12A3(1), 12A5(1) | F38: 16 | I38: =F38+H38 -> 16 | N38: 12A3+ 12C1+12C2 (2), 12A4(2) | W38: =I38+K38+M38+O38+Q38+R38+S38+T38+U38+V38 -> 16 | X38: =W38-17 -> -1 | Y38: 10A1(3), 10A2(3), 10B1(3), 10B2(3), 12B3(3), 12C1(2), 12C2(2) | Z38: 19 | AC38: =Z38+AB38 -> 19 | AF38: 12B3(2) | AG38: 2 | AO38: =AC38+AE38+AG38+AI38+AJ38+AK38+AL38+AM38+AN38 -> 21 | AR38: =I38+M38 -> 16 | AS38: =AR38+O38 -> 16 | AT38: =AR38 -> 16 | AU38: =(((I38+M38)*18)-(17*18))+(O38*10)+Q38+R38+S38+T38+U38+V38 -> -18 | AV38: =L38+N38+(P38*10)+R38+S38+T38+U38+V38+W38 -> #VALUE! | AW38: =AU38+AV38 -> #VALUE! | AX38: =(I38+K38+M38+Q38)-17 -> -1 | AY38: =O38+R38 -> 0
A39: G | B39: MÔN SINH | I39: =F39+H39 -> 0 | W39: =I39+K39+M39+O39+Q39+R39+S39+T39+U39+V39 -> 0
A40: 25 | B40: Ngô Thị Đông Tràng | C40: Tổ phó CM | D40: Sinh học | E40: 10A1(2), 10B2(2), 10C1(2), 11B1(2); CĐ Sinh: 10B2(1), 11B1(1) | F40: 10 | G40: CN 11B1(4); Tổ phó (1) | H40: 5 | I40: =F40+H40 -> 15 | J40: 10A1, 10B2, 10C1, 11B1 | K40: 4 | L40: 11B1(3) | M40: 3 | W40: =I40+K40+M40+O40+Q40+R40+S40+T40+U40+V40 -> 22 | X40: =W40-17 -> 5 | Y40: 10B1 (3), 12B1 (3), 12B2 (3), 12B3 (3) | Z40: 12 | AA40: CN 10B1 (4); tổ phó (1) | AB40: 5 | AC40: =Z40+AB40 -> 17 | AF40: 12A1 12B2 12B3(2), 12B1 (2) | AG40: 4 | AO40: =AC40+AE40+AG40+AI40+AJ40+AK40+AL40+AM40+AN40 -> 21 | AR40: =I40+M40 -> 18 | AS40: =AR40+O40 -> 18 | AT40: =AR40 -> 18 | AU40: =(((I40+M40)*18)-(17*18))+(O40*10)+Q40+R40+S40+T40+U40+V40 -> 18 | AV40: =L40+N40+(P40*10)+R40+S40+T40+U40+V40+W40 -> #VALUE! | AW40: =AU40+AV40 -> #VALUE! | AX40: =(I40+K40+M40+Q40)-17 -> 5 | AY40: =O40+R40 -> 0
A41: 26 | B41: Phạm Thị Thu | C41: Giáo viên | D41: Sinh học | E41: 11A1(2), 11A2(2), 11B2(2), 12A1 (2), 12A2 (2); CĐ Sinh: 11B2(1) | F41: 11 | I41: =F41+H41 -> 11 | J41: 11A1, 11A2, 11B2, 12A1, 12A2 | K41: 5 | L41: 11A1 (3), 10A2 (3) | M41: 6 | W41: =I41+K41+M41+O41+Q41+R41+S41+T41+U41+V41 -> 22 | X41: =W41-17 -> 5 | Y41: 10A1 (2), 10A2 (2), 10B2 (3), 11A3 (2), 11A4 (2), | Z41: 11 | AA41: TV (3) | AB41: 3 | AC41: =Z41+AB41 -> 14 | AD41: 11A2 (3) | AE41: 3 | AO41: =AC41+AE41+AG41+AI41+AJ41+AK41+AL41+AM41+AN41 -> 17 | AR41: =I41+M41 -> 17 | AS41: =AR41+O41 -> 17 | AT41: =AR41 -> 17 | AU41: =(((I41+M41)*18)-(17*18))+(O41*10)+Q41+R41+S41+T41+U41+V41 -> 0 | AV41: =L41+N41+(P41*10)+R41+S41+T41+U41+V41+W41 -> #VALUE! | AW41: =AU41+AV41 -> #VALUE! | AX41: =(I41+K41+M41+Q41)-17 -> 5 | AY41: =O41+R41 -> 0
A42: 27 | B42: Trương Thị Lài | C42: Giáo viên | D42: Sinh học | E42: 10A2(2), 10B1(2), 12A3(2), 12A4(2); CĐ 10B1(1) | F42: 9 | G42: CN10B1 (4) | H42: 4 | I42: =F42+H42 -> 13 | J42: 10A2, 10B1, 12A3, 12A4 | K42: 4 | L42: 10B1 (3) | M42: 3 | W42: =I42+K42+M42+O42+Q42+R42+S42+T42+U42+V42 -> 20 | X42: =W42-17 -> 3 | Y42: 11A1 (2), 11A2 (2), 12A1 (2), 12A2 (2), 12C1 (2), 12C2 (2), | Z42: 12 | AA42: CN 11A1 (4) | AB42: 4 | AC42: =Z42+AB42 -> 16 | AD42: 11A1 (3) | AE42: 3 | AO42: =AC42+AE42+AG42+AI42+AJ42+AK42+AL42+AM42+AN42 -> 19 | AR42: =I42+M42 -> 16 | AS42: =AR42+O42 -> 16 | AT42: =AR42 -> 16 | AU42: =(((I42+M42)*18)-(17*18))+(O42*10)+Q42+R42+S42+T42+U42+V42 -> -18 | AV42: =L42+N42+(P42*10)+R42+S42+T42+U42+V42+W42 -> #VALUE! | AW42: =AU42+AV42 -> #VALUE! | AX42: =(I42+K42+M42+Q42)-17 -> 3 | AY42: =O42+R42 -> 0
A43: H | B43: MÔN GD KT- PL | I43: =F43+H43 -> 0 | W43: =I43+K43+M43+O43+Q43+R43+S43+T43+U43+V43 -> 0
A44: 28 | B44: Đỗ Nguyễn Hoàng Thúy Vy | C44: Giáo viên | D44: GDKT &PL | E44: 12C1(2), 12C2(2), 12C3(2); 10C3 (2), 10C4 (2) | F44: 10 | G44: CN 10C4 (4) | H44: 4 | I44: =F44+H44 -> 14 | L44: 10C4 (3) | M44: 3 | P44: 10A1 (1), 10A2 (1), 10C3 (1), 10C4 (1) | W44: =I44+K44+M44+O44+Q44+R44+S44+T44+U44+V44 -> 17 | X44: =W44-17 -> 0 | Y44: 10C3 (2), 11C1 (2), 11C2 (2), 11C3 (2) | Z44: 8 | AA44: 11C3 (4) | AB44: 4 | AC44: =Z44+AB44 -> 12 | AD44: 11C1 (3), 11C3 (3) | AE44: 6 | AO44: =AC44+AE44+AG44+AI44+AJ44+AK44+AL44+AM44+AN44 -> 18 | AP44: Cả năm: - 107 tiết | AR44: =I44+M44 -> 17 | AS44: =AR44+O44 -> 17 | AT44: =AR44 -> 17 | AU44: =(((I44+M44)*18)-(17*18))+(O44*10)+Q44+R44+S44+T44+U44+V44 -> 0 | AV44: =(((AC44+AE44)*17)-(17*17))+(AG44*17)+AI44+AJ44+AK44+AL44+AM44+AN44 -> 17 | AW44: =AU44+AV44 -> 17 | AX44: =(I44+K44+M44+Q44)-17 -> 0 | AY44: =O44+R44 -> 0
A45: 29 | B45: Đinh Ngọc Mỹ Tiên | C45: Giáo viên | D45: GDKT &PL | E45: 10C1(2), 10C2(2); 11C1(2), 11C2(2), 11C3 (2) | F45: 10 | G45: CN 10C1 (4) | H45: 4 | I45: =F45+H45 -> 14 | L45: 10C1 (3) | M45: 3 | P45: 10B1 (1), 10B2 (1), 10C1(1), 10C2(1); | W45: =I45+K45+M45+O45+Q45+R45+S45+T45+U45+V45 -> 17 | X45: =W45-17 -> 0 | AX45: =(I45+K45+M45+Q45)-17 -> 0 | AY45: =O45+R45 -> 0
A46: I | B46: NGỮ VĂN | I46: =F46+H46 -> 0 | W46: =I46+K46+M46+O46+Q46+R46+S46+T46+U46+V46 -> 0
A47: 30 | B47: Trần Xuân Trường | C47: Tổ trưởng CM | D47: Ngữ văn | E47: 12A2 (3), 12A3 (3), 12A4 (3), 11B1 (3);11C2(4) | F47: 16 | G47: TTCM (3) | H47: 3 | I47: =F47+H47 -> 19 | N47: 12A2 (2), 12A3 (2), 12A4 (2) | R47: 0 | S47: 0 | T47: 0 | U47: 0 | V47: 0 | W47: =I47+K47+M47+O47+Q47+R47+S47+T47+U47+V47 -> 19 | X47: =W47-17 -> 2 | AC47: =Z47+AB47 -> 0 | AJ47: 0 | AK47: 0 | AL47: 0 | AM47: 0 | AO47: =AC47+AE47+AG47+AI47+AJ47+AK47+AL47+AM47+AN47 -> 0 | AR47: =I47+M47 -> 19 | AS47: =AR47+O47 -> 19 | AT47: =AR47 -> 19 | AU47: =(((I47+M47)*18)-(17*18))+(O47*10)+Q47+R47+S47+T47+U47+V47 -> 36 | AV47: =L47+N47+(P47*10)+R47+S47+T47+U47+V47+W47 -> #VALUE! | AW47: =AU47+AV47 -> #VALUE! | AX47: =(I47+K47+M47+Q47)-17 -> 2 | AY47: =O47+R47 -> 0
A48: 31 | B48: Nguyễn Thị Hồng Vân | C48: Giáo viên | D48: Ngữ văn | E48: 10A2 (3), 10B1 (3), 10B2 (3), 10C1 (4),12C2(4), 12C1 (4) | F48: 21 | G48: 0 | H48: 0 | I48: =F48+H48 -> 21 | N48: 12C1 (2), 12C2 (2) | R48: 0 | S48: 0 | T48: 0 | U48: 0 | V48: 0 | W48: =I48+K48+M48+O48+Q48+R48+S48+T48+U48+V48 -> 21 | X48: =W48-17 -> 4 | AC48: =Z48+AB48 -> 0 | AJ48: 0 | AK48: 0 | AL48: 0 | AM48: 0 | AN48: 0 | AO48: =AC48+AE48+AG48+AI48+AJ48+AK48+AL48+AM48+AN48 -> 0 | AR48: =I48+M48 -> 21 | AS48: =AR48+O48 -> 21 | AT48: =AR48 -> 21 | AU48: =(((I48+M48)*18)-(17*18))+(O48*10)+Q48+R48+S48+T48+U48+V48 -> 72 | AV48: =L48+N48+(P48*10)+R48+S48+T48+U48+V48+W48 -> #VALUE! | AW48: =AU48+AV48 -> #VALUE! | AX48: =(I48+K48+M48+Q48)-17 -> 4 | AY48: =O48+R48 -> 0
A49: 32 | B49: Trịnh Thị Ngọc Hân | C49: Giáo viên | D49: Ngữ văn | E49: 11A2 (3), 11C1 (4), 12A5 (3), 10C2 (4), 12C3 (4) | F49: 18 | G49: 0 | H49: 0 | I49: =F49+H49 -> 18 | N49: 12A5 (2), 12C3 (2) | R49: 0 | S49: 0 | T49: 0 | U49: 0 | V49: 0 | W49: =I49+K49+M49+O49+Q49+R49+S49+T49+U49+V49 -> 18 | X49: =W49-17 -> 1 | AC49: =Z49+AB49 -> 0 | AJ49: 0 | AK49: 0 | AL49: 0 | AM49: 0 | AN49: 0 | AO49: =AC49+AE49+AG49+AI49+AJ49+AK49+AL49+AM49+AN49 -> 0 | AR49: =I49+M49 -> 18 | AS49: =AR49+O49 -> 18 | AT49: =AR49 -> 18 | AU49: =(((I49+M49)*18)-(17*18))+(O49*10)+Q49+R49+S49+T49+U49+V49 -> 18 | AV49: =L49+N49+(P49*10)+R49+S49+T49+U49+V49+W49 -> #VALUE! | AW49: =AU49+AV49 -> #VALUE! | AX49: =(I49+K49+M49+Q49)-17 -> 1 | AY49: =O49+R49 -> 0
A50: 33 | B50: Võ Thị Kiều Trang | C50: Giáo viên | D50: Ngữ văn | E50: NGHỈ HẬU SẢN | I50: =F50+H50 -> 0 | R50: 0 | S50: 0 | T50: 0 | U50: 0 | V50: 0 | W50: =I50+K50+M50+O50+Q50+R50+S50+T50+U50+V50 -> 0 | X50: =W50 -> 0 | AC50: =Z50+AB50 -> 0 | AJ50: 0 | AK50: 0 | AL50: 0 | AM50: 0 | AO50: =AC50+AE50+AG50+AI50+AJ50+AK50+AL50+AM50+AN50 -> 0 | AP50: Cống hiến 02 tiết chấm giám khảo | AR50: =I50+M50 -> 0 | AS50: =AR50+O50 -> 0 | AT50: =AR50 -> 0 | AU50: =(((I50+M50)*18)-(17*18))+(O50*10)+Q50+R50+S50+T50+U50+V50 -> -306 | AV50: =L50+N50+(P50*10)+R50+S50+T50+U50+V50+W50 -> 0 | AW50: =AU50+AV50 -> -306 | AX50: =(I50+K50+M50+Q50) -> 0 | AY50: =O50+R50 -> 0 | AZ50: Thai sản
A51: 34 | B51: Nguyễn Thị Như Huỳnh | C51: Giáo viên | D51: Ngữ văn | E51: 10C3 (4), 11B2 (3), 11C3 (4), 12A1 (3), 11A1(3) | F51: 17 | I51: =F51+H51 -> 17 | N51: 12A1 (2) | W51: =I51+K51+M51+O51+Q51+R51+S51+T51+U51+V51 -> 17 | X51: =W51-17 -> 0 | AX51: =(I51+K51+M51+Q51)-17 -> 0 | AY51: =O51+R51 -> 0
A52: K | B52: MÔN ĐỊA LÍ | I52: =F52+H52 -> 0 | W52: =I52+K52+M52+O52+Q52+R52+S52+T52+U52+V52 -> 0
A53: 35 | B53: Nguyễn Văn Hiện | C53: Tổ phó CM | D53: Địa lý | E53: 10C2 (2), 10C4 (2), 11C1 (2), 12C3 (2). CĐ Địa:10C2 (1), 10C4 (1), 11C1 (1), 12C3 (1). | F53: 12 | G53: TPCM (1) | H53: 1 | I53: =F53+H53 -> 13 | L53: 12C3(3) | M53: 3 | N53: 12C3 (2) | P53: 12C3, 12A1, 12A2, 10C2, 10C4, 11C1, 11A1, 11A2 | R53: 0 | S53: 0 | T53: 0 | U53: 0 | V53: 0 | W53: =I53+K53+M53+O53+Q53+R53+S53+T53+U53+V53 -> 16 | X53: =W53-17 -> -1 | Y53: 10C1 (3), 10C2 (3), 10C3 (3), 11C2 (3), 12C2 (3) | Z53: 15 | AA53: TPCM(1) | AB53: 1 | AC53: =Z53+AB53 -> 16 | AF53: 12C2 (2) | AG53: 2 | AJ53: 0 | AK53: 0 | AL53: 0 | AM53: 0 | AN53: 0 | AO53: =AC53+AE53+AG53+AI53+AJ53+AK53+AL53+AM53+AN53 -> 18 | AR53: =I53+M53 -> 16 | AS53: =AR53+O53 -> 16 | AT53: =AR53 -> 16 | AU53: =(((I53+M53)*18)-(17*18))+(O53*10)+Q53+R53+S53+T53+U53+V53 -> -18 | AV53: =L53+N53+(P53*10)+R53+S53+T53+U53+V53+W53 -> #VALUE! | AW53: =AU53+AV53 -> #VALUE! | AX53: =(I53+K53+M53+Q53)-17 -> -1 | AY53: =O53+R53 -> 0
A54: 36 | B54: Nguyễn Thanh Quân | C54: Giáo viên | D54: Địa lý | E54: 11C2 (2), 11C3 (2), 12C1 (2); CĐ Địa: 11C2 (1), 11C3 (1), 12C1 (1) | F54: 9 | G54: CN 12C1 (4) | H54: 4 | I54: =F54+H54 -> 13 | L54: 12C1 (3) | M54: 3 | N54: 12C1 (2) | P54: 12C1, 12A3, 12A4, 10A2, 10B1, 10B2, 11C2, 11C3 | R54: 0 | S54: 0 | T54: 0 | U54: 0 | V54: 0 | W54: =I54+K54+M54+O54+Q54+R54+S54+T54+U54+V54 -> 16 | X54: =W54-17 -> -1 | Y54: 11C1 (3), 11C3 (3), 12C1 (3), 12C3 (3); | Z54: 12 | AA54: CN 12C3 (4) | AB54: 4 | AC54: =Z54+AB54 -> 16 | AD54: 12C3 (3) | AE54: 3 | AF54: 12C1 (2), 12C3 (2) | AG54: 4 | AJ54: 0 | AK54: 0 | AL54: 0 | AM54: 0 | AN54: 0 | AO54: =AC54+AE54+AG54+AI54+AJ54+AK54+AL54+AM54+AN54 -> 23 | AR54: =I54+M54 -> 16 | AS54: =AR54+O54 -> 16 | AT54: =AR54 -> 16 | AU54: =(((I54+M54)*18)-(17*18))+(O54*10)+Q54+R54+S54+T54+U54+V54 -> -18 | AV54: =L54+N54+(P54*10)+R54+S54+T54+U54+V54+W54 -> #VALUE! | AW54: =AU54+AV54 -> #VALUE! | AX54: =(I54+K54+M54+Q54)-17 -> -1 | AY54: =O54+R54 -> 0
A55: 37 | B55: Trần Song Hồng Đào | C55: Giáo viên | D55: Địa lý | E55: 10C1 (2), 10C3 (2), 12C2 (2). CĐ Địa: 10C1 (1), 10C3 (1), 12C2 (1). | F55: 9 | G55: CN 10C3 (4) | H55: 4 | I55: =F55+H55 -> 13 | L55: l2C2 (3) | M55: 3 | N55: 12C2 (2) | P55: 12C2, 12A5, 10C1, 10C3, 10A1, 11B1, 11B2 | W55: =I55+K55+M55+O55+Q55+R55+S55+T55+U55+V55 -> 16 | X55: =W55-17 -> -1 | AX55: =(I55+K55+M55+Q55)-17 -> -1 | AY55: =O55+R55 -> 0
A56: L | B56: MÔN GDTC | I56: =F56+H56 -> 0 | N56: =N56 -> 0 | W56: =I56+K56+M56+O56+Q56+R56+S56+T56+U56+V56 -> 0
A57: 38 | B57: Nguyễn Văn En | C57: Tổ trưởng CM | D57: GDTC | E57: 10B1(2),10B2(2),10C1(2),11B1(2),11B2(2),10C2(2),12A2(2),12A3(2) | F57: 16 | G57: TTCM(3) | H57: 3 | I57: =F57+H57 -> 19 | W57: =I57+K57+M57+O57+Q57+R57+S57+T57+U57+V57 -> 19 | X57: =W57-17 -> 2 | Y57: 10B1(2),10B2(2),11A4(2),11A5(2),12A1(2),12A2(2),12B3(2) | Z57: 14 | AA57: TTCM(3) | AB57: 3 | AC57: =Z57+AB57 -> 17 | AD57: 10A1 (3) | AE57: 3 | AO57: =AC57+AE57+AG57+AI57+AJ57+AK57+AL57+AM57+AN57 -> 20 | AR57: =I57+M57 -> 19 | AS57: =AR57+O57 -> 19 | AT57: =AR57 -> 19 | AU57: =(((I57+M57)*18)-(17*18))+(O57*10)+Q57+R57+S57+T57+U57+V57 -> 36 | AV57: =L57+N57+(P57*10)+R57+S57+T57+U57+V57+W57 -> 19 | AW57: =AU57+AV57 -> 55 | AX57: =(I57+K57+M57+Q57)-17 -> 2 | AY57: =O57+R57 -> 0
A58: 39 | B58: Phạm Hồng Hải | C58: Giáo viên | D58: GDTC | E58: 10C3(2),10C4(2),11C1(2),11C2(2)12A4(2),12A5(2) | F58: 12 | G58: CN 11C1 (4); TVTL (4) | H58: 8 | I58: =F58+H58 -> 20 | W58: =I58+K58+M58+O58+Q58+R58+S58+T58+U58+V58 -> 20 | X58: =W58-17 -> 3 | Y58: 10C1(2),10C2(2),11A2(2),11A3(2)12B1(2),12B2(2) | Z58: 12 | AA58: TVTL(4) | AB58: 4 | AC58: =Z58+AB58 -> 16 | AD58: 10A2 (3) | AE58: 3 | AO58: =AC58+AE58+AG58+AI58+AJ58+AK58+AL58+AM58+AN58 -> 19 | AR58: =I58+M58 -> 20 | AS58: =AR58+O58 -> 20 | AT58: =AR58 -> 20 | AU58: =(((I58+M58)*18)-(17*18))+(O58*10)+Q58+R58+S58+T58+U58+V58 -> 54 | AV58: =L58+N58+(P58*10)+R58+S58+T58+U58+V58+W58 -> 20 | AW58: =AU58+AV58 -> 74 | AX58: =(I58+K58+M58+Q58)-17 -> 3 | AY58: =O58+R58 -> 0
A59: 40 | B59: Trần Hồ Minh Tiến | C59: Giáo viên | D59: GDTC | E59: 10A1(2),10A2(2),12A1(2),11A1(2),11A2(2),12C1(2),12C2(2) | F59: 14 | G59: CN 11A1(4) | H59: 4 | I59: =F59+H59 -> 18 | W59: =I59+K59+M59+O59+Q59+R59+S59+T59+U59+V59 -> 18 | X59: =W59-17 -> 1 | Y59: 10A1(2),10A2(2),11A1(2),11C1(2)11C2(2),12C1(2),12C2(2) | Z59: 14 | AA59: CN 10A1(4) | AB59: 4 | AC59: =Z59+AB59 -> 18 | AO59: =AC59+AE59+AG59+AI59+AJ59+AK59+AL59+AM59+AN59 -> 18 | AR59: =I59+M59 -> 18 | AS59: =AR59+O59 -> 18 | AT59: =AR59 -> 18 | AU59: =(((I59+M59)*18)-(17*18))+(O59*10)+Q59+R59+S59+T59+U59+V59 -> 18 | AV59: =L59+N59+(P59*10)+R59+S59+T59+U59+V59+W59 -> 18 | AW59: =AU59+AV59 -> 36 | AX59: =(I59+K59+M59+Q59)-17 -> 1 | AY59: =O59+R59 -> 0
A60: M | B60: MÔN GDQP-AN | I60: =F60+H60 -> 0 | W60: =I60+K60+M60+O60+Q60+R60+S60+T60+U60+V60 -> 0
A61: 41 | B61: Nguyễn Thị Thu Hằng | C61: Giáo viên | D61: GDQP &AN | E61: 10A1(1),10A2(1),10B1(1),10B2(1),10C1(1),10C2(1),10C3,10C4,11A1(1),11A2(1),11B1(1),11B2(1),11C1(1),11C2(1),12A1(1),12A2(1),12A3(1),12A4(1),12A5(1),12C1(1),12C2(1) | F61: 21 | I61: =F61+H61 -> 21 | W61: =I61+K61+M61+O61+Q61+R61+S61+T61+U61+V61 -> 21 | X61: =W61-17 -> 4 | Y61: 10A1(1),10A2(1),10B1(1),10B2(1),10C1(1),10C2(1),11A1(1),11A2(1),11A3(1),11A4(1),11A5(1),11C1(1),11C2(1),12A1(1),12A2(1),12B1(1),12B2(1),12B3(1),12C1(1),12C2(1) | Z61: 20 | AC61: =Z61+AB61 -> 20 | AO61: =AC61+AE61+AG61+AI61+AJ61+AK61+AL61+AM61+AN61 -> 20 | AR61: =I61+M61 -> 21 | AS61: =AR61+O61 -> 21 | AT61: =AR61 -> 21 | AU61: =(((I61+M61)*18)-(17*18))+(O61*10)+Q61+R61+S61+T61+U61+V61 -> 72 | AV61: =L61+N61+(P61*10)+R61+S61+T61+U61+V61+W61 -> 21 | AW61: =AU61+AV61 -> 93 | AX61: =(I61+K61+M61+Q61)-17 -> 4 | AY61: =O61+R61 -> 0
A62: N | B62: MÔN LỊCH SỬ | I62: =F62+H62 -> 0 | W62: =I62+K62+M62+O62+Q62+R62+S62+T62+U62+V62 -> 0
A63: 42 | B63: Phạm Thị Ngọc Diệu | C63: Giáo viên | D63: Lịch sử | E63: 12A1(2), 12A2 (2), 12A3(2), 12A4(2), 12C2(2), 12C3(2), 11A1(1), 11A2(1), 11B1 (1), 11B2(1), 11C1(1), 11C2(1), 11C3(1). CĐ: 12C2(1), 12C3(1), 11C1(1), 11C2(1), 11C3(1). | F63: 24 | G63: 0 | H63: 0 | I63: =F63+H63 -> 24 | N63: 12A1+12A2 (2), 12A3+12A4+12A5 (2), 12C2 (2), 12C3 (2) | O63: 0 | Q63: 0 | R63: 0 | S63: 0 | T63: 0 | U63: 0 | V63: 0 | W63: =I63+K63+M63+O63+Q63+R63+S63+T63+U63+V63 -> 24 | X63: =W63-17 -> 7 | AC63: =Z63+AB63 -> 0 | AO63: =AC63+AE63+AG63+AI63+AJ63+AK63+AL63+AM63+AN63 -> 0 | AR63: =I63+M63 -> 24 | AS63: =AR63+O63 -> 24 | AT63: =AR63 -> 24 | AU63: =(((I63+M63)*18)-(17*18))+(O63*10)+Q63+R63+S63+T63+U63+V63 -> 126 | AV63: =L63+N63+(P63*10)+R63+S63+T63+U63+V63+W63 -> #VALUE! | AW63: =AU63+AV63 -> #VALUE! | AX63: =(I63+K63+M63+Q63)-17 -> 7 | AY63: =O63+R63 -> 0
A64: 43 | B64: Lê Thị Cẩm Quyên | C64: Giáo viên | D64: Lịch sử | E64: 12A5(2), 12C1(2), 10A1(2), 10A2(2), 10B1(2), 10B2(2), 10C1(2), 10C2(2), 10C3(2) 10C4(2). CĐ: 12C1(1), 10C1(1), 10C2(1), 10C3(1), 10C4(1) | F64: 25 | G64: 0 | H64: 0 | I64: =F64+H64 -> 25 | N64: 12C1(2) | R64: 0 | S64: 0 | T64: 0 | U64: 0 | V64: 0 | W64: =I64+K64+M64+O64+Q64+R64+S64+T64+U64+V64 -> 25 | X64: =W64-17 -> 8 | AC64: =Z64+AB64 -> 0 | AO64: =AC64+AE64+AG64+AI64+AJ64+AK64+AL64+AM64+AN64 -> 0 | AR64: =I64+M64 -> 25 | AS64: =AR64+O64 -> 25 | AT64: =AR64 -> 25 | AU64: =(((I64+M64)*18)-(17*18))+(O64*10)+Q64+R64+S64+T64+U64+V64 -> 144 | AV64: =L64+N64+(P64*10)+R64+S64+T64+U64+V64+W64 -> #VALUE! | AW64: =AU64+AV64 -> #VALUE! | AX64: =(I64+K64+M64+Q64)-17 -> 8 | AY64: =O64+R64 -> 0
W65: =I65+K65+M65+O65+Q65+R65+S65+T65+U65+V65 -> 0
A66: O | B66: MÔN TIN | I66: =F66+H66 -> 0 | W66: =I66+K66+M66+O66+Q66+R66+S66+T66+U66+V66 -> 0
A67: 44 | B67: Nguyễn Thị Huyền Trân | C67: Giáo viên | D67: Tin học | E67: Tin: 12A1(2), 12A2(2), 12A5 (2), 12C3(2), 10B1(2),10B2(2),10C3(2),10C4(2) | F67: 16 | G67: CNTT (3) | H67: 3 | I67: =F67+H67 -> 19 | J67: 10C3, 10C4, 12A5, 12C3 | K67: 4 | W67: =I67+K67+M67+O67+Q67+R67+S67+T67+U67+V67 -> 23 | X67: =W67-17 -> 6 | Y67: Tin: 12A1(2), 12A2(2), 12C3(2), 11A1(2), 11A2(2), 11A5(2) | Z67: 12 | AA67: CN 12A2(4) CNTT(3) | AB67: 7 | AC67: =Z67+AB67 -> 19 | AO67: =AC67+AE67+AG67+AI67+AJ67+AK67+AL67+AM67+AN67 -> 19 | AR67: =I67+M67 -> 19 | AS67: =AR67+O67 -> 19 | AT67: =AR67 -> 19 | AU67: =(((I67+M67)*18)-(17*18))+(O67*10)+Q67+R67+S67+T67+U67+V67 -> 36 | AV67: =L67+N67+(P67*10)+R67+S67+T67+U67+V67+W67 -> 23 | AW67: =AU67+AV67 -> 59 | AX67: =(I67+K67+M67+Q67)-17 -> 6 | AY67: =O67+R67 -> 0
A68: 45 | B68: Trương Phụng Thọ | C68: Tổ phó CM | D68: Tin học | E68: Tin: 11A1(2),11A2(2),11C1(2),11C2(2),11C3(2) | F68: 10 | G68: CN 11C3(4) TPCM(1) | H68: 5 | I68: =F68+H68 -> 15 | J68: 11C1, 11C2, 11C3 | K68: 3 | L68: 11C3 (3) | M68: 3 | W68: =I68+K68+M68+O68+Q68+R68+S68+T68+U68+V68 -> 21 | X68: =W68-17 -> 4 | Y68: Tin: 10A1(2), 10A2(2), 10C1(2), 10C2(2), 10C3(2), 11C3(2) | Z68: 12 | AA68: CN 10C3(4) TPCM(1) | AB68: 5 | AC68: =Z68+AB68 -> 17 | AD68: 10C3 (3) | AE68: 3 | AO68: =AC68+AE68+AG68+AI68+AJ68+AK68+AL68+AM68+AN68 -> 20 | AR68: =I68+M68 -> 18 | AS68: =AR68+O68 -> 18 | AT68: =AR68 -> 18 | AU68: =(((I68+M68)*18)-(17*18))+(O68*10)+Q68+R68+S68+T68+U68+V68 -> 18 | AV68: =L68+N68+(P68*10)+R68+S68+T68+U68+V68+W68 -> #VALUE! | AW68: =AU68+AV68 -> #VALUE! | AX68: =(I68+K68+M68+Q68)-17 -> 4 | AY68: =O68+R68 -> 0
A69: P | B69: GIÁO DỤC ĐỊA PHƯƠNG/THỈNH GIẢNG | I69: =F69+H69 -> 0 | W69: =I69+K69+M69+O69+Q69+R69+S69+T69+U69+V69 -> 0
B70: Nguyễn Thị Thúy Hồng | D70: Âm nhạc | E70: 8 K12 | F70: 8 | I70: =F70+H70 -> 8 | W70: =I70+K70+M70+O70+Q70+R70+S70+T70+U70+V70 -> 8 | AC70: =Z70+AB70 -> 0 | AO70: =AC70+AE70+AG70+AI70+AJ70+AK70+AL70+AM70+AN70 -> 0 | AR70: =I70+M70 -> 8 | AS70: =AR70+O70 -> 8 | AT70: =AR70 -> 8 | AU70: =(((I70+M70)*18)-(17*18))+(O70*10)+Q70+R70+S70+T70+U70+V70 -> -162 | AV70: =L70+N70+(P70*10)+R70+S70+T70+U70+V70+W70 -> 8 | AW70: =AU70+AV70 -> -154 | AX70: =(I70+K70+M70+Q70) -> 8 | AY70: =O70+R70 -> 0
B71: Nguyễn Thị Thùy Ngân | D71: Mĩ thuật | E71: 7 K11 | F71: 7 | I71: =F71+H71 -> 7 | W71: =I71+K71+M71+O71+Q71+R71+S71+T71+U71+V71 -> 7 | AX71: =(I71+K71+M71+Q71) -> 7 | AY71: =O71+R71 -> 0
W72: =I72+K72+M72+O72+Q72+R72+S72+T72+U72+V72 -> 0 | AX72: =(I72+K72+M72+Q72) -> 0 | AY72: =O72+R72 -> 0
W73: =I73+K73+M73+O73+Q73+R73+S73+T73+U73+V73 -> 0 | AX73: =(I73+K73+M73+Q73) -> 0 | AY73: =O73+R73 -> 0
W74: =I74+K74+M74+O74+Q74+R74+S74+T74+U74+V74 -> 0 | AX74: =(I74+K74+M74+Q74) -> 0 | AY74: =O74+R74 -> 0
N76: Cần Đước, ngày tháng năm 2026
O77: HIỆU TRƯỞNG
O83: Nguyễn Minh Triều
A85: Tổng số lớp: 23 lớp. Trong đó chia ra:
B86: Khối 10: GDPT 08 lớp
B87: Khối 11: GDPT 06 lớp, GDTX 01 lớp.
B88: Khối 12: GDPT 07 lớp, GDTX 01 lớp.
A89: Tổng số VC, NLĐ: 45; trong đó: CBQL: 03; GV: 42; Nhân viên: 04,
B90: Hợp đồng theo NĐ 111: 02 bảo vệ.
A92: Công tác chủ nhiệm | H92: Khối 10 (26.27) | M92: Khối 11 (25.26) | P92: Khối 12 (24.25)
A93: Khối 10 | C93: Khối 11 | E93: Khối 12 | H93: Tổ hợp Môn học lựa chọn (04 môn) | I93: Cụm Chuyên đề học tập có môn học lựa chọn (03 chuyên đề) | L93: Số lớp (8) | M93: Tổ hợp Môn học lựa chọn (04 môn) | N93: Cụm Chuyên đề học tập có môn học lựa chọn (03 chuyên đề) | O93: Số lớp (7) | P93: Tổ hợp Môn học lựa chọn (04 môn) | Q93: Cụm Chuyên đề học tập có môn học lựa chọn (03 chuyên đề) | R93: Số lớp (8)
A94: 10A1: | B94: Giang | C94: 11A1: | D94: Tiến | E94: 12A1: | F94: Khanh | H94: Lý, Hóa, Sinh, Công nghệ (T.Kế&CN) | I94: Toán, Lý, Hóa | L94: 10A1, 10A2 | M94: Lý (2), Hóa (2), Sinh (2), Tin học (2) | N94: Toán (1), Lý (1), Hóa (1) | O94: 11A1, 11A2 | P94: Lý (2), Hóa (2), Sinh (2), Tin học (2) | Q94: Toán, Lý (1), Hóa (1) | R94: 12A1,12A2
A95: 10A2: | B95: Ngân | C95: 11A2: | D95: Duyên | E95: 12A2: | F95: Hà | H95: Lý, Hóa, Sinh, Tin học | I95: Toán, Hóa, Sinh | L95: 10B1, 10B2 | M95: Lý (2), Hóa (2), Sinh (2), Công nghệ (2) (trồng trọt) | N95: Toán (1), Hóa(1), Sinh(1) | O95: 11B1, 11B2 | P95: Lý (2), Hóa (2), Sinh (2), Công nghệ (2) (trồng trọt) | Q95: Toán, Lý (1), Hóa (1) | R95: 12A3,12A4
A96: 10B1: | B96: Lài | C96: 11B1: | D96: Tràng | E96: 12A3: | F96: Thảo | H96: Hóa, Sinh, Địa, Giáo dục KT&PL | I96: Văn, Sử, Địa | L96: 10C1 | M96: Lý (2), Tin (2), Địa (2), Giáo dục KT và PL (2) | N96: Văn (1), Sử (1), Địa (1) | O96: 11C1, 11C2 | P96: Lý (2), Hóa (2),Tin (2), Công nghệ (2) (T.Kế&CN) | Q96: Toán, Lý (1), Hóa (1) | R96: 12A5
A97: 10B2: | B97: Thủy | C97: 11B2: | D97: Phong | E97: 12A4: | F97: Tân | H97: Lý, CN(T.Kế&CN), Địa,Giáo dục KT&PL | I97: Văn, Sử, Địa | L97: 10C2 | M97: Địa (2), Giáo dục KT và PL (2), Tin học (2), Lý (2) | N97: Văn (1), Sử (1), Địa (1) | O97: 11C3 | P97: Lý (2), Hóa (2), Địa, Giáo dục KT và PL (2) | Q97: Văn (1), Sử (1), Địa (1) | R97: 12C1,12C2
A98: 10C1: | B98: Tiên | C98: 11C1: | D98: Hải | E98: 12A5: | F98: Khoa | H98: Lý,Tin, Địa, Giáo dục KT&PL | I98: Văn, Sử, Địa | L98: 10C3,10C4 | P98: Địa (2), Giáo dục KT và PL (2), Tin học (2), Công nghệ (2) (T.Kế&CN) | Q98: Văn (1), Sử (1), Địa (1) | R98: 12C3
A99: 10C2: | B99: An | C99: 11C2: | D99: Thoa | E99: 12C1: | F99: Quân
A100: 10C3: | B100: Đào | C100: 11C3: | D100: Thọ | E100: 12C2: | F100: Thạch
A101: 10C4: | B101: Vy | E101: 12C3: | F101: Nhàn
A103: Trải nghiệm HN
A104: Khối 10 | C104: Khối 11 | E104: Khối 12
A105: 10A1: | C105: 11A1: | E105: 12A1:
A106: 10A2: | C106: 11A2: | E106: 12A2:
A107: 10B1: | C107: 11B1: | E107: 12A3:
A108: 10B2: | C108: 11B2: | E108: 12A4:
A109: 10C1: | C109: 11C1: | E109: 12A5:
...

Sheet T2
A1: SỞ GIÁO DỤC VÀ ĐÀO TẠO TÂY NINH | D1: CỘNG HÒA XÃ HỘI CHỦ NGHĨA VIỆT NAM | R1: Tổng số lớp: 23 lớp. Trong đó chia ra:
A2: TRƯỜNG THPT CHU VĂN AN | D2: Độc lập -Tự do - Hạnh phúc | Q2: Khối 10: GDPT 08 lớp
A3: BẢNG PHÂN CÔNG CHUYÊN MÔN NĂM HỌC 2026- 2027- Áp dụng 14.9.2026 (1 tuần)- Tuần 2,3 | Q3: Khối 11: GDPT 06 lớp, GDTX 01 lớp.
Q4: Khối 12: GDPT 07 lớp, GDTX 01 lớp. | AU4: =54-18 -> 36 | AV4: =51-17 -> 34
A5: STT | B5: Họ và tên | C5: Chức vụ/Vị trí công tác | D5: Chuyên môn | E5: DẠY LỚP VÀ KIÊM NHIỆM HK1 | I5: Cộng số tiết dạy lớp và kiêm nhiệm/ tuần | J5: AI | L5: HĐ trải nghiệm- HN | N5: Ôn thi TN THPT HK1 | P5: Giáo dục địa phương | R5: Số tiết quy đổi HK1 | W5: Tổng số tiết/ tuần | X5: Ghi chú | Y5: DẠY LỚP VÀ KIÊM NHIỆM HỌC KỲ 2 | AC5: Cộng số tiết dạy lớp và kiêm nhiệm/ tuần | AD5: HĐ trải nghiệm- HN | AF5: Ôn thi TN THPT HK1 | AH5: Giáo dục địa phương | AJ5: Số tiết quy đổi HK2 | AO5: Tổng số tiết/ tuần | AP5: Ghi chú | AR5: T1-6, | AS5: T7-16 | AT5: T17,18 | AU5: TS tiết tăng HK1 | AV5: TS tiết tăng HK2 | AW5: TS tiết tăng CN | AX5: Tổng số tiết tăng HK1 buổi 1 | AY5: Tổng số tiết tăng HK1 buổi 2
E6: Phân công chuyên môn (Dạy lớp)- HK1 | G6: Công việc kiêm nhiệm (TTCM, TPCM, BTĐTN, P.BTĐTN, CTCĐ, PCTCĐ, BCHCĐ, TTCĐ, TTND, TV, TB, VN, TDTT, C.Nhiệm lớp, TVTL...) | J6: PC lớp | K6: Số tiết | L6: PC lớp | M6: TS tiết | N6: PC lớp dạy ôn thi TN THPT HK1 | O6: TS tiết | P6: PC lớp dạy Giáo dục địa phương | Q6: TS tiết | R6: Số tiết dạy BD HSG (1t dạy trực tiếp=1t quy đổi) | S6: Số tiết BD Hội thao quốc phòng (1t dạy trực tiếp=1t quy đổi) | T6: Số tiết BD Hội khỏe PĐ (1t dạy trực tiếp=1t quy đổi) | U6: Số tiết BD KHKT (1t dạy trực tiếp=1t quy đổi) | V6: Số tiết BGK chấm thi cấp trường (1t dạy trực tiếp=1t quy đổi) | Y6: Phân công chuyên môn (Dạy lớp)- HK2 | AA6: Công việc kiêm nhiệm (TTCM, TPCM, BTĐTN, P.BTĐTN, CTCĐ, PCTCĐ, BCHCĐ, TTCĐ, TTND, TV, TB, VN, TDTT, C.Nhiệm lớp, TVTL...) | AD6: PC lớp | AE6: TS tiết | AF6: PC lớp dạy ôn thi TN THPT HK1 | AG6: TS tiết | AH6: PC lớp dạy Giáo dục địa phương | AI6: TS tiết | AJ6: Số tiết dạy BD HSG (1t dạy trực tiếp=1t quy đổi) | AK6: Số tiết BD Hội thao quốc phòng (1t dạy trực tiếp=1t quy đổi) | AL6: Số tiết BD Hội khỏe PĐ (1t dạy trực tiếp=1t quy đổi) | AM6: Số tiết BD KHKT (1t dạy trực tiếp=1t quy đổi) | AN6: Số tiết BGK chấm thi cấp trường (1t dạy trực tiếp=1t quy đổi) | AR6: Số tiết /tuần | AS6: Số tiết /tuần | AT6: Số tiết /tuần
E7: Dạy lớp (Môn dạy) | F7: Tổng số tiết | G7: Kiêm nhiệm | H7: Số tiết kiêm nhiệm | Y7: Dạy lớp (Môn dạy, HĐTNHN) | Z7: Tổng số tiết | AA7: Kiêm nhiệm | AB7: Số tiết kiêm nhiệm | AS7: Dạy ôn TN | AU7: =SUM(AU10:AU69) -> 522 | AV7: =SUM(AV10:AV69) -> #VALUE! | AW7: =AV7+AU7 -> #VALUE!
A8: 1 | B8: 2 | C8: 3 | D8: 4 | E8: 5 | F8: 6 | G8: 7 | H8: 8 | I8: 9 | J8: 10 | K8: 11 | L8: 12 | M8: 13 | N8: 14 | O8: 15 | P8: 16 | Q8: 16 | R8: 17 | S8: 18 | T8: 19 | U8: 20 | V8: 21 | W8: 22 | X8: 23 | Y8: 23 | Z8: 24 | AA8: 25 | AB8: 26 | AC8: 27 | AD8: 28 | AE8: 29 | AF8: 30 | AG8: 31 | AH8: 32 | AI8: 33 | AJ8: 34 | AK8: 35 | AL8: 36 | AM8: 37 | AN8: 38 | AO8: 39 | AP8: 40
B9: Cán bộ quản lý
A10: 1 | B10: Nguyễn Minh Triều | C10: Hiệu trưởng | D10: Vật lý | G10: HT (15) | H10: 15 | I10: =F10+H10 -> 15 | L10: 10C3 (3) | M10: 3 | W10: =I10+K10+M10+O10+Q10+R10+S10+T10+U10+V10 -> 18 | X10: =W10-17 -> 1 | AA10: HT (15) | AB10: 15 | AC10: =Z10+AB10 -> 15 | AD10: 12B1 (3) | AE10: 3 | AO10: =AC10+AE10+AG10+AI10+AJ10+AK10+AL10+AM10+AN10 -> 18 | AR10: =I10+M10 -> 18 | AS10: =AR10+O10 -> 18 | AT10: =AR10 -> 18 | AU10: =(((I10+M10)*18)-(17*18))+(O10*10)+Q10+R10+S10+T10+U10+V10 -> 18 | AV10: =(((AC10+AE10)*17)-(17*17))+(AG10*17)+AI10+AJ10+AK10+AL10+AM10+AN10 -> 17 | AW10: =AU10+AV10 -> 35 | AX10: =(I10+K10+M10+Q10)-15-2 -> 1 | AY10: =O10+R10 -> 0
A11: 2 | B11: Mã Thành Thái | C11: Phó Hiệu trưởng | D11: Ngữ văn | E11: 10A1 (3); 10C4 (4) | F11: 7 | G11: PHT (13) | H11: 13 | I11: =F11+H11 -> 20 | N11: 0 | O11: 0 | T11: 0 | U11: 0 | V11: 0 | W11: =I11+K11+M11+O11+Q11+R11+S11+T11+U11+V11 -> 20 | X11: =W11-17 -> 3 | Y11: 11C3 (4), 11A4 (3) | Z11: 7 | AA11: PHT (13) | AB11: 13 | AC11: =Z11+AB11 -> 20 | AF11: 0 | AG11: 0 | AJ11: 0 | AK11: 0 | AL11: 0 | AM11: 0 | AN11: 0 | AO11: =AC11+AE11+AG11+AI11+AJ11+AK11+AL11+AM11+AN11 -> 20 | AP11: Cống hiến 01 tiết chính khoá/01 tuần và tiết chấm giám khảo | AR11: =I11+M11 -> 20 | AS11: =AR11+O11 -> 20 | AT11: =AR11 -> 20 | AU11: =(((I11+M11)*18)-(17*18))+(O11*10)+Q11+R11+S11+T11+U11+V11 -> 54 | AV11: =(((AC11+AE11)*17)-(17*17))+(AG11*17)+AI11+AJ11+AK11+AL11+AM11+AN11 -> 51 | AW11: =AU11+AV11 -> 105 | AX11: =(I11+K11+M11+Q11)-13-4 -> 3 | AY11: =O11+R11 -> 0
A12: 3 | B12: Nguyễn Thị Anh Đào | C12: Phó Hiệu trưởng | D12: Hóa học | G12: PHT (13) | H12: 13 | I12: =F12+H12 -> 13 | L12: 12A4 (3), 12A5 (3) | M12: 6 | W12: =I12+K12+M12+O12+Q12+R12+S12+T12+U12+V12 -> 19 | X12: =W12-17 -> 2 | Z12: =N12+P12+R12+T12+U12+V12+W12+X12+Y12 -> 21 | AA12: PHT (13) | AB12: 13 | AC12: =Z12+AB12 -> 34 | AD12: 12B3 (3), 12C1 (3) | AE12: 6 | AO12: =AC12+AE12+AG12+AI12+AJ12+AK12+AL12+AM12+AN12 -> 40 | AR12: =I12+M12 -> 19 | AS12: =AR12+O12 -> 19 | AT12: =AR12 -> 19 | AU12: =(((I12+M12)*18)-(17*18))+(O12*10)+Q12+R12+S12+T12+U12+V12 -> 36 | AV12: =(((AC12+AE12)*17)-(17*17))+(AG12*17)+AI12+AJ12+AK12+AL12+AM12+AN12 -> 391 | AW12: =AU12+AV12 -> 427 | AX12: =(I12+K12+M12+Q12)-13-4 -> 2 | AY12: =O12+R12 -> 0
A13: A | B13: MÔN TOÁN | W13: =I13+K13+M13+O13+Q13+R13+S13+T13+U13+V13 -> 0
A14: 4 | B14: Phạm Duy Phương | C14: Tổ phó CM | D14: Toán | E14: Học TCCT | I14: =F14+H14 -> 0 | W14: =I14+K14+M14+O14+Q14+R14+S14+T14+U14+V14 -> 0 | X14: 0 | Y14: Toán: 10A1 (4), 10A2 (4), 10C1 (3),10C2 (3), 10C3 (3), 11A5 (4), 11C3 (3) | Z14: 24 | AA14: TPCM (1). | AB14: 1 | AC14: =Z14+AB14 -> 25 | AO14: =AC14+AE14+AG14+AI14+AJ14+AK14+AL14+AM14+AN14 -> 25 | AP14: Học TCCT | AR14: =I14+M14 -> 0 | AS14: =AR14+O14 -> 0 | AT14: =AR14 -> 0 | AU14: =(((I14+M14)*18)-(17*18))+(O14*10)+Q14+R14+S14+T14+U14+V14 -> -306 | AV14: =(((AC14+AE14)*17)-(17*17))+(AG14*17)+AI14+AJ14+AK14+AL14+AM14+AN14 -> 136 | AW14: =AU14+AV14 -> -170 | AX14: =(I14+K14+M14+Q14) -> 0 | AY14: =O14+R14 -> 0
A15: 5 | B15: Nguyễn Thị Kim Xuân | C15: Giáo viên | D15: Toán | E15: Toán: 12A1(3), 12A4(3), 10A1(3), 10C1(3), 10B2(3) CĐ Toán: 12A1(1), 12A4(1), 10B2(1) | F15: 19 | H15: 0 | I15: =F15+H15 -> 19 | N15: 12A1 (2), 12A4 (2) | W15: =I15+K15+M15+O15+Q15+R15+S15+T15+U15+V15 -> 19 | X15: =W15-17 -> 2 | Y15: Toán: 11A4 (4), 12B2 (4), 12C1(3). | Z15: 11 | AA15: C.Nhiệm 12C1 (4) | AB15: 4 | AC15: =Z15+AB15 -> 15 | AF15: Toán: 12B2, 12C1 | AG15: 4 | AO15: =AC15+AE15+AG15+AI15+AJ15+AK15+AL15+AM15+AN15 -> 19 | AR15: =I15+M15 -> 19 | AS15: =AR15+O15 -> 19 | AT15: =AR15 -> 19 | AU15: =(((I15+M15)*18)-(17*18))+(O15*10)+Q15+R15+S15+T15+U15+V15 -> 36 | AV15: =(((AC15+AE15)*17)-(17*17))+(AG15*17)+AI15+AJ15+AK15+AL15+AM15+AN15 -> 34 | AW15: =AU15+AV15 -> 70 | AX15: =(I15+K15+M15+Q15)-17 -> 2 | AY15: =O15+R15 -> 0
A16: 6 | B16: Huỳnh Thanh Nhàn | C16: Giáo viên | D16: Toán | E16: Toán: 12C1(3), 12C3(3), 11C1(3), 11C2(3), 11A1(3) CĐ Toán: 11A1(1) | F16: 16 | G16: C.Nhiệm 12C3(4) | H16: 4 | I16: =F16+H16 -> 20 | N16: 12C1 (2), 12C3 (2) | W16: =I16+K16+M16+O16+Q16+R16+S16+T16+U16+V16 -> 20 | X16: =W16-17 -> 3 | Y16: Toán: 12A2 (4), 12B3(4). | Z16: 8 | AA16: C.Nhiệm 12A2 (4), P.BTĐTN (6) | AB16: 10 | AC16: =Z16+AB16 -> 18 | AF16: Toán: 12A2, 12B3 | AG16: 4 | AO16: =AC16+AE16+AG16+AI16+AJ16+AK16+AL16+AM16+AN16 -> 22 | AR16: =I16+M16 -> 20 | AS16: =AR16+O16 -> 20 | AT16: =AR16 -> 20 | AU16: =(((I16+M16)*18)-(17*18))+(O16*10)+Q16+R16+S16+T16+U16+V16 -> 54 | AV16: =(((AC16+AE16)*17)-(17*17))+(AG16*17)+AI16+AJ16+AK16+AL16+AM16+AN16 -> 85 | AW16: =AU16+AV16 -> 139 | AX16: =(I16+K16+M16+Q16)-17 -> 3 | AY16: =O16+R16 -> 0
A17: 7 | B17: Nguyễn Thị Hồng Thảo | C17: Giáo viên | D17: Toán | E17: Toán: 12A3(3), 12A5(3), 10C4(3), 10B1(3) CĐ Toán: 12A3(1), 12A5(1), 10B1(1) | F17: 15 | G17: C.Nhiệm 12A3(4) | H17: 4 | I17: =F17+H17 -> 19 | N17: 12A3 (2), 12A5 (2) | W17: =I17+K17+M17+O17+Q17+R17+S17+T17+U17+V17 -> 19 | X17: =W17-17 -> 2 | Y17: Toán: 11A3(4), 11C1(3), 12A1 (4), 12C2(3). | Z17: 14 | AA17: C.Nhiệm 11A3 (4) | AB17: 4 | AC17: =Z17+AB17 -> 18 | AF17: Toán: 12A1, 12C2 | AG17: 4 | AO17: =AC17+AE17+AG17+AI17+AJ17+AK17+AL17+AM17+AN17 -> 22 | AR17: =I17+M17 -> 19 | AS17: =AR17+O17 -> 19 | AT17: =AR17 -> 19 | AU17: =(((I17+M17)*18)-(17*18))+(O17*10)+Q17+R17+S17+T17+U17+V17 -> 36 | AV17: =(((AC17+AE17)*17)-(17*17))+(AG17*17)+AI17+AJ17+AK17+AL17+AM17+AN17 -> 85 | AW17: =AU17+AV17 -> 121 | AX17: =(I17+K17+M17+Q17)-17 -> 2 | AY17: =O17+R17 -> 0
A18: 8 | B18: Trần Thị Kim Ngân | C18: Giáo viên | D18: Toán | E18: Toán: 11B1(3), 11C3(3), 10A2(3), 10C3(3); 10C2(3) CĐ Toán: 11B1(1), 10A2(1), | F18: 17 | G18: C.Nhiệm 10A2(4) | H18: 4 | I18: =F18+H18 -> 21 | W18: =I18+K18+M18+O18+Q18+R18+S18+T18+U18+V18 -> 21 | X18: =W18-17 -> 4 | Y18: Toán: 11A2(4), 12B1 (4), 12C3(3). | Z18: 11 | AA18: C.Nhiệm 12B1 (4) | AB18: 4 | AC18: =Z18+AB18 -> 15 | AF18: Toán: 12B1, 12C3 | AG18: 4 | AO18: =AC18+AE18+AG18+AI18+AJ18+AK18+AL18+AM18+AN18 -> 19 | AR18: =I18+M18 -> 21 | AS18: =AR18+O18 -> 21 | AT18: =AR18 -> 21 | AU18: =(((I18+M18)*18)-(17*18))+(O18*10)+Q18+R18+S18+T18+U18+V18 -> 72 | AV18: =(((AC18+AE18)*17)-(17*17))+(AG18*17)+AI18+AJ18+AK18+AL18+AM18+AN18 -> 34 | AW18: =AU18+AV18 -> 106 | AX18: =(I18+K18+M18+Q18)-17 -> 4 | AY18: =O18+R18 -> 0
A19: 9 | B19: Võ Nguyên Thạch | C19: Giáo viên | D19: Toán | E19: Toán: 12A2(3), 12C2 (3), 11B2(3), 11A2(3) CĐ Toán: 12A2(1), 11B2(1),11A2(1) | F19: 15 | G19: C.Nhiệm 12C2(4) | H19: 4 | I19: =F19+H19 -> 19 | N19: 12A2 (2), 12C2 (2) | W19: =I19+K19+M19+O19+Q19+R19+S19+T19+U19+V19 -> 19 | X19: =W19-17 -> 2 | Y19: Toán: 10A3(4), 10A4 (4), 11A1 (4), 11C2(3). | Z19: 15 | AA19: C.Nhiệm 11C2 (4) | AB19: 4 | AC19: =Z19+AB19 -> 19 | AO19: =AC19+AE19+AG19+AI19+AJ19+AK19+AL19+AM19+AN19 -> 19 | AR19: =I19+M19 -> 19 | AS19: =AR19+O19 -> 19 | AT19: =AR19 -> 19 | AU19: =(((I19+M19)*18)-(17*18))+(O19*10)+Q19+R19+S19+T19+U19+V19 -> 36 | AV19: =(((AC19+AE19)*17)-(17*17))+(AG19*17)+AI19+AJ19+AK19+AL19+AM19+AN19 -> 34 | AW19: =AU19+AV19 -> 70 | AX19: =(I19+K19+M19+Q19)-17 -> 2 | AY19: =O19+R19 -> 0
A20: B | B20: MÔN TIẾNG ANH | I20: =F20+H20 -> 0 | W20: =I20+K20+M20+O20+Q20+R20+S20+T20+U20+V20 -> 0
A21: 10 | B21: Phạm Thị Thanh Giang | C21: Tổ trưởng CM | D21: Tiếng Anh | E21: 10A2 (3), 10B1(3), 12C1(3), 10A1 (3) | F21: 12 | G21: CN 10A1 (4), TTCM(3) | H21: 7 | I21: =F21+H21 -> 19 | L21: 10A1 (3) | M21: 3 | W21: =I21+K21+M21+O21+Q21+R21+S21+T21+U21+V21 -> 22 | X21: =W21-17 -> 5 | Y21: 10A1 (3) ,10A2(3)10B1(3),12B2(3) | Z21: 12 | AA21: CN10A2(4) TTCM(3) | AB21: 7 | AC21: =Z21+AB21 -> 19 | AO21: =AC21+AE21+AG21+AI21+AJ21+AK21+AL21+AM21+AN21 -> 19 | AR21: =I21+M21 -> 22 | AS21: =AR21+O21 -> 22 | AT21: =AR21 -> 22 | AU21: =(((I21+M21)*18)-(17*18))+(O21*10)+Q21+R21+S21+T21+U21+V21 -> 90 | AV21: =L21+N21+(P21*10)+R21+S21+T21+U21+V21+W21 -> #VALUE! | AW21: =AU21+AV21 -> #VALUE! | AX21: =(I21+K21+M21+Q21)-17 -> 5 | AY21: =O21+R21 -> 0
A22: 11 | B22: Nguyễn Trương Đăng Khoa | C22: Giáo viên | D22: Tiếng Anh | E22: 10C3 (3), 10C1(3), 10C4(3), 12A4(3), 12A5 (3) | F22: 15 | G22: CN 12A5 (4) | H22: 4 | I22: =F22+H22 -> 19 | N22: K12 (2) | W22: =I22+K22+M22+O22+Q22+R22+S22+T22+U22+V22 -> 19 | X22: =W22-17 -> 2 | Y22: 11A5(3),11C1(3), 11C2(3),12A2(3),12B1(3) | Z22: 15 | AA22: CN 11C1(4) | AB22: 4 | AC22: =Z22+AB22 -> 19 | AF22: 12A2,12B | AG22: 2 | AO22: =AC22+AE22+AG22+AI22+AJ22+AK22+AL22+AM22+AN22 -> 21 | AR22: =I22+M22 -> 19 | AS22: =AR22+O22 -> 19 | AT22: =AR22 -> 19 | AU22: =(((I22+M22)*18)-(17*18))+(O22*10)+Q22+R22+S22+T22+U22+V22 -> 36 | AV22: =L22+N22+(P22*10)+R22+S22+T22+U22+V22+W22 -> #VALUE! | AW22: =AU22+AV22 -> #VALUE! | AX22: =(I22+K22+M22+Q22)-17 -> 2 | AY22: =O22+R22 -> 0
A23: 12 | B23: Nguyễn Thị Kim Thoa | C23: Giáo viên | D23: Tiếng Anh | E23: 11B2 (3), 11C1 (3), 11C2 (3), 12A3 (3) | F23: 12 | G23: CN 11C2(4) | H23: 4 | I23: =F23+H23 -> 16 | L23: 11C2 (3) | M23: 3 | W23: =I23+K23+M23+O23+Q23+R23+S23+T23+U23+V23 -> 19 | X23: =W23-17 -> 2 | Y23: 10B2(3), 10C1(3),10C2(3), 12A1(3), 12C2(3) | Z23: 15 | AA23: CN 12C2(4) | AB23: 4 | AC23: =Z23+AB23 -> 19 | AF23: 12A1,12C2 | AG23: 2 | AO23: =AC23+AE23+AG23+AI23+AJ23+AK23+AL23+AM23+AN23 -> 21 | AR23: =I23+M23 -> 19 | AS23: =AR23+O23 -> 19 | AT23: =AR23 -> 19 | AU23: =(((I23+M23)*18)-(17*18))+(O23*10)+Q23+R23+S23+T23+U23+V23 -> 36 | AV23: =L23+N23+(P23*10)+R23+S23+T23+U23+V23+W23 -> #VALUE! | AW23: =AU23+AV23 -> #VALUE! | AX23: =(I23+K23+M23+Q23)-17 -> 2 | AY23: =O23+R23 -> 0
A24: 13 | B24: Lê Thị Hồng Thủy | C24: Giáo viên | D24: Tiếng Anh | E24: 10B2(3), 10C2(3), 12A1(3), 12A2(3) | F24: 12 | G24: CN 10B2(4) | H24: 4 | I24: =F24+H24 -> 16 | L24: 10B2 (3) | M24: 3 | W24: =I24+K24+M24+O24+Q24+R24+S24+T24+U24+V24 -> 19 | X24: =W24-17 -> 2 | Y24: 11A1(3), 11A2(3), 11A3(3), 11A4(3),12B3(3), 12C1(3) | Z24: 18 | AA24: CN 11A2(4) | AB24: 4 | AC24: =Z24+AB24 -> 22 | AO24: =AC24+AE24+AG24+AI24+AJ24+AK24+AL24+AM24+AN24 -> 22 | AR24: =I24+M24 -> 19 | AS24: =AR24+O24 -> 19 | AT24: =AR24 -> 19 | AU24: =(((I24+M24)*18)-(17*18))+(O24*10)+Q24+R24+S24+T24+U24+V24 -> 36 | AV24: =L24+N24+(P24*10)+R24+S24+T24+U24+V24+W24 -> #VALUE! | AW24: =AU24+AV24 -> #VALUE! | AX24: =(I24+K24+M24+Q24)-17 -> 2 | AY24: =O24+R24 -> 0
A25: 14 | B25: Lê Kỳ Duyên | C25: Giáo viên | D25: Tiếng Anh | E25: 11A1(3), 11A2(3),11B1(3),12C2(3) | F25: 12 | G25: CN 11A2(4) | H25: 4 | I25: =F25+H25 -> 16 | L25: 11A2 (3) | M25: 3 | W25: =I25+K25+M25+O25+Q25+R25+S25+T25+U25+V25 -> 19 | X25: =W25-17 -> 2 | AR25: =I25+M25 -> 19 | AT25: =AR25 -> 19 | AX25: =(I25+K25+M25+Q25)-17 -> 2 | AY25: =O25+R25 -> 0
A26: C | B26: MÔN VẬT LÝ | I26: =F26+H26 -> 0 | W26: =I26+K26+M26+O26+Q26+R26+S26+T26+U26+V26 -> 0
A27: 15 | B27: Trần Thanh Tâm | C27: Tổ trưởng CM | D27: Vật lý | E27: Lý: 11A2(2), 11C3(2), 12A4(2), 12C1(2), 12C2(2), 12A1(2) CĐ Lý: 11A2(1), 12A4(1), 12A1(1) | F27: 15 | G27: TTCM (3), CN 12A1(4) | H27: 7 | I27: =F27+H27 -> 22 | N27: 12A4 +C1+C2 (2) | R27: 0 | S27: 0 | T27: 0 | U27: 0 | V27: 0 | W27: =I27+K27+M27+O27+Q27+R27+S27+T27+U27+V27 -> 22 | X27: =W27-17 -> 5 | Y27: 10A2(3), 11A4(3), 11C1(2), 11C2(2), 12A2(3), | Z27: 13 | AA27: TTCM | AB27: 3 | AC27: =Z27+AB27 -> 16 | AD27: 12A2(3) | AE27: 3 | AF27: 12A2 | AG27: 2 | AJ27: 0 | AK27: 0 | AL27: 0 | AM27: 0 | AN27: 0 | AO27: =AC27+AE27+AG27+AI27+AJ27+AK27+AL27+AM27+AN27 -> 21 | AR27: =I27+M27 -> 22 | AS27: =AR27+O27 -> 22 | AT27: =AR27 -> 22 | AU27: =(((I27+M27)*18)-(17*18))+(O27*10)+Q27+R27+S27+T27+U27+V27 -> 90 | AV27: =(((AC27+AE27)*17)-(17*17))+(AG27*17)+AI27+AJ27+AK27+AL27+AM27+AN27 -> 68 | AW27: =AU27+AV27 -> 158 | AX27: =(I27+K27+M27+Q27)-17 -> 5 | AY27: =O27+R27 -> 0
A28: 16 | B28: Trần Tấn Phương | C28: Giáo viên | D28: Vật lý | E28: Lý: 10A1(2), 10B2(2), 10C2(2), 10C3(2), 10C4(2), 12A3(2) CĐ Lý: 12A3(1), 10A1(1) | F28: 14 | G28: TKHĐ(2) | H28: 2 | I28: =F28+H28 -> 16 | J28: 12C1 12C2 | K28: 2 | L28: 12A3 (3) | M28: 3 | N28: 12A3 (2) | R28: 0 | S28: 0 | T28: 0 | U28: 0 | V28: 0 | W28: =I28+K28+M28+O28+Q28+R28+S28+T28+U28+V28 -> 21 | X28: =W28-17 -> 4 | Y28: 10B1(2), 11A3(3), 12A1(3), 12C3(2), | Z28: 10 | AA28: CN 12A1, TKHĐ | AB28: 6 | AC28: =Z28+AB28 -> 16 | AD28: 11C2(3), 12A1(3) | AE28: 6 | AF28: 12A1 | AG28: 2 | AJ28: 0 | AK28: 0 | AL28: 0 | AM28: 0 | AN28: 0 | AO28: =AC28+AE28+AG28+AI28+AJ28+AK28+AL28+AM28+AN28 -> 24 | AR28: =I28+M28 -> 19 | AS28: =AR28+O28 -> 19 | AT28: =AR28 -> 19 | AU28: =(((I28+M28)*18)-(17*18))+(O28*10)+Q28+R28+S28+T28+U28+V28 -> 36 | AV28: =(((AC28+AE28)*17)-(17*17))+(AG28*17)+AI28+AJ28+AK28+AL28+AM28+AN28 -> 119 | AW28: =AU28+AV28 -> 155 | AX28: =(I28+K28+M28+Q28)-17 -> 4 | AY28: =O28+R28 -> 0
A29: 17 | B29: Nguyễn Bùi Yến Khanh | C29: Giáo viên | D29: Vật lý | E29: TCCT | F29: 0 | H29: 0 | I29: =F29+H29 -> 0 | M29: 0 | R29: 0 | S29: 0 | T29: 0 | U29: 0 | V29: 0 | W29: =I29+K29+M29+O29+Q29+R29+S29+T29+U29+V29 -> 0 | X29: 0 | Y29: 10A1(3), 10B2(2), 10C1(2), 10C2(2), 11A2(3); | Z29: 12 | AB29: 0 | AC29: =Z29+AB29 -> 12 | AD29: 11A3(3), 11A4(3) | AE29: 6 | AG29: 0 | AJ29: 0 | AK29: 0 | AL29: 0 | AM29: 0 | AN29: 0 | AO29: =AC29+AE29+AG29+AI29+AJ29+AK29+AL29+AM29+AN29 -> 18 | AR29: =I29+M29 -> 0 | AS29: =AR29+O29 -> 0 | AT29: =AR29 -> 0 | AU29: =(((I29+M29)*18)-(17*18))+(O29*10)+Q29+R29+S29+T29+U29+V29 -> -306 | AV29: =(((AC29+AE29)*17)-(17*17))+(AG29*17)+AI29+AJ29+AK29+AL29+AM29+AN29 -> 17 | AW29: =AU29+AV29 -> -289 | AX29: =(I29+K29+M29+Q29)-17 -> -17 | AY29: =O29+R29 -> 0
A30: 18 | B30: Nguyễn Thị Bé Hà | C30: Giáo viên | D30: Vật lý | E30: Lý: 12A2(2), 10A2(2),10B1(2), 11B2(2) CĐ Lý: 12A2(1), 10A2(1) | F30: 10 | G30: CN 12A2(4) | H30: 4 | I30: =F30+H30 -> 14 | L30: 12A2(3) 12A1(3) | M30: 6 | N30: 12A2 (2) 12A1(2) | R30: 0 | S30: 0 | T30: 0 | U30: 0 | V30: 0 | W30: =I30+K30+M30+O30+Q30+R30+S30+T30+U30+V30 -> 20 | X30: =W30-17 -> 3 | Y30: 11A1(3), 11A5(3), 12B1(2),12B2(2), 12B3(2), | Z30: 12 | AA30: CN 12B2 | AB30: 4 | AC30: =Z30+AB30 -> 16 | AD30: 12B2(3) | AE30: 3 | AF30: 12B2 | AG30: 2 | AJ30: 0 | AK30: 0 | AL30: 0 | AM30: 0 | AN30: 0 | AO30: =AC30+AE30+AG30+AI30+AJ30+AK30+AL30+AM30+AN30 -> 21 | AR30: =I30+M30 -> 20 | AS30: =AR30+O30 -> 20 | AT30: =AR30 -> 20 | AU30: =(((I30+M30)*18)-(17*18))+(O30*10)+Q30+R30+S30+T30+U30+V30 -> 54 | AV30: =(((AC30+AE30)*17)-(17*17))+(AG30*17)+AI30+AJ30+AK30+AL30+AM30+AN30 -> 68 | AW30: =AU30+AV30 -> 122 | AX30: =(I30+K30+M30+Q30)-17 -> 3 | AY30: =O30+R30 -> 0
A31: 19 | B31: Lê Thị Trúc Linh | C31: Giáo viên | D31: Vật lý_Tin | E31: Lý: 11B1(2), 11C1(2); 11C2(2), 12A5(2), 11A1(2) CĐ Lý: 12A5(1), 11A1(1) | F31: 12 | G31: PBT | H31: 6 | I31: =F31+H31 -> 18 | L31: 10C2(3) | M31: 3 | N31: 12A5(2) | R31: 0 | S31: 0 | T31: 0 | U31: 0 | V31: 0 | W31: =I31+K31+M31+O31+Q31+R31+S31+T31+U31+V31 -> 21 | X31: =W31-17 -> 4 | Y31: 10A1(3), 10B2(2), 10C1(2), 10C2(2), 11A2(3); | Z31: 12 | AA31: CN 10C1: Phó BT | AB31: 10 | AC31: =Z31+AB31 -> 22 | AD31: 10C1(3) | AE31: 3 | AF31: 0 | AG31: 0 | AJ31: 0 | AK31: 0 | AL31: 0 | AM31: 0 | AN31: 0 | AO31: =AC31+AE31+AG31+AI31+AJ31+AK31+AL31+AM31+AN31 -> 25 | AR31: =I31+M31 -> 21 | AS31: =AR31+O31 -> 21 | AT31: =AR31 -> 21 | AU31: =(((I31+M31)*18)-(17*18))+(O31*10)+Q31+R31+S31+T31+U31+V31 -> 72 | AV31: =(((AC31+AE31)*17)-(17*17))+(AG31*17)+AI31+AJ31+AK31+AL31+AM31+AN31 -> 136 | AW31: =AU31+AV31 -> 208 | AX31: =(I31+K31+M31+Q31)-17 -> 4 | AY31: =O31+R31 -> 0
A32: D | B32: MÔN CÔNG NGHỆ | I32: =F32+H32 -> 0 | W32: =I32+K32+M32+O32+Q32+R32+S32+T32+U32+V32 -> 0
A33: 20 | B33: Phạm Thanh Phong | C33: TPCM | D33: Công nghệ | E33: 11B1(2), 11B2 (2), 12A3(2), 12A4(2) | F33: 8 | G33: CN 11B2 (4); TP (1) | H33: 5 | I33: =F33+H33 -> 13 | L33: 11B2(3), 11C1 (3) | M33: 6 | N33: 0 | O33: 0 | R33: 0 | S33: 0 | T33: 0 | U33: 0 | V33: 0 | W33: =I33+K33+M33+O33+Q33+R33+S33+T33+U33+V33 -> 19 | X33: =W33-17 -> 2 | Y33: 10B1(2), 10B2 (2), 11A3(2), 11A4(2); | Z33: 8 | AA33: CN 11A4 (4); TP (1) | AB33: 5 | AC33: =Z33+AB33 -> 13 | AD33: 10B1(3), 10B2(3) | AE33: 6 | AF33: 0 | AG33: 0 | AJ33: 0 | AK33: 0 | AL33: 0 | AM33: 0 | AN33: 0 | AO33: =AC33+AE33+AG33+AI33+AJ33+AK33+AL33+AM33+AN33 -> 19 | AR33: =I33+M33 -> 19 | AS33: =AR33+O33 -> 19 | AT33: =AR33 -> 19 | AU33: =(((I33+M33)*18)-(17*18))+(O33*10)+Q33+R33+S33+T33+U33+V33 -> 36 | AV33: =L33+N33+(P33*10)+R33+S33+T33+U33+V33+W33 -> #VALUE! | AW33: =AU33+AV33 -> #VALUE! | AX33: =(I33+K33+M33+Q33)-17 -> 2 | AY33: =O33+R33 -> 0
A34: 21 | B34: Nguyễn Trường An | C34: Giáo viên | D34: Công nghệ | E34: 12A5(2), 12C3 (2), 10A1(2), 10A2(2), 10C2(2) | F34: 10 | G34: CN 10C2 (4), TB (3) | H34: 7 | I34: =F34+H34 -> 17 | J34: 10C2 | K34: 1 | N34: 0 | O34: 0 | R34: 0 | S34: 0 | T34: 0 | U34: 0 | V34: 0 | W34: =I34+K34+M34+O34+Q34+R34+S34+T34+U34+V34 -> 18 | X34: =W34-17 -> 1 | Y34: 11A5(2), 11C3 (2), 12B1(2), 12B2(2), 12B3(2), | Z34: 10 | AA34: CN 11A5, TB (3) | AB34: 7 | AC34: =Z34+AB34 -> 17 | AD34: 11A5(3) | AE34: 3 | AF34: 0 | AG34: 0 | AJ34: 0 | AK34: 0 | AL34: 0 | AM34: 0 | AN34: 0 | AO34: =AC34+AE34+AG34+AI34+AJ34+AK34+AL34+AM34+AN34 -> 20 | AR34: =I34+M34 -> 17 | AS34: =AR34+O34 -> 17 | AT34: =AR34 -> 17 | AU34: =(((I34+M34)*18)-(17*18))+(O34*10)+Q34+R34+S34+T34+U34+V34 -> 0 | AV34: =L34+N34+(P34*10)+R34+S34+T34+U34+V34+W34 -> 18 | AW34: =AU34+AV34 -> 18 | AX34: =(I34+K34+M34+Q34)-17 -> 1 | AY34: =O34+R34 -> 0
A35: E | B35: MÔN HÓA HỌC | I35: =F35+H35 -> 0 | W35: =I35+K35+M35+O35+Q35+R35+S35+T35+U35+V35 -> 0
A36: 22 | B36: Trần Lê Tấn Đức | C36: Tổ trưởng CM | D36: Hóa học | E36: Hóa: 11A1(2), 11A2(2), 11B1(2), 11B2(2), 12A1(2); CĐ Hóa: 11A1(1), 11A2(1), 11B1(1), 11B2(1), 12A1(1) | F36: 15 | G36: TTCM(3) | H36: 3 | I36: =F36+H36 -> 18 | N36: 12A1 (2) | W36: =I36+K36+M36+O36+Q36+R36+S36+T36+U36+V36 -> 18 | X36: =W36-17 -> 1 | Y36: 11A1(3), 11A2(3), 11A3(3), 11A5(3), 12B1(3) | Z36: 17 | AA36: TTCM(3) | AB36: 3 | AC36: =Z36+AB36 -> 20 | AF36: 12B1(2) | AG36: 2 | AO36: =AC36+AE36+AG36+AI36+AJ36+AK36+AL36+AM36+AN36 -> 22 | AR36: =I36+M36 -> 18 | AS36: =AR36+O36 -> 18 | AT36: =AR36 -> 18 | AU36: =(((I36+M36)*18)-(17*18))+(O36*10)+Q36+R36+S36+T36+U36+V36 -> 18 | AV36: =L36+N36+(P36*10)+R36+S36+T36+U36+V36+W36 -> #VALUE! | AW36: =AU36+AV36 -> #VALUE! | AX36: =(I36+K36+M36+Q36)-17 -> 1 | AY36: =O36+R36 -> 0
A37: 23 | B37: Nguyễn Hữu Tân | C37: Giáo viên | D37: Hóa học | E37: Hóa: 10B1(2), 10B2 (2), 12A2(2), 12A4(2), 10C1(2), CĐ Hóa: 10B1(1), 10B2(1), 12A2(1), 12A4(1) | F37: 14 | G37: CN 12A4 (4) | H37: 4 | I37: =F37+H37 -> 18 | N37: 12A2 (2), 12A4(2) | W37: =I37+K37+M37+O37+Q37+R37+S37+T37+U37+V37 -> 18 | X37: =W37-17 -> 1 | Y37: 11A4(3), 11C1(2), 11C2(2), 12A1(3),12A2(3), 12B2(3) | Z37: 16 | AC37: =Z37+AB37 -> 16 | AF37: 12A1,A2(2), 12B2(2), | AG37: 4 | AO37: =AC37+AE37+AG37+AI37+AJ37+AK37+AL37+AM37+AN37 -> 20 | AR37: =I37+M37 -> 18 | AS37: =AR37+O37 -> 18 | AT37: =AR37 -> 18 | AU37: =(((I37+M37)*18)-(17*18))+(O37*10)+Q37+R37+S37+T37+U37+V37 -> 18 | AV37: =L37+N37+(P37*10)+R37+S37+T37+U37+V37+W37 -> #VALUE! | AW37: =AU37+AV37 -> #VALUE! | AX37: =(I37+K37+M37+Q37)-17 -> 1 | AY37: =O37+R37 -> 0
A38: 24 | B38: Ung Nguyễn Thị Thùy Dương | C38: Giáo viên | D38: Hóa học | E38: Hóa: 10A1(2), 10A2(2), 12A3(2), 12A5(2), 12C2(2); 12C1(2), CĐ Hóa: 10A1(1), 10A2(1), 12A3(1), 12A5(1) | F38: 16 | I38: =F38+H38 -> 16 | N38: 12A3+ 12C1+12C2 (2), 12A4(2) | W38: =I38+K38+M38+O38+Q38+R38+S38+T38+U38+V38 -> 16 | X38: =W38-17 -> -1 | Y38: 10A1(3), 10A2(3), 10B1(3), 10B2(3), 12B3(3), 12C1(2), 12C2(2) | Z38: 19 | AC38: =Z38+AB38 -> 19 | AF38: 12B3(2) | AG38: 2 | AO38: =AC38+AE38+AG38+AI38+AJ38+AK38+AL38+AM38+AN38 -> 21 | AR38: =I38+M38 -> 16 | AS38: =AR38+O38 -> 16 | AT38: =AR38 -> 16 | AU38: =(((I38+M38)*18)-(17*18))+(O38*10)+Q38+R38+S38+T38+U38+V38 -> -18 | AV38: =L38+N38+(P38*10)+R38+S38+T38+U38+V38+W38 -> #VALUE! | AW38: =AU38+AV38 -> #VALUE! | AX38: =(I38+K38+M38+Q38)-17 -> -1 | AY38: =O38+R38 -> 0
A39: G | B39: MÔN SINH | I39: =F39+H39 -> 0 | W39: =I39+K39+M39+O39+Q39+R39+S39+T39+U39+V39 -> 0
A40: 25 | B40: Ngô Thị Đông Tràng | C40: Tổ phó CM | D40: Sinh học | E40: 10A1(2), 10B2(2), 10C1(2), 11B1(2); CĐ Sinh: 10B2(1), 11B1(1) | F40: 10 | G40: CN 11B1(4); Tổ phó (1) | H40: 5 | I40: =F40+H40 -> 15 | J40: 10A1, 10B2, 10C1, 11B1 | K40: 4 | L40: 11B1(3) | M40: 3 | W40: =I40+K40+M40+O40+Q40+R40+S40+T40+U40+V40 -> 22 | X40: =W40-17 -> 5 | Y40: 10B1 (3), 12B1 (3), 12B2 (3), 12B3 (3) | Z40: 12 | AA40: CN 10B1 (4); tổ phó (1) | AB40: 5 | AC40: =Z40+AB40 -> 17 | AF40: 12A1 12B2 12B3(2), 12B1 (2) | AG40: 4 | AO40: =AC40+AE40+AG40+AI40+AJ40+AK40+AL40+AM40+AN40 -> 21 | AR40: =I40+M40 -> 18 | AS40: =AR40+O40 -> 18 | AT40: =AR40 -> 18 | AU40: =(((I40+M40)*18)-(17*18))+(O40*10)+Q40+R40+S40+T40+U40+V40 -> 18 | AV40: =L40+N40+(P40*10)+R40+S40+T40+U40+V40+W40 -> #VALUE! | AW40: =AU40+AV40 -> #VALUE! | AX40: =(I40+K40+M40+Q40)-17 -> 5 | AY40: =O40+R40 -> 0
A41: 26 | B41: Phạm Thị Thu | C41: Giáo viên | D41: Sinh học | E41: 11A1(2), 11A2(2), 11B2(2), 12A1 (2), 12A2 (2); CĐ Sinh: 11B2(1) | F41: 11 | I41: =F41+H41 -> 11 | J41: 11A1, 11A2, 11B2, 12A1, 12A2 | K41: 5 | L41: 11A1 (3), 10A2 (3) | M41: 6 | W41: =I41+K41+M41+O41+Q41+R41+S41+T41+U41+V41 -> 22 | X41: =W41-17 -> 5 | Y41: 10A1 (2), 10A2 (2), 10B2 (3), 11A3 (2), 11A4 (2), | Z41: 11 | AA41: TV (3) | AB41: 3 | AC41: =Z41+AB41 -> 14 | AD41: 11A2 (3) | AE41: 3 | AO41: =AC41+AE41+AG41+AI41+AJ41+AK41+AL41+AM41+AN41 -> 17 | AR41: =I41+M41 -> 17 | AS41: =AR41+O41 -> 17 | AT41: =AR41 -> 17 | AU41: =(((I41+M41)*18)-(17*18))+(O41*10)+Q41+R41+S41+T41+U41+V41 -> 0 | AV41: =L41+N41+(P41*10)+R41+S41+T41+U41+V41+W41 -> #VALUE! | AW41: =AU41+AV41 -> #VALUE! | AX41: =(I41+K41+M41+Q41)-17 -> 5 | AY41: =O41+R41 -> 0
A42: 27 | B42: Trương Thị Lài | C42: Giáo viên | D42: Sinh học | E42: 10A2(2), 10B1(2), 12A3(2), 12A4(2); CĐ 10B1(1) | F42: 9 | G42: CN10B1 (4) | H42: 4 | I42: =F42+H42 -> 13 | J42: 10A2, 10B1, 12A3, 12A4 | K42: 4 | L42: 10B1 (3) | M42: 3 | W42: =I42+K42+M42+O42+Q42+R42+S42+T42+U42+V42 -> 20 | X42: =W42-17 -> 3 | Y42: 11A1 (2), 11A2 (2), 12A1 (2), 12A2 (2), 12C1 (2), 12C2 (2), | Z42: 12 | AA42: CN 11A1 (4) | AB42: 4 | AC42: =Z42+AB42 -> 16 | AD42: 11A1 (3) | AE42: 3 | AO42: =AC42+AE42+AG42+AI42+AJ42+AK42+AL42+AM42+AN42 -> 19 | AR42: =I42+M42 -> 16 | AS42: =AR42+O42 -> 16 | AT42: =AR42 -> 16 | AU42: =(((I42+M42)*18)-(17*18))+(O42*10)+Q42+R42+S42+T42+U42+V42 -> -18 | AV42: =L42+N42+(P42*10)+R42+S42+T42+U42+V42+W42 -> #VALUE! | AW42: =AU42+AV42 -> #VALUE! | AX42: =(I42+K42+M42+Q42)-17 -> 3 | AY42: =O42+R42 -> 0
A43: H | B43: MÔN GD KT- PL | I43: =F43+H43 -> 0 | W43: =I43+K43+M43+O43+Q43+R43+S43+T43+U43+V43 -> 0
A44: 28 | B44: Đỗ Nguyễn Hoàng Thúy Vy | C44: Giáo viên | D44: GDKT &PL | E44: 12C1(2), 12C2(2), 12C3(2); 10C3 (2), 10C4 (2) | F44: 10 | G44: CN 10C4 (4) | H44: 4 | I44: =F44+H44 -> 14 | L44: 10C4 (3) | M44: 3 | P44: 10A1 (1), 10A2 (1), 10C3 (1), 10C4 (1) | W44: =I44+K44+M44+O44+Q44+R44+S44+T44+U44+V44 -> 17 | X44: =W44-17 -> 0 | Y44: 10C3 (2), 11C1 (2), 11C2 (2), 11C3 (2) | Z44: 8 | AA44: 11C3 (4) | AB44: 4 | AC44: =Z44+AB44 -> 12 | AD44: 11C1 (3), 11C3 (3) | AE44: 6 | AO44: =AC44+AE44+AG44+AI44+AJ44+AK44+AL44+AM44+AN44 -> 18 | AP44: Cả năm: - 107 tiết | AR44: =I44+M44 -> 17 | AS44: =AR44+O44 -> 17 | AT44: =AR44 -> 17 | AU44: =(((I44+M44)*18)-(17*18))+(O44*10)+Q44+R44+S44+T44+U44+V44 -> 0 | AV44: =(((AC44+AE44)*17)-(17*17))+(AG44*17)+AI44+AJ44+AK44+AL44+AM44+AN44 -> 17 | AW44: =AU44+AV44 -> 17 | AX44: =(I44+K44+M44+Q44)-17 -> 0 | AY44: =O44+R44 -> 0
A45: 29 | B45: Đinh Ngọc Mỹ Tiên | C45: Giáo viên | D45: GDKT &PL | E45: 10C1(2), 10C2(2); 11C1(2), 11C2(2), 11C3 (2) | F45: 10 | G45: CN 10C1 (4) | H45: 4 | I45: =F45+H45 -> 14 | L45: 10C1 (3) | M45: 3 | P45: 10B1 (1), 10B2 (1), 10C1(1), 10C2(1); | W45: =I45+K45+M45+O45+Q45+R45+S45+T45+U45+V45 -> 17 | X45: =W45-17 -> 0 | AX45: =(I45+K45+M45+Q45)-17 -> 0 | AY45: =O45+R45 -> 0
A46: I | B46: NGỮ VĂN | I46: =F46+H46 -> 0 | W46: =I46+K46+M46+O46+Q46+R46+S46+T46+U46+V46 -> 0
A47: 30 | B47: Trần Xuân Trường | C47: Tổ trưởng CM | D47: Ngữ văn | E47: 12A2 (3), 12A3 (3), 12A4 (3), 11B1 (3);11C2(4) | F47: 16 | G47: TTCM (3) | H47: 3 | I47: =F47+H47 -> 19 | N47: 12A2 (2), 12A3 (2), 12A4 (2) | R47: 0 | S47: 0 | T47: 0 | U47: 0 | V47: 0 | W47: =I47+K47+M47+O47+Q47+R47+S47+T47+U47+V47 -> 19 | X47: =W47-17 -> 2 | AC47: =Z47+AB47 -> 0 | AJ47: 0 | AK47: 0 | AL47: 0 | AM47: 0 | AO47: =AC47+AE47+AG47+AI47+AJ47+AK47+AL47+AM47+AN47 -> 0 | AR47: =I47+M47 -> 19 | AS47: =AR47+O47 -> 19 | AT47: =AR47 -> 19 | AU47: =(((I47+M47)*18)-(17*18))+(O47*10)+Q47+R47+S47+T47+U47+V47 -> 36 | AV47: =L47+N47+(P47*10)+R47+S47+T47+U47+V47+W47 -> #VALUE! | AW47: =AU47+AV47 -> #VALUE! | AX47: =(I47+K47+M47+Q47)-17 -> 2 | AY47: =O47+R47 -> 0
A48: 31 | B48: Nguyễn Thị Hồng Vân | C48: Giáo viên | D48: Ngữ văn | E48: 10A2 (3), 10B1 (3), 10B2 (3), 10C1 (4),12C2(4), 12C1 (4) | F48: 21 | G48: 0 | H48: 0 | I48: =F48+H48 -> 21 | N48: 12C1 (2), 12C2 (2) | R48: 0 | S48: 0 | T48: 0 | U48: 0 | V48: 0 | W48: =I48+K48+M48+O48+Q48+R48+S48+T48+U48+V48 -> 21 | X48: =W48-17 -> 4 | AC48: =Z48+AB48 -> 0 | AJ48: 0 | AK48: 0 | AL48: 0 | AM48: 0 | AN48: 0 | AO48: =AC48+AE48+AG48+AI48+AJ48+AK48+AL48+AM48+AN48 -> 0 | AR48: =I48+M48 -> 21 | AS48: =AR48+O48 -> 21 | AT48: =AR48 -> 21 | AU48: =(((I48+M48)*18)-(17*18))+(O48*10)+Q48+R48+S48+T48+U48+V48 -> 72 | AV48: =L48+N48+(P48*10)+R48+S48+T48+U48+V48+W48 -> #VALUE! | AW48: =AU48+AV48 -> #VALUE! | AX48: =(I48+K48+M48+Q48)-17 -> 4 | AY48: =O48+R48 -> 0
A49: 32 | B49: Trịnh Thị Ngọc Hân | C49: Giáo viên | D49: Ngữ văn | E49: 11A2 (3), 11C1 (4), 12A5 (3), 10C2 (4), 12C3 (4) | F49: 18 | G49: 0 | H49: 0 | I49: =F49+H49 -> 18 | N49: 12A5 (2), 12C3 (2) | R49: 0 | S49: 0 | T49: 0 | U49: 0 | V49: 0 | W49: =I49+K49+M49+O49+Q49+R49+S49+T49+U49+V49 -> 18 | X49: =W49-17 -> 1 | AC49: =Z49+AB49 -> 0 | AJ49: 0 | AK49: 0 | AL49: 0 | AM49: 0 | AN49: 0 | AO49: =AC49+AE49+AG49+AI49+AJ49+AK49+AL49+AM49+AN49 -> 0 | AR49: =I49+M49 -> 18 | AS49: =AR49+O49 -> 18 | AT49: =AR49 -> 18 | AU49: =(((I49+M49)*18)-(17*18))+(O49*10)+Q49+R49+S49+T49+U49+V49 -> 18 | AV49: =L49+N49+(P49*10)+R49+S49+T49+U49+V49+W49 -> #VALUE! | AW49: =AU49+AV49 -> #VALUE! | AX49: =(I49+K49+M49+Q49)-17 -> 1 | AY49: =O49+R49 -> 0
A50: 33 | B50: Võ Thị Kiều Trang | C50: Giáo viên | D50: Ngữ văn | E50: NGHỈ HẬU SẢN | I50: =F50+H50 -> 0 | R50: 0 | S50: 0 | T50: 0 | U50: 0 | V50: 0 | W50: =I50+K50+M50+O50+Q50+R50+S50+T50+U50+V50 -> 0 | X50: =W50 -> 0 | AC50: =Z50+AB50 -> 0 | AJ50: 0 | AK50: 0 | AL50: 0 | AM50: 0 | AO50: =AC50+AE50+AG50+AI50+AJ50+AK50+AL50+AM50+AN50 -> 0 | AP50: Cống hiến 02 tiết chấm giám khảo | AR50: =I50+M50 -> 0 | AS50: =AR50+O50 -> 0 | AT50: =AR50 -> 0 | AU50: =(((I50+M50)*18)-(17*18))+(O50*10)+Q50+R50+S50+T50+U50+V50 -> -306 | AV50: =L50+N50+(P50*10)+R50+S50+T50+U50+V50+W50 -> 0 | AW50: =AU50+AV50 -> -306 | AX50: =(I50+K50+M50+Q50) -> 0 | AY50: =O50+R50 -> 0 | AZ50: Thai sản
A51: 34 | B51: Nguyễn Thị Như Huỳnh | C51: Giáo viên | D51: Ngữ văn | E51: 10C3 (4), 11B2 (3), 11C3 (4), 12A1 (3), 11A1(3) | F51: 17 | I51: =F51+H51 -> 17 | N51: 12A1 (2) | W51: =I51+K51+M51+O51+Q51+R51+S51+T51+U51+V51 -> 17 | X51: =W51-17 -> 0 | AX51: =(I51+K51+M51+Q51)-17 -> 0 | AY51: =O51+R51 -> 0
A52: K | B52: MÔN ĐỊA LÍ | I52: =F52+H52 -> 0 | W52: =I52+K52+M52+O52+Q52+R52+S52+T52+U52+V52 -> 0
A53: 35 | B53: Nguyễn Văn Hiện | C53: Tổ phó CM | D53: Địa lý | E53: 10C2 (2), 10C4 (2), 11C1 (2), 12C3 (2). CĐ Địa:10C2 (1), 10C4 (1), 11C1 (1), 12C3 (1). | F53: 12 | G53: TPCM (1) | H53: 1 | I53: =F53+H53 -> 13 | L53: 12C3(3) | M53: 3 | N53: 12C3 (2) | P53: 12C3, 12A1, 12A2, 10C2, 10C4, 11C1, 11A1, 11A2 | R53: 0 | S53: 0 | T53: 0 | U53: 0 | V53: 0 | W53: =I53+K53+M53+O53+Q53+R53+S53+T53+U53+V53 -> 16 | X53: =W53-17 -> -1 | Y53: 10C1 (3), 10C2 (3), 10C3 (3), 11C2 (3), 12C2 (3) | Z53: 15 | AA53: TPCM(1) | AB53: 1 | AC53: =Z53+AB53 -> 16 | AF53: 12C2 (2) | AG53: 2 | AJ53: 0 | AK53: 0 | AL53: 0 | AM53: 0 | AN53: 0 | AO53: =AC53+AE53+AG53+AI53+AJ53+AK53+AL53+AM53+AN53 -> 18 | AR53: =I53+M53 -> 16 | AS53: =AR53+O53 -> 16 | AT53: =AR53 -> 16 | AU53: =(((I53+M53)*18)-(17*18))+(O53*10)+Q53+R53+S53+T53+U53+V53 -> -18 | AV53: =L53+N53+(P53*10)+R53+S53+T53+U53+V53+W53 -> #VALUE! | AW53: =AU53+AV53 -> #VALUE! | AX53: =(I53+K53+M53+Q53)-17 -> -1 | AY53: =O53+R53 -> 0
A54: 36 | B54: Nguyễn Thanh Quân | C54: Giáo viên | D54: Địa lý | E54: 11C2 (2), 11C3 (2), 12C1 (2); CĐ Địa: 11C2 (1), 11C3 (1), 12C1 (1) | F54: 9 | G54: CN 12C1 (4) | H54: 4 | I54: =F54+H54 -> 13 | L54: 12C1 (3) | M54: 3 | N54: 12C1 (2) | P54: 12C1, 12A3, 12A4, 10A2, 10B1, 10B2, 11C2, 11C3 | R54: 0 | S54: 0 | T54: 0 | U54: 0 | V54: 0 | W54: =I54+K54+M54+O54+Q54+R54+S54+T54+U54+V54 -> 16 | X54: =W54-17 -> -1 | Y54: 11C1 (3), 11C3 (3), 12C1 (3), 12C3 (3); | Z54: 12 | AA54: CN 12C3 (4) | AB54: 4 | AC54: =Z54+AB54 -> 16 | AD54: 12C3 (3) | AE54: 3 | AF54: 12C1 (2), 12C3 (2) | AG54: 4 | AJ54: 0 | AK54: 0 | AL54: 0 | AM54: 0 | AN54: 0 | AO54: =AC54+AE54+AG54+AI54+AJ54+AK54+AL54+AM54+AN54 -> 23 | AR54: =I54+M54 -> 16 | AS54: =AR54+O54 -> 16 | AT54: =AR54 -> 16 | AU54: =(((I54+M54)*18)-(17*18))+(O54*10)+Q54+R54+S54+T54+U54+V54 -> -18 | AV54: =L54+N54+(P54*10)+R54+S54+T54+U54+V54+W54 -> #VALUE! | AW54: =AU54+AV54 -> #VALUE! | AX54: =(I54+K54+M54+Q54)-17 -> -1 | AY54: =O54+R54 -> 0
A55: 37 | B55: Trần Song Hồng Đào | C55: Giáo viên | D55: Địa lý | E55: 10C1 (2), 10C3 (2), 12C2 (2). CĐ Địa: 10C1 (1), 10C3 (1), 12C2 (1). | F55: 9 | G55: CN 10C3 (4) | H55: 4 | I55: =F55+H55 -> 13 | L55: l2C2 (3) | M55: 3 | N55: 12C2 (2) | P55: 12C2, 12A5, 10C1, 10C3, 10A1, 11B1, 11B2 | W55: =I55+K55+M55+O55+Q55+R55+S55+T55+U55+V55 -> 16 | X55: =W55-17 -> -1 | AX55: =(I55+K55+M55+Q55)-17 -> -1 | AY55: =O55+R55 -> 0
A56: L | B56: MÔN GDTC | I56: =F56+H56 -> 0 | N56: =N56 -> 0 | W56: =I56+K56+M56+O56+Q56+R56+S56+T56+U56+V56 -> 0
A57: 38 | B57: Nguyễn Văn En | C57: Tổ trưởng CM | D57: GDTC | E57: 10B1(2),10B2(2),10C1(2),11B1(2),11B2(2),10C2(2),12A2(2),12A3(2) | F57: 16 | G57: TTCM(3) | H57: 3 | I57: =F57+H57 -> 19 | W57: =I57+K57+M57+O57+Q57+R57+S57+T57+U57+V57 -> 19 | X57: =W57-17 -> 2 | Y57: 10B1(2),10B2(2),11A4(2),11A5(2),12A1(2),12A2(2),12B3(2) | Z57: 14 | AA57: TTCM(3) | AB57: 3 | AC57: =Z57+AB57 -> 17 | AD57: 10A1 (3) | AE57: 3 | AO57: =AC57+AE57+AG57+AI57+AJ57+AK57+AL57+AM57+AN57 -> 20 | AR57: =I57+M57 -> 19 | AS57: =AR57+O57 -> 19 | AT57: =AR57 -> 19 | AU57: =(((I57+M57)*18)-(17*18))+(O57*10)+Q57+R57+S57+T57+U57+V57 -> 36 | AV57: =L57+N57+(P57*10)+R57+S57+T57+U57+V57+W57 -> 19 | AW57: =AU57+AV57 -> 55 | AX57: =(I57+K57+M57+Q57)-17 -> 2 | AY57: =O57+R57 -> 0
A58: 39 | B58: Phạm Hồng Hải | C58: Giáo viên | D58: GDTC | E58: 10C3(2),10C4(2),11C1(2),11C2(2)12A4(2),12A5(2) | F58: 12 | G58: CN 11C1 (4); TVTL (4) | H58: 8 | I58: =F58+H58 -> 20 | W58: =I58+K58+M58+O58+Q58+R58+S58+T58+U58+V58 -> 20 | X58: =W58-17 -> 3 | Y58: 10C1(2),10C2(2),11A2(2),11A3(2)12B1(2),12B2(2) | Z58: 12 | AA58: TVTL(4) | AB58: 4 | AC58: =Z58+AB58 -> 16 | AD58: 10A2 (3) | AE58: 3 | AO58: =AC58+AE58+AG58+AI58+AJ58+AK58+AL58+AM58+AN58 -> 19 | AR58: =I58+M58 -> 20 | AS58: =AR58+O58 -> 20 | AT58: =AR58 -> 20 | AU58: =(((I58+M58)*18)-(17*18))+(O58*10)+Q58+R58+S58+T58+U58+V58 -> 54 | AV58: =L58+N58+(P58*10)+R58+S58+T58+U58+V58+W58 -> 20 | AW58: =AU58+AV58 -> 74 | AX58: =(I58+K58+M58+Q58)-17 -> 3 | AY58: =O58+R58 -> 0
A59: 40 | B59: Trần Hồ Minh Tiến | C59: Giáo viên | D59: GDTC | E59: 10A1(2),10A2(2),12A1(2),11A1(2),11A2(2),12C1(2),12C2(2) | F59: 14 | G59: CN 11A1(4) | H59: 4 | I59: =F59+H59 -> 18 | W59: =I59+K59+M59+O59+Q59+R59+S59+T59+U59+V59 -> 18 | X59: =W59-17 -> 1 | Y59: 10A1(2),10A2(2),11A1(2),11C1(2)11C2(2),12C1(2),12C2(2) | Z59: 14 | AA59: CN 10A1(4) | AB59: 4 | AC59: =Z59+AB59 -> 18 | AO59: =AC59+AE59+AG59+AI59+AJ59+AK59+AL59+AM59+AN59 -> 18 | AR59: =I59+M59 -> 18 | AS59: =AR59+O59 -> 18 | AT59: =AR59 -> 18 | AU59: =(((I59+M59)*18)-(17*18))+(O59*10)+Q59+R59+S59+T59+U59+V59 -> 18 | AV59: =L59+N59+(P59*10)+R59+S59+T59+U59+V59+W59 -> 18 | AW59: =AU59+AV59 -> 36 | AX59: =(I59+K59+M59+Q59)-17 -> 1 | AY59: =O59+R59 -> 0
A60: M | B60: MÔN GDQP-AN | I60: =F60+H60 -> 0 | W60: =I60+K60+M60+O60+Q60+R60+S60+T60+U60+V60 -> 0
A61: 41 | B61: Nguyễn Thị Thu Hằng | C61: Giáo viên | D61: GDQP &AN | E61: 10A1(1),10A2(1),10B1(1),10B2(1),10C1(1),10C2(1),10C3,10C4,11A1(1),11A2(1),11B1(1),11B2(1),11C1(1),11C2(1),12A1(1),12A2(1),12A3(1),12A4(1),12A5(1),12C1(1),12C2(1) | F61: 21 | I61: =F61+H61 -> 21 | W61: =I61+K61+M61+O61+Q61+R61+S61+T61+U61+V61 -> 21 | X61: =W61-17 -> 4 | Y61: 10A1(1),10A2(1),10B1(1),10B2(1),10C1(1),10C2(1),11A1(1),11A2(1),11A3(1),11A4(1),11A5(1),11C1(1),11C2(1),12A1(1),12A2(1),12B1(1),12B2(1),12B3(1),12C1(1),12C2(1) | Z61: 20 | AC61: =Z61+AB61 -> 20 | AO61: =AC61+AE61+AG61+AI61+AJ61+AK61+AL61+AM61+AN61 -> 20 | AR61: =I61+M61 -> 21 | AS61: =AR61+O61 -> 21 | AT61: =AR61 -> 21 | AU61: =(((I61+M61)*18)-(17*18))+(O61*10)+Q61+R61+S61+T61+U61+V61 -> 72 | AV61: =L61+N61+(P61*10)+R61+S61+T61+U61+V61+W61 -> 21 | AW61: =AU61+AV61 -> 93 | AX61: =(I61+K61+M61+Q61)-17 -> 4 | AY61: =O61+R61 -> 0
A62: N | B62: MÔN LỊCH SỬ | I62: =F62+H62 -> 0 | W62: =I62+K62+M62+O62+Q62+R62+S62+T62+U62+V62 -> 0
A63: 42 | B63: Phạm Thị Ngọc Diệu | C63: Giáo viên | D63: Lịch sử | E63: 12A1(2), 12A2 (2), 12A3(2), 12A4(2), 12C2(2), 12C3(2), 11A1(1), 11A2(1), 11B1 (1), 11B2(1), 11C1(1), 11C2(1), 11C3(1). CĐ: 12C2(1), 12C3(1), 11C1(1), 11C2(1), 11C3(1). | F63: 24 | G63: 0 | H63: 0 | I63: =F63+H63 -> 24 | N63: 12A1+12A2 (2), 12A3+12A4+12A5 (2), 12C2 (2), 12C3 (2) | O63: 0 | Q63: 0 | R63: 0 | S63: 0 | T63: 0 | U63: 0 | V63: 0 | W63: =I63+K63+M63+O63+Q63+R63+S63+T63+U63+V63 -> 24 | X63: =W63-17 -> 7 | AC63: =Z63+AB63 -> 0 | AO63: =AC63+AE63+AG63+AI63+AJ63+AK63+AL63+AM63+AN63 -> 0 | AR63: =I63+M63 -> 24 | AS63: =AR63+O63 -> 24 | AT63: =AR63 -> 24 | AU63: =(((I63+M63)*18)-(17*18))+(O63*10)+Q63+R63+S63+T63+U63+V63 -> 126 | AV63: =L63+N63+(P63*10)+R63+S63+T63+U63+V63+W63 -> #VALUE! | AW63: =AU63+AV63 -> #VALUE! | AX63: =(I63+K63+M63+Q63)-17 -> 7 | AY63: =O63+R63 -> 0
A64: 43 | B64: Lê Thị Cẩm Quyên | C64: Giáo viên | D64: Lịch sử | E64: 12A5(2), 12C1(2), 10A1(2), 10A2(2), 10B1(2), 10B2(2), 10C1(2), 10C2(2), 10C3(2) 10C4(2). CĐ: 12C1(1), 10C1(1), 10C2(1), 10C3(1), 10C4(1) | F64: 25 | G64: 0 | H64: 0 | I64: =F64+H64 -> 25 | N64: 12C1(2) | R64: 0 | S64: 0 | T64: 0 | U64: 0 | V64: 0 | W64: =I64+K64+M64+O64+Q64+R64+S64+T64+U64+V64 -> 25 | X64: =W64-17 -> 8 | AC64: =Z64+AB64 -> 0 | AO64: =AC64+AE64+AG64+AI64+AJ64+AK64+AL64+AM64+AN64 -> 0 | AR64: =I64+M64 -> 25 | AS64: =AR64+O64 -> 25 | AT64: =AR64 -> 25 | AU64: =(((I64+M64)*18)-(17*18))+(O64*10)+Q64+R64+S64+T64+U64+V64 -> 144 | AV64: =L64+N64+(P64*10)+R64+S64+T64+U64+V64+W64 -> #VALUE! | AW64: =AU64+AV64 -> #VALUE! | AX64: =(I64+K64+M64+Q64)-17 -> 8 | AY64: =O64+R64 -> 0
W65: =I65+K65+M65+O65+Q65+R65+S65+T65+U65+V65 -> 0
A66: O | B66: MÔN TIN | I66: =F66+H66 -> 0 | W66: =I66+K66+M66+O66+Q66+R66+S66+T66+U66+V66 -> 0
A67: 44 | B67: Nguyễn Thị Huyền Trân | C67: Giáo viên | D67: Tin học | E67: Tin: 12A1(2), 12A2(2), 12A5 (2), 12C3(2), 10B1(2),10B2(2),10C3(2),10C4(2) | F67: 16 | G67: CNTT (3) | H67: 3 | I67: =F67+H67 -> 19 | J67: 10C3, 10C4, 12A5, 12C3 | K67: 4 | W67: =I67+K67+M67+O67+Q67+R67+S67+T67+U67+V67 -> 23 | X67: =W67-17 -> 6 | Y67: Tin: 12A1(2), 12A2(2), 12C3(2), 11A1(2), 11A2(2), 11A5(2) | Z67: 12 | AA67: CN 12A2(4) CNTT(3) | AB67: 7 | AC67: =Z67+AB67 -> 19 | AO67: =AC67+AE67+AG67+AI67+AJ67+AK67+AL67+AM67+AN67 -> 19 | AR67: =I67+M67 -> 19 | AS67: =AR67+O67 -> 19 | AT67: =AR67 -> 19 | AU67: =(((I67+M67)*18)-(17*18))+(O67*10)+Q67+R67+S67+T67+U67+V67 -> 36 | AV67: =L67+N67+(P67*10)+R67+S67+T67+U67+V67+W67 -> 23 | AW67: =AU67+AV67 -> 59 | AX67: =(I67+K67+M67+Q67)-17 -> 6 | AY67: =O67+R67 -> 0
A68: 45 | B68: Trương Phụng Thọ | C68: Tổ phó CM | D68: Tin học | E68: Tin: 11A1(2),11A2(2),11C1(2),11C2(2),11C3(2) | F68: 10 | G68: CN 11C3(4) TPCM(1) | H68: 5 | I68: =F68+H68 -> 15 | J68: 11C1, 11C2, 11C3 | K68: 3 | L68: 11C3 (3) | M68: 3 | W68: =I68+K68+M68+O68+Q68+R68+S68+T68+U68+V68 -> 21 | X68: =W68-17 -> 4 | Y68: Tin: 10A1(2), 10A2(2), 10C1(2), 10C2(2), 10C3(2), 11C3(2) | Z68: 12 | AA68: CN 10C3(4) TPCM(1) | AB68: 5 | AC68: =Z68+AB68 -> 17 | AD68: 10C3 (3) | AE68: 3 | AO68: =AC68+AE68+AG68+AI68+AJ68+AK68+AL68+AM68+AN68 -> 20 | AR68: =I68+M68 -> 18 | AS68: =AR68+O68 -> 18 | AT68: =AR68 -> 18 | AU68: =(((I68+M68)*18)-(17*18))+(O68*10)+Q68+R68+S68+T68+U68+V68 -> 18 | AV68: =L68+N68+(P68*10)+R68+S68+T68+U68+V68+W68 -> #VALUE! | AW68: =AU68+AV68 -> #VALUE! | AX68: =(I68+K68+M68+Q68)-17 -> 4 | AY68: =O68+R68 -> 0
A69: P | B69: GIÁO DỤC ĐỊA PHƯƠNG/THỈNH GIẢNG | I69: =F69+H69 -> 0 | W69: =I69+K69+M69+O69+Q69+R69+S69+T69+U69+V69 -> 0
B70: Nguyễn Thị Thúy Hồng | D70: Âm nhạc | E70: 8 K12 | F70: 8 | I70: =F70+H70 -> 8 | W70: =I70+K70+M70+O70+Q70+R70+S70+T70+U70+V70 -> 8 | AO70: =AC70+AE70+AG70+AI70+AJ70+AK70+AL70+AM70+AN70 -> 0 | AR70: =I70+M70 -> 8 | AS70: =AR70+O70 -> 8 | AT70: =AR70 -> 8 | AU70: =(((I70+M70)*18)-(17*18))+(O70*10)+Q70+R70+S70+T70+U70+V70 -> -162 | AV70: =L70+N70+(P70*10)+R70+S70+T70+U70+V70+W70 -> 8 | AW70: =AU70+AV70 -> -154 | AX70: =(I70+K70+M70+Q70) -> 8 | AY70: =O70+R70 -> 0
B71: Nguyễn Thị Thùy Ngân | D71: Mĩ thuật | E71: 7 K11 | F71: 7 | I71: =F71+H71 -> 7 | W71: =I71+K71+M71+O71+Q71+R71+S71+T71+U71+V71 -> 7 | AX71: =(I71+K71+M71+Q71) -> 7 | AY71: =O71+R71 -> 0
W72: =I72+K72+M72+O72+Q72+R72+S72+T72+U72+V72 -> 0 | AX72: =(I72+K72+M72+Q72) -> 0 | AY72: =O72+R72 -> 0
W73: =I73+K73+M73+O73+Q73+R73+S73+T73+U73+V73 -> 0 | AX73: =(I73+K73+M73+Q73) -> 0 | AY73: =O73+R73 -> 0
W74: =I74+K74+M74+O74+Q74+R74+S74+T74+U74+V74 -> 0 | AX74: =(I74+K74+M74+Q74) -> 0 | AY74: =O74+R74 -> 0
N76: Cần Đước, ngày tháng năm 2026
O77: HIỆU TRƯỞNG
O83: Nguyễn Minh Triều
A85: Tổng số lớp: 23 lớp. Trong đó chia ra:
B86: Khối 10: GDPT 08 lớp
B87: Khối 11: GDPT 06 lớp, GDTX 01 lớp.
B88: Khối 12: GDPT 07 lớp, GDTX 01 lớp.
A89: Tổng số VC, NLĐ: 45; trong đó: CBQL: 03; GV: 42; Nhân viên: 04,
B90: Hợp đồng theo NĐ 111: 02 bảo vệ.
A92: Công tác chủ nhiệm | H92: Khối 10 (26.27) | M92: Khối 11 (25.26) | P92: Khối 12 (24.25)
A93: Khối 10 | C93: Khối 11 | E93: Khối 12 | H93: Tổ hợp Môn học lựa chọn (04 môn) | I93: Cụm Chuyên đề học tập có môn học lựa chọn (03 chuyên đề) | L93: Số lớp (8) | M93: Tổ hợp Môn học lựa chọn (04 môn) | N93: Cụm Chuyên đề học tập có môn học lựa chọn (03 chuyên đề) | O93: Số lớp (7) | P93: Tổ hợp Môn học lựa chọn (04 môn) | Q93: Cụm Chuyên đề học tập có môn học lựa chọn (03 chuyên đề) | R93: Số lớp (8)
A94: 10A1: | B94: Giang | C94: 11A1: | D94: Tiến | E94: 12A1: | F94: Khanh | H94: Lý, Hóa, Sinh, Công nghệ (T.Kế&CN) | I94: Toán, Lý, Hóa | L94: 10A1, 10A2 | M94: Lý (2), Hóa (2), Sinh (2), Tin học (2) | N94: Toán (1), Lý (1), Hóa (1) | O94: 11A1, 11A2 | P94: Lý (2), Hóa (2), Sinh (2), Tin học (2) | Q94: Toán, Lý (1), Hóa (1) | R94: 12A1,12A2
A95: 10A2: | B95: Ngân | C95: 11A2: | D95: Duyên | E95: 12A2: | F95: Hà | H95: Lý, Hóa, Sinh, Tin học | I95: Toán, Hóa, Sinh | L95: 10B1, 10B2 | M95: Lý (2), Hóa (2), Sinh (2), Công nghệ (2) (trồng trọt) | N95: Toán (1), Hóa(1), Sinh(1) | O95: 11B1, 11B2 | P95: Lý (2), Hóa (2), Sinh (2), Công nghệ (2) (trồng trọt) | Q95: Toán, Lý (1), Hóa (1) | R95: 12A3,12A4
A96: 10B1: | B96: Lài | C96: 11B1: | D96: Tràng | E96: 12A3: | F96: Thảo | H96: Hóa, Sinh, Địa, Giáo dục KT&PL | I96: Văn, Sử, Địa | L96: 10C1 | M96: Lý (2), Tin (2), Địa (2), Giáo dục KT và PL (2) | N96: Văn (1), Sử (1), Địa (1) | O96: 11C1, 11C2 | P96: Lý (2), Hóa (2),Tin (2), Công nghệ (2) (T.Kế&CN) | Q96: Toán, Lý (1), Hóa (1) | R96: 12A5
A97: 10B2: | B97: Thủy | C97: 11B2: | D97: Phong | E97: 12A4: | F97: Tân | H97: Lý, CN(T.Kế&CN), Địa,Giáo dục KT&PL | I97: Văn, Sử, Địa | L97: 10C2 | M97: Địa (2), Giáo dục KT và PL (2), Tin học (2), Lý (2) | N97: Văn (1), Sử (1), Địa (1) | O97: 11C3 | P97: Lý (2), Hóa (2), Địa, Giáo dục KT và PL (2) | Q97: Văn (1), Sử (1), Địa (1) | R97: 12C1,12C2
A98: 10C1: | B98: Tiên | C98: 11C1: | D98: Hải | E98: 12A5: | F98: Khoa | H98: Lý,Tin, Địa, Giáo dục KT&PL | I98: Văn, Sử, Địa | L98: 10C3,10C4 | P98: Địa (2), Giáo dục KT và PL (2), Tin học (2), Công nghệ (2) (T.Kế&CN) | Q98: Văn (1), Sử (1), Địa (1) | R98: 12C3
A99: 10C2: | B99: An | C99: 11C2: | D99: Thoa | E99: 12C1: | F99: Quân
A100: 10C3: | B100: Đào | C100: 11C3: | D100: Thọ | E100: 12C2: | F100: Thạch
A101: 10C4: | B101: Vy | E101: 12C3: | F101: Nhàn
A103: Trải nghiệm HN
A104: Khối 10 | C104: Khối 11 | E104: Khối 12
A105: 10A1: | C105: 11A1: | E105: 12A1:
A106: 10A2: | C106: 11A2: | E106: 12A2:
A107: 10B1: | C107: 11B1: | E107: 12A3:
A108: 10B2: | C108: 11B2: | E108: 12A4:
A109: 10C1: | C109: 11C1: | E109: 12A5:
...

Sheet T3
A1: SỞ GIÁO DỤC VÀ ĐÀO TẠO TÂY NINH | D1: CỘNG HÒA XÃ HỘI CHỦ NGHĨA VIỆT NAM | R1: Tổng số lớp: 23 lớp. Trong đó chia ra:
A2: TRƯỜNG THPT CHU VĂN AN | D2: Độc lập -Tự do - Hạnh phúc | Q2: Khối 10: GDPT 08 lớp
A3: BẢNG PHÂN CÔNG CHUYÊN MÔN NĂM HỌC 2026- 2027- Áp dụng 14.9.2026 (1 tuần)- Tuần 2,3 | Q3: Khối 11: GDPT 06 lớp, GDTX 01 lớp.
Q4: Khối 12: GDPT 07 lớp, GDTX 01 lớp. | AU4: =54-18 -> 36 | AV4: =51-17 -> 34
A5: STT | B5: Họ và tên | C5: Chức vụ/Vị trí công tác | D5: Chuyên môn | E5: DẠY LỚP VÀ KIÊM NHIỆM HK1 | I5: Cộng số tiết dạy lớp và kiêm nhiệm/ tuần | J5: AI | L5: HĐ trải nghiệm- HN | N5: Ôn thi TN THPT HK1 | P5: Giáo dục địa phương | R5: Số tiết quy đổi HK1 | W5: Tổng số tiết/ tuần | X5: Ghi chú | Y5: DẠY LỚP VÀ KIÊM NHIỆM HỌC KỲ 2 | AC5: Cộng số tiết dạy lớp và kiêm nhiệm/ tuần | AD5: HĐ trải nghiệm- HN | AF5: Ôn thi TN THPT HK1 | AH5: Giáo dục địa phương | AJ5: Số tiết quy đổi HK2 | AO5: Tổng số tiết/ tuần | AP5: Ghi chú | AR5: T1-6, | AS5: T7-16 | AT5: T17,18 | AU5: TS tiết tăng HK1 | AV5: TS tiết tăng HK2 | AW5: TS tiết tăng CN | AX5: Tổng số tiết tăng HK1 buổi 1 | AY5: Tổng số tiết tăng HK1 buổi 2
E6: Phân công chuyên môn (Dạy lớp)- HK1 | G6: Công việc kiêm nhiệm (TTCM, TPCM, BTĐTN, P.BTĐTN, CTCĐ, PCTCĐ, BCHCĐ, TTCĐ, TTND, TV, TB, VN, TDTT, C.Nhiệm lớp, TVTL...) | J6: PC lớp | K6: Số tiết | L6: PC lớp | M6: TS tiết | N6: PC lớp dạy ôn thi TN THPT HK1 | O6: TS tiết | P6: PC lớp dạy Giáo dục địa phương | Q6: TS tiết | R6: Số tiết dạy BD HSG (1t dạy trực tiếp=1t quy đổi) | S6: Số tiết BD Hội thao quốc phòng (1t dạy trực tiếp=1t quy đổi) | T6: Số tiết BD Hội khỏe PĐ (1t dạy trực tiếp=1t quy đổi) | U6: Số tiết BD KHKT (1t dạy trực tiếp=1t quy đổi) | V6: Số tiết BGK chấm thi cấp trường (1t dạy trực tiếp=1t quy đổi) | Y6: Phân công chuyên môn (Dạy lớp)- HK2 | AA6: Công việc kiêm nhiệm (TTCM, TPCM, BTĐTN, P.BTĐTN, CTCĐ, PCTCĐ, BCHCĐ, TTCĐ, TTND, TV, TB, VN, TDTT, C.Nhiệm lớp, TVTL...) | AD6: PC lớp | AE6: TS tiết | AF6: PC lớp dạy ôn thi TN THPT HK1 | AG6: TS tiết | AH6: PC lớp dạy Giáo dục địa phương | AI6: TS tiết | AJ6: Số tiết dạy BD HSG (1t dạy trực tiếp=1t quy đổi) | AK6: Số tiết BD Hội thao quốc phòng (1t dạy trực tiếp=1t quy đổi) | AL6: Số tiết BD Hội khỏe PĐ (1t dạy trực tiếp=1t quy đổi) | AM6: Số tiết BD KHKT (1t dạy trực tiếp=1t quy đổi) | AN6: Số tiết BGK chấm thi cấp trường (1t dạy trực tiếp=1t quy đổi) | AR6: Số tiết /tuần | AS6: Số tiết /tuần | AT6: Số tiết /tuần
E7: Dạy lớp (Môn dạy) | F7: Tổng số tiết | G7: Kiêm nhiệm | H7: Số tiết kiêm nhiệm | Y7: Dạy lớp (Môn dạy, HĐTNHN) | Z7: Tổng số tiết | AA7: Kiêm nhiệm | AB7: Số tiết kiêm nhiệm | AS7: Dạy ôn TN | AU7: =SUM(AU10:AU69) -> 216 | AV7: =SUM(AV10:AV69) -> #VALUE! | AW7: =AV7+AU7 -> #VALUE!
A8: 1 | B8: 2 | C8: 3 | D8: 4 | E8: 5 | F8: 6 | G8: 7 | H8: 8 | I8: 9 | J8: 10 | K8: 11 | L8: 12 | M8: 13 | N8: 14 | O8: 15 | P8: 16 | Q8: 16 | R8: 17 | S8: 18 | T8: 19 | U8: 20 | V8: 21 | W8: 22 | X8: 23 | Y8: 23 | Z8: 24 | AA8: 25 | AB8: 26 | AC8: 27 | AD8: 28 | AE8: 29 | AF8: 30 | AG8: 31 | AH8: 32 | AI8: 33 | AJ8: 34 | AK8: 35 | AL8: 36 | AM8: 37 | AN8: 38 | AO8: 39 | AP8: 40
B9: Cán bộ quản lý
A10: 1 | B10: Nguyễn Minh Triều | C10: Hiệu trưởng | D10: Vật lý | G10: HT (15) | H10: 15 | I10: =F10+H10 -> 15 | L10: 10C3 (3) | M10: 3 | W10: =I10+K10+M10+O10+Q10+R10+S10+T10+U10+V10 -> 18 | X10: =W10-17 -> 1 | AA10: HT (15) | AB10: 15 | AC10: =Z10+AB10 -> 15 | AD10: 12B1 (3) | AE10: 3 | AO10: =AC10+AE10+AG10+AI10+AJ10+AK10+AL10+AM10+AN10 -> 18 | AR10: =I10+M10 -> 18 | AS10: =AR10+O10 -> 18 | AT10: =AR10 -> 18 | AU10: =(((I10+M10)*18)-(17*18))+(O10*10)+Q10+R10+S10+T10+U10+V10 -> 18 | AV10: =(((AC10+AE10)*17)-(17*17))+(AG10*17)+AI10+AJ10+AK10+AL10+AM10+AN10 -> 17 | AW10: =AU10+AV10 -> 35 | AX10: =(I10+K10+M10+Q10)-15-2 -> 1 | AY10: =O10+R10 -> 0
A11: 2 | B11: Mã Thành Thái | C11: Phó Hiệu trưởng | D11: Ngữ văn | E11: 10A1 (3); 10C4 (4) | F11: 7 | G11: PHT (13) | H11: 13 | I11: =F11+H11 -> 20 | N11: 0 | O11: 0 | T11: 0 | U11: 0 | V11: 0 | W11: =I11+K11+M11+O11+Q11+R11+S11+T11+U11+V11 -> 20 | X11: =W11-17 -> 3 | Y11: 11C3 (4), 11A4 (3) | Z11: 7 | AA11: PHT (13) | AB11: 13 | AC11: =Z11+AB11 -> 20 | AF11: 0 | AG11: 0 | AJ11: 0 | AK11: 0 | AL11: 0 | AM11: 0 | AN11: 0 | AO11: =AC11+AE11+AG11+AI11+AJ11+AK11+AL11+AM11+AN11 -> 20 | AP11: Cống hiến 01 tiết chính khoá/01 tuần và tiết chấm giám khảo | AR11: =I11+M11 -> 20 | AS11: =AR11+O11 -> 20 | AT11: =AR11 -> 20 | AU11: =(((I11+M11)*18)-(17*18))+(O11*10)+Q11+R11+S11+T11+U11+V11 -> 54 | AV11: =(((AC11+AE11)*17)-(17*17))+(AG11*17)+AI11+AJ11+AK11+AL11+AM11+AN11 -> 51 | AW11: =AU11+AV11 -> 105 | AX11: =(I11+K11+M11+Q11)-13-4 -> 3 | AY11: =O11+R11 -> 0
A12: 3 | B12: Nguyễn Thị Anh Đào | C12: Phó Hiệu trưởng | D12: Hóa học | G12: PHT (13) | H12: 13 | I12: =F12+H12 -> 13 | L12: 12A4 (3), 12A5 (3) | M12: 6 | W12: =I12+K12+M12+O12+Q12+R12+S12+T12+U12+V12 -> 19 | X12: =W12-17 -> 2 | Z12: =N12+P12+R12+T12+U12+V12+W12+X12+Y12 -> 21 | AA12: PHT (13) | AB12: 13 | AC12: =Z12+AB12 -> 34 | AD12: 12B3 (3), 12C1 (3) | AE12: 6 | AO12: =AC12+AE12+AG12+AI12+AJ12+AK12+AL12+AM12+AN12 -> 40 | AR12: =I12+M12 -> 19 | AS12: =AR12+O12 -> 19 | AT12: =AR12 -> 19 | AU12: =(((I12+M12)*18)-(17*18))+(O12*10)+Q12+R12+S12+T12+U12+V12 -> 36 | AV12: =(((AC12+AE12)*17)-(17*17))+(AG12*17)+AI12+AJ12+AK12+AL12+AM12+AN12 -> 391 | AW12: =AU12+AV12 -> 427 | AX12: =(I12+K12+M12+Q12)-13-4 -> 2 | AY12: =O12+R12 -> 0
A13: A | B13: MÔN TOÁN | W13: =I13+K13+M13+O13+Q13+R13+S13+T13+U13+V13 -> 0
A14: 4 | B14: Phạm Duy Phương | C14: Tổ phó CM | D14: Toán | E14: Học TCCT | I14: =F14+H14 -> 0 | W14: =I14+K14+M14+O14+Q14+R14+S14+T14+U14+V14 -> 0 | X14: 0 | Y14: Toán: 10A1 (4), 10A2 (4), 10C1 (3),10C2 (3), 10C3 (3), 11A5 (4), 11C3 (3) | Z14: 24 | AA14: TPCM (1). | AB14: 1 | AC14: =Z14+AB14 -> 25 | AO14: =AC14+AE14+AG14+AI14+AJ14+AK14+AL14+AM14+AN14 -> 25 | AP14: Học TCCT | AR14: =I14+M14 -> 0 | AS14: =AR14+O14 -> 0 | AT14: =AR14 -> 0 | AU14: =(((I14+M14)*18)-(17*18))+(O14*10)+Q14+R14+S14+T14+U14+V14 -> -306 | AV14: =(((AC14+AE14)*17)-(17*17))+(AG14*17)+AI14+AJ14+AK14+AL14+AM14+AN14 -> 136 | AW14: =AU14+AV14 -> -170 | AX14: =(I14+K14+M14+Q14) -> 0 | AY14: =O14+R14 -> 0 | AZ14: Đi học
A15: 5 | B15: Nguyễn Thị Kim Xuân | C15: Giáo viên | D15: Toán | E15: Toán: 12A1(3), 12A4(3), 10A1(3), 10C1(3), 10B2(3) CĐ Toán: 12A1(1), 12A4(1), 10B2(1) | F15: 19 | H15: 0 | I15: =F15+H15 -> 19 | N15: 12A1 (2), 12A4 (2) | W15: =I15+K15+M15+O15+Q15+R15+S15+T15+U15+V15 -> 19 | X15: =W15-17 -> 2 | Y15: Toán: 11A4 (4), 12B2 (4), 12C1(3). | Z15: 11 | AA15: C.Nhiệm 12C1 (4) | AB15: 4 | AC15: =Z15+AB15 -> 15 | AF15: Toán: 12B2, 12C1 | AG15: 4 | AO15: =AC15+AE15+AG15+AI15+AJ15+AK15+AL15+AM15+AN15 -> 19 | AR15: =I15+M15 -> 19 | AS15: =AR15+O15 -> 19 | AT15: =AR15 -> 19 | AU15: =(((I15+M15)*18)-(17*18))+(O15*10)+Q15+R15+S15+T15+U15+V15 -> 36 | AV15: =(((AC15+AE15)*17)-(17*17))+(AG15*17)+AI15+AJ15+AK15+AL15+AM15+AN15 -> 34 | AW15: =AU15+AV15 -> 70 | AX15: =(I15+K15+M15+Q15)-17 -> 2 | AY15: =O15+R15 -> 0
A16: 6 | B16: Huỳnh Thanh Nhàn | C16: Giáo viên | D16: Toán | E16: Toán: 12C1(3), 12C3(3), 11C1(3), 11C2(3), 11A1(3) CĐ Toán: 11A1(1) | F16: 16 | G16: C.Nhiệm 12C3(4) | H16: 4 | I16: =F16+H16 -> 20 | N16: 12C1 (2), 12C3 (2) | W16: =I16+K16+M16+O16+Q16+R16+S16+T16+U16+V16 -> 20 | X16: =W16-17 -> 3 | Y16: Toán: 12A2 (4), 12B3(4). | Z16: 8 | AA16: C.Nhiệm 12A2 (4), P.BTĐTN (6) | AB16: 10 | AC16: =Z16+AB16 -> 18 | AF16: Toán: 12A2, 12B3 | AG16: 4 | AO16: =AC16+AE16+AG16+AI16+AJ16+AK16+AL16+AM16+AN16 -> 22 | AR16: =I16+M16 -> 20 | AS16: =AR16+O16 -> 20 | AT16: =AR16 -> 20 | AU16: =(((I16+M16)*18)-(17*18))+(O16*10)+Q16+R16+S16+T16+U16+V16 -> 54 | AV16: =(((AC16+AE16)*17)-(17*17))+(AG16*17)+AI16+AJ16+AK16+AL16+AM16+AN16 -> 85 | AW16: =AU16+AV16 -> 139 | AX16: =(I16+K16+M16+Q16)-17 -> 3 | AY16: =O16+R16 -> 0
A17: 7 | B17: Nguyễn Thị Hồng Thảo | C17: Giáo viên | D17: Toán | E17: Toán: 12A3(3), 12A5(3), 10C4(3), 10B1(3) CĐ Toán: 12A3(1), 12A5(1), 10B1(1) | F17: 15 | G17: C.Nhiệm 12A3(4) | H17: 4 | I17: =F17+H17 -> 19 | N17: 12A3 (2), 12A5 (2) | W17: =I17+K17+M17+O17+Q17+R17+S17+T17+U17+V17 -> 19 | X17: =W17-17 -> 2 | Y17: Toán: 11A3(4), 11C1(3), 12A1 (4), 12C2(3). | Z17: 14 | AA17: C.Nhiệm 11A3 (4) | AB17: 4 | AC17: =Z17+AB17 -> 18 | AF17: Toán: 12A1, 12C2 | AG17: 4 | AO17: =AC17+AE17+AG17+AI17+AJ17+AK17+AL17+AM17+AN17 -> 22 | AR17: =I17+M17 -> 19 | AS17: =AR17+O17 -> 19 | AT17: =AR17 -> 19 | AU17: =(((I17+M17)*18)-(17*18))+(O17*10)+Q17+R17+S17+T17+U17+V17 -> 36 | AV17: =(((AC17+AE17)*17)-(17*17))+(AG17*17)+AI17+AJ17+AK17+AL17+AM17+AN17 -> 85 | AW17: =AU17+AV17 -> 121 | AX17: =(I17+K17+M17+Q17)-17 -> 2 | AY17: =O17+R17 -> 0
A18: 8 | B18: Trần Thị Kim Ngân | C18: Giáo viên | D18: Toán | E18: Toán: 11B1(3), 11C3(3), 10A2(3), 10C3(3); 10C2(3) CĐ Toán: 11B1(1), 10A2(1), | F18: 17 | G18: C.Nhiệm 10A2(4) | H18: 4 | I18: =F18+H18 -> 21 | W18: =I18+K18+M18+O18+Q18+R18+S18+T18+U18+V18 -> 21 | X18: =W18-17 -> 4 | Y18: Toán: 11A2(4), 12B1 (4), 12C3(3). | Z18: 11 | AA18: C.Nhiệm 12B1 (4) | AB18: 4 | AC18: =Z18+AB18 -> 15 | AF18: Toán: 12B1, 12C3 | AG18: 4 | AO18: =AC18+AE18+AG18+AI18+AJ18+AK18+AL18+AM18+AN18 -> 19 | AR18: =I18+M18 -> 21 | AS18: =AR18+O18 -> 21 | AT18: =AR18 -> 21 | AU18: =(((I18+M18)*18)-(17*18))+(O18*10)+Q18+R18+S18+T18+U18+V18 -> 72 | AV18: =(((AC18+AE18)*17)-(17*17))+(AG18*17)+AI18+AJ18+AK18+AL18+AM18+AN18 -> 34 | AW18: =AU18+AV18 -> 106 | AX18: =(I18+K18+M18+Q18)-17 -> 4 | AY18: =O18+R18 -> 0
A19: 9 | B19: Võ Nguyên Thạch | C19: Giáo viên | D19: Toán | E19: Toán: 12A2(3), 12C2 (3), 11B2(3), 11A2(3) CĐ Toán: 12A2(1), 11B2(1),11A2(1) | F19: 15 | G19: C.Nhiệm 12C2(4) | H19: 4 | I19: =F19+H19 -> 19 | N19: 12A2 (2), 12C2 (2) | W19: =I19+K19+M19+O19+Q19+R19+S19+T19+U19+V19 -> 19 | X19: =W19-17 -> 2 | Y19: Toán: 10A3(4), 10A4 (4), 11A1 (4), 11C2(3). | Z19: 15 | AA19: C.Nhiệm 11C2 (4) | AB19: 4 | AC19: =Z19+AB19 -> 19 | AO19: =AC19+AE19+AG19+AI19+AJ19+AK19+AL19+AM19+AN19 -> 19 | AR19: =I19+M19 -> 19 | AS19: =AR19+O19 -> 19 | AT19: =AR19 -> 19 | AU19: =(((I19+M19)*18)-(17*18))+(O19*10)+Q19+R19+S19+T19+U19+V19 -> 36 | AV19: =(((AC19+AE19)*17)-(17*17))+(AG19*17)+AI19+AJ19+AK19+AL19+AM19+AN19 -> 34 | AW19: =AU19+AV19 -> 70 | AX19: =(I19+K19+M19+Q19)-17 -> 2 | AY19: =O19+R19 -> 0
A20: B | B20: MÔN TIẾNG ANH | I20: =F20+H20 -> 0 | W20: =I20+K20+M20+O20+Q20+R20+S20+T20+U20+V20 -> 0
A21: 10 | B21: Phạm Thị Thanh Giang | C21: Tổ trưởng CM | D21: Tiếng Anh | E21: 10A2 (3), 10B1(3), 12C1(3), 10A1 (3) | F21: 12 | G21: CN 10A1 (4), TTCM(3) | H21: 7 | I21: =F21+H21 -> 19 | L21: 10A1 (3) | M21: 3 | W21: =I21+K21+M21+O21+Q21+R21+S21+T21+U21+V21 -> 22 | X21: =W21-17 -> 5 | Y21: 10A1 (3) ,10A2(3)10B1(3),12B2(3) | Z21: 12 | AA21: CN10A2(4) TTCM(3) | AB21: 7 | AC21: =Z21+AB21 -> 19 | AO21: =AC21+AE21+AG21+AI21+AJ21+AK21+AL21+AM21+AN21 -> 19 | AR21: =I21+M21 -> 22 | AS21: =AR21+O21 -> 22 | AT21: =AR21 -> 22 | AU21: =(((I21+M21)*18)-(17*18))+(O21*10)+Q21+R21+S21+T21+U21+V21 -> 90 | AV21: =L21+N21+(P21*10)+R21+S21+T21+U21+V21+W21 -> #VALUE! | AW21: =AU21+AV21 -> #VALUE! | AX21: =(I21+K21+M21+Q21)-17 -> 5 | AY21: =O21+R21 -> 0
A22: 11 | B22: Nguyễn Trương Đăng Khoa | C22: Giáo viên | D22: Tiếng Anh | E22: 10C3 (3), 10C1(3), 10C4(3), 12A4(3), 12A5 (3) | F22: 15 | G22: CN 12A5 (4) | H22: 4 | I22: =F22+H22 -> 19 | N22: K12 (2) | W22: =I22+K22+M22+O22+Q22+R22+S22+T22+U22+V22 -> 19 | X22: =W22-17 -> 2 | Y22: 11A5(3),11C1(3), 11C2(3),12A2(3),12B1(3) | Z22: 15 | AA22: CN 11C1(4) | AB22: 4 | AC22: =Z22+AB22 -> 19 | AF22: 12A2,12B | AG22: 2 | AO22: =AC22+AE22+AG22+AI22+AJ22+AK22+AL22+AM22+AN22 -> 21 | AR22: =I22+M22 -> 19 | AS22: =AR22+O22 -> 19 | AT22: =AR22 -> 19 | AU22: =(((I22+M22)*18)-(17*18))+(O22*10)+Q22+R22+S22+T22+U22+V22 -> 36 | AV22: =L22+N22+(P22*10)+R22+S22+T22+U22+V22+W22 -> #VALUE! | AW22: =AU22+AV22 -> #VALUE! | AX22: =(I22+K22+M22+Q22)-17 -> 2 | AY22: =O22+R22 -> 0
A23: 12 | B23: Nguyễn Thị Kim Thoa | C23: Giáo viên | D23: Tiếng Anh | E23: 11B2 (3), 11C1 (3), 11C2 (3), 12A3 (3) | F23: 12 | G23: CN 11C2(4) | H23: 4 | I23: =F23+H23 -> 16 | L23: 11C2 (3) | M23: 3 | W23: =I23+K23+M23+O23+Q23+R23+S23+T23+U23+V23 -> 19 | X23: =W23-17 -> 2 | Y23: 10B2(3), 10C1(3),10C2(3), 12A1(3), 12C2(3) | Z23: 15 | AA23: CN 12C2(4) | AB23: 4 | AC23: =Z23+AB23 -> 19 | AF23: 12A1,12C2 | AG23: 2 | AO23: =AC23+AE23+AG23+AI23+AJ23+AK23+AL23+AM23+AN23 -> 21 | AR23: =I23+M23 -> 19 | AS23: =AR23+O23 -> 19 | AT23: =AR23 -> 19 | AU23: =(((I23+M23)*18)-(17*18))+(O23*10)+Q23+R23+S23+T23+U23+V23 -> 36 | AV23: =L23+N23+(P23*10)+R23+S23+T23+U23+V23+W23 -> #VALUE! | AW23: =AU23+AV23 -> #VALUE! | AX23: =(I23+K23+M23+Q23)-17 -> 2 | AY23: =O23+R23 -> 0
A24: 13 | B24: Lê Thị Hồng Thủy | C24: Giáo viên | D24: Tiếng Anh | E24: 10B2(3), 10C2(3), 12A1(3), 12A2(3) | F24: 12 | G24: CN 10B2(4) | H24: 4 | I24: =F24+H24 -> 16 | L24: 10B2 (3) | M24: 3 | W24: =I24+K24+M24+O24+Q24+R24+S24+T24+U24+V24 -> 19 | X24: =W24-17 -> 2 | Y24: 11A1(3), 11A2(3), 11A3(3), 11A4(3),12B3(3), 12C1(3) | Z24: 18 | AA24: CN 11A2(4) | AB24: 4 | AC24: =Z24+AB24 -> 22 | AO24: =AC24+AE24+AG24+AI24+AJ24+AK24+AL24+AM24+AN24 -> 22 | AR24: =I24+M24 -> 19 | AS24: =AR24+O24 -> 19 | AT24: =AR24 -> 19 | AU24: =(((I24+M24)*18)-(17*18))+(O24*10)+Q24+R24+S24+T24+U24+V24 -> 36 | AV24: =L24+N24+(P24*10)+R24+S24+T24+U24+V24+W24 -> #VALUE! | AW24: =AU24+AV24 -> #VALUE! | AX24: =(I24+K24+M24+Q24)-17 -> 2 | AY24: =O24+R24 -> 0
A25: 14 | B25: Lê Kỳ Duyên | C25: Giáo viên | D25: Tiếng Anh | E25: 11A1(3), 11A2(3),11B1(3),12C2(3) | F25: 12 | G25: CN 11A2(4) | H25: 4 | I25: =F25+H25 -> 16 | L25: 11A2 (3) | M25: 3 | W25: =I25+K25+M25+O25+Q25+R25+S25+T25+U25+V25 -> 19 | X25: =W25-17 -> 2 | AR25: =I25+M25 -> 19 | AT25: =AR25 -> 19 | AX25: =(I25+K25+M25+Q25)-17 -> 2 | AY25: =O25+R25 -> 0
A26: C | B26: MÔN VẬT LÝ | I26: =F26+H26 -> 0 | W26: =I26+K26+M26+O26+Q26+R26+S26+T26+U26+V26 -> 0
A27: 15 | B27: Trần Thanh Tâm | C27: Tổ trưởng CM | D27: Vật lý | E27: Lý: 11A2(2), 11C3(2), 12A4(2), 12C1(2), 12C2(2), 12A1(2) CĐ Lý: 11A2(1), 12A4(1), 12A1(1) | F27: 15 | G27: TTCM (3), CN 12A1(4) | H27: 7 | I27: =F27+H27 -> 22 | N27: 12A4 +C1+C2 (2) | R27: 0 | S27: 0 | T27: 0 | U27: 0 | V27: 0 | W27: =I27+K27+M27+O27+Q27+R27+S27+T27+U27+V27 -> 22 | X27: =W27-17 -> 5 | Y27: 10A2(3), 11A4(3), 11C1(2), 11C2(2), 12A2(3), | Z27: 13 | AA27: TTCM | AB27: 3 | AC27: =Z27+AB27 -> 16 | AD27: 12A2(3) | AE27: 3 | AF27: 12A2 | AG27: 2 | AJ27: 0 | AK27: 0 | AL27: 0 | AM27: 0 | AN27: 0 | AO27: =AC27+AE27+AG27+AI27+AJ27+AK27+AL27+AM27+AN27 -> 21 | AR27: =I27+M27 -> 22 | AS27: =AR27+O27 -> 22 | AT27: =AR27 -> 22 | AU27: =(((I27+M27)*18)-(17*18))+(O27*10)+Q27+R27+S27+T27+U27+V27 -> 90 | AV27: =(((AC27+AE27)*17)-(17*17))+(AG27*17)+AI27+AJ27+AK27+AL27+AM27+AN27 -> 68 | AW27: =AU27+AV27 -> 158 | AX27: =(I27+K27+M27+Q27)-17 -> 5 | AY27: =O27+R27 -> 0
A28: 16 | B28: Trần Tấn Phương | C28: Giáo viên | D28: Vật lý | E28: Lý: 10A1(2), 10B2(2), 10C2(2), 10C3(2), 10C4(2), 12A3(2) CĐ Lý: 12A3(1), 10A1(1) | F28: 14 | G28: TKHĐ(2) | H28: 2 | I28: =F28+H28 -> 16 | J28: 12C1 12C2 | K28: 2 | L28: 12A3 (3) | M28: 3 | N28: 12A3 (2) | R28: 0 | S28: 0 | T28: 0 | U28: 0 | V28: 0 | W28: =I28+K28+M28+O28+Q28+R28+S28+T28+U28+V28 -> 21 | X28: =W28-17 -> 4 | Y28: 10B1(2), 11A3(3), 12A1(3), 12C3(2), | Z28: 10 | AA28: CN 12A1, TKHĐ | AB28: 6 | AC28: =Z28+AB28 -> 16 | AD28: 11C2(3), 12A1(3) | AE28: 6 | AF28: 12A1 | AG28: 2 | AJ28: 0 | AK28: 0 | AL28: 0 | AM28: 0 | AN28: 0 | AO28: =AC28+AE28+AG28+AI28+AJ28+AK28+AL28+AM28+AN28 -> 24 | AR28: =I28+M28 -> 19 | AS28: =AR28+O28 -> 19 | AT28: =AR28 -> 19 | AU28: =(((I28+M28)*18)-(17*18))+(O28*10)+Q28+R28+S28+T28+U28+V28 -> 36 | AV28: =(((AC28+AE28)*17)-(17*17))+(AG28*17)+AI28+AJ28+AK28+AL28+AM28+AN28 -> 119 | AW28: =AU28+AV28 -> 155 | AX28: =(I28+K28+M28+Q28)-17 -> 4 | AY28: =O28+R28 -> 0
A29: 17 | B29: Nguyễn Bùi Yến Khanh | C29: Giáo viên | D29: Vật lý | E29: TCCT | F29: 0 | H29: 0 | I29: =F29+H29 -> 0 | M29: 0 | R29: 0 | S29: 0 | T29: 0 | U29: 0 | V29: 0 | W29: =I29+K29+M29+O29+Q29+R29+S29+T29+U29+V29 -> 0 | X29: 0 | Y29: 10A1(3), 10B2(2), 10C1(2), 10C2(2), 11A2(3); | Z29: 12 | AB29: 0 | AC29: =Z29+AB29 -> 12 | AD29: 11A3(3), 11A4(3) | AE29: 6 | AG29: 0 | AJ29: 0 | AK29: 0 | AL29: 0 | AM29: 0 | AN29: 0 | AO29: =AC29+AE29+AG29+AI29+AJ29+AK29+AL29+AM29+AN29 -> 18 | AR29: =I29+M29 -> 0 | AS29: =AR29+O29 -> 0 | AT29: =AR29 -> 0 | AU29: =(((I29+M29)*18)-(17*18))+(O29*10)+Q29+R29+S29+T29+U29+V29 -> -306 | AV29: =(((AC29+AE29)*17)-(17*17))+(AG29*17)+AI29+AJ29+AK29+AL29+AM29+AN29 -> 17 | AW29: =AU29+AV29 -> -289 | AX29: =(I29+K29+M29+Q29) -> 0 | AY29: =O29+R29 -> 0 | AZ29: Đi học
A30: 18 | B30: Nguyễn Thị Bé Hà | C30: Giáo viên | D30: Vật lý | E30: Lý: 12A2(2), 10A2(2),10B1(2), 11B2(2) CĐ Lý: 12A2(1), 10A2(1) | F30: 10 | G30: CN 12A2(4) | H30: 4 | I30: =F30+H30 -> 14 | L30: 12A2(3) 12A1(3) | M30: 6 | N30: 12A2 (2) 12A1(2) | R30: 0 | S30: 0 | T30: 0 | U30: 0 | V30: 0 | W30: =I30+K30+M30+O30+Q30+R30+S30+T30+U30+V30 -> 20 | X30: =W30-17 -> 3 | Y30: 11A1(3), 11A5(3), 12B1(2),12B2(2), 12B3(2), | Z30: 12 | AA30: CN 12B2 | AB30: 4 | AC30: =Z30+AB30 -> 16 | AD30: 12B2(3) | AE30: 3 | AF30: 12B2 | AG30: 2 | AJ30: 0 | AK30: 0 | AL30: 0 | AM30: 0 | AN30: 0 | AO30: =AC30+AE30+AG30+AI30+AJ30+AK30+AL30+AM30+AN30 -> 21 | AR30: =I30+M30 -> 20 | AS30: =AR30+O30 -> 20 | AT30: =AR30 -> 20 | AU30: =(((I30+M30)*18)-(17*18))+(O30*10)+Q30+R30+S30+T30+U30+V30 -> 54 | AV30: =(((AC30+AE30)*17)-(17*17))+(AG30*17)+AI30+AJ30+AK30+AL30+AM30+AN30 -> 68 | AW30: =AU30+AV30 -> 122 | AX30: =(I30+K30+M30+Q30)-17 -> 3 | AY30: =O30+R30 -> 0
A31: 19 | B31: Lê Thị Trúc Linh | C31: Giáo viên | D31: Vật lý_Tin | E31: Lý: 11B1(2), 11C1(2); 11C2(2), 12A5(2), 11A1(2) CĐ Lý: 12A5(1), 11A1(1) | F31: 12 | G31: PBT | H31: 6 | I31: =F31+H31 -> 18 | L31: 10C2(3) | M31: 3 | N31: 12A5(2) | R31: 0 | S31: 0 | T31: 0 | U31: 0 | V31: 0 | W31: =I31+K31+M31+O31+Q31+R31+S31+T31+U31+V31 -> 21 | X31: =W31-17 -> 4 | Y31: 10A1(3), 10B2(2), 10C1(2), 10C2(2), 11A2(3); | Z31: 12 | AA31: CN 10C1: Phó BT | AB31: 10 | AC31: =Z31+AB31 -> 22 | AD31: 10C1(3) | AE31: 3 | AF31: 0 | AG31: 0 | AJ31: 0 | AK31: 0 | AL31: 0 | AM31: 0 | AN31: 0 | AO31: =AC31+AE31+AG31+AI31+AJ31+AK31+AL31+AM31+AN31 -> 25 | AR31: =I31+M31 -> 21 | AS31: =AR31+O31 -> 21 | AT31: =AR31 -> 21 | AU31: =(((I31+M31)*18)-(17*18))+(O31*10)+Q31+R31+S31+T31+U31+V31 -> 72 | AV31: =(((AC31+AE31)*17)-(17*17))+(AG31*17)+AI31+AJ31+AK31+AL31+AM31+AN31 -> 136 | AW31: =AU31+AV31 -> 208 | AX31: =(I31+K31+M31+Q31)-17 -> 4 | AY31: =O31+R31 -> 0
A32: D | B32: MÔN CÔNG NGHỆ | I32: =F32+H32 -> 0 | W32: =I32+K32+M32+O32+Q32+R32+S32+T32+U32+V32 -> 0
A33: 20 | B33: Phạm Thanh Phong | C33: TPCM | D33: Công nghệ | E33: 11B1(2), 11B2 (2), 12A3(2), 12A4(2) | F33: 8 | G33: CN 11B2 (4); TP (1) | H33: 5 | I33: =F33+H33 -> 13 | L33: 11B2(3), 11C1 (3) | M33: 6 | N33: 0 | O33: 0 | R33: 0 | S33: 0 | T33: 0 | U33: 0 | V33: 0 | W33: =I33+K33+M33+O33+Q33+R33+S33+T33+U33+V33 -> 19 | X33: =W33-17 -> 2 | Y33: 10B1(2), 10B2 (2), 11A3(2), 11A4(2); | Z33: 8 | AA33: CN 11A4 (4); TP (1) | AB33: 5 | AC33: =Z33+AB33 -> 13 | AD33: 10B1(3), 10B2(3) | AE33: 6 | AF33: 0 | AG33: 0 | AJ33: 0 | AK33: 0 | AL33: 0 | AM33: 0 | AN33: 0 | AO33: =AC33+AE33+AG33+AI33+AJ33+AK33+AL33+AM33+AN33 -> 19 | AR33: =I33+M33 -> 19 | AS33: =AR33+O33 -> 19 | AT33: =AR33 -> 19 | AU33: =(((I33+M33)*18)-(17*18))+(O33*10)+Q33+R33+S33+T33+U33+V33 -> 36 | AV33: =L33+N33+(P33*10)+R33+S33+T33+U33+V33+W33 -> #VALUE! | AW33: =AU33+AV33 -> #VALUE! | AX33: =(I33+K33+M33+Q33)-17 -> 2 | AY33: =O33+R33 -> 0
A34: 21 | B34: Nguyễn Trường An | C34: Giáo viên | D34: Công nghệ | E34: 12A5(2), 12C3 (2), 10A1(2), 10A2(2), 10C2(2) | F34: 10 | G34: CN 10C2 (4), TB (3) | H34: 7 | I34: =F34+H34 -> 17 | J34: 10C2 | K34: 1 | N34: 0 | O34: 0 | R34: 0 | S34: 0 | T34: 0 | U34: 0 | V34: 0 | W34: =I34+K34+M34+O34+Q34+R34+S34+T34+U34+V34 -> 18 | X34: =W34-17 -> 1 | Y34: 11A5(2), 11C3 (2), 12B1(2), 12B2(2), 12B3(2), | Z34: 10 | AA34: CN 11A5, TB (3) | AB34: 7 | AC34: =Z34+AB34 -> 17 | AD34: 11A5(3) | AE34: 3 | AF34: 0 | AG34: 0 | AJ34: 0 | AK34: 0 | AL34: 0 | AM34: 0 | AN34: 0 | AO34: =AC34+AE34+AG34+AI34+AJ34+AK34+AL34+AM34+AN34 -> 20 | AR34: =I34+M34 -> 17 | AS34: =AR34+O34 -> 17 | AT34: =AR34 -> 17 | AU34: =(((I34+M34)*18)-(17*18))+(O34*10)+Q34+R34+S34+T34+U34+V34 -> 0 | AV34: =L34+N34+(P34*10)+R34+S34+T34+U34+V34+W34 -> 18 | AW34: =AU34+AV34 -> 18 | AX34: =(I34+K34+M34+Q34)-17 -> 1 | AY34: =O34+R34 -> 0
A35: E | B35: MÔN HÓA HỌC | I35: =F35+H35 -> 0 | W35: =I35+K35+M35+O35+Q35+R35+S35+T35+U35+V35 -> 0
A36: 22 | B36: Trần Lê Tấn Đức | C36: Tổ trưởng CM | D36: Hóa học | E36: Hóa: 11A1(2), 11A2(2), 11B1(2), 11B2(2), 12A1(2); CĐ Hóa: 11A1(1), 11A2(1), 11B1(1), 11B2(1), 12A1(1) | F36: 15 | G36: TTCM(3) | H36: 3 | I36: =F36+H36 -> 18 | N36: 12A1 (2) | W36: =I36+K36+M36+O36+Q36+R36+S36+T36+U36+V36 -> 18 | X36: =W36-17 -> 1 | Y36: 11A1(3), 11A2(3), 11A3(3), 11A5(3), 12B1(3) | Z36: 17 | AA36: TTCM(3) | AB36: 3 | AC36: =Z36+AB36 -> 20 | AF36: 12B1(2) | AG36: 2 | AO36: =AC36+AE36+AG36+AI36+AJ36+AK36+AL36+AM36+AN36 -> 22 | AR36: =I36+M36 -> 18 | AS36: =AR36+O36 -> 18 | AT36: =AR36 -> 18 | AU36: =(((I36+M36)*18)-(17*18))+(O36*10)+Q36+R36+S36+T36+U36+V36 -> 18 | AV36: =L36+N36+(P36*10)+R36+S36+T36+U36+V36+W36 -> #VALUE! | AW36: =AU36+AV36 -> #VALUE! | AX36: =(I36+K36+M36+Q36)-17 -> 1 | AY36: =O36+R36 -> 0
A37: 23 | B37: Nguyễn Hữu Tân | C37: Giáo viên | D37: Hóa học | E37: Hóa: 10B1(2), 10B2 (2), 12A2(2), 12A4(2), 10C1(2), CĐ Hóa: 10B1(1), 10B2(1), 12A2(1), 12A4(1) | F37: 14 | G37: CN 12A4 (4) | H37: 4 | I37: =F37+H37 -> 18 | N37: 12A2 (2), 12A4(2) | W37: =I37+K37+M37+O37+Q37+R37+S37+T37+U37+V37 -> 18 | X37: =W37-17 -> 1 | Y37: 11A4(3), 11C1(2), 11C2(2), 12A1(3),12A2(3), 12B2(3) | Z37: 16 | AC37: =Z37+AB37 -> 16 | AF37: 12A1,A2(2), 12B2(2), | AG37: 4 | AO37: =AC37+AE37+AG37+AI37+AJ37+AK37+AL37+AM37+AN37 -> 20 | AR37: =I37+M37 -> 18 | AS37: =AR37+O37 -> 18 | AT37: =AR37 -> 18 | AU37: =(((I37+M37)*18)-(17*18))+(O37*10)+Q37+R37+S37+T37+U37+V37 -> 18 | AV37: =L37+N37+(P37*10)+R37+S37+T37+U37+V37+W37 -> #VALUE! | AW37: =AU37+AV37 -> #VALUE! | AX37: =(I37+K37+M37+Q37)-17 -> 1 | AY37: =O37+R37 -> 0
A38: 24 | B38: Ung Nguyễn Thị Thùy Dương | C38: Giáo viên | D38: Hóa học | E38: Hóa: 10A1(2), 10A2(2), 12A3(2), 12A5(2), 12C2(2); 12C1(2), CĐ Hóa: 10A1(1), 10A2(1), 12A3(1), 12A5(1) | F38: 16 | I38: =F38+H38 -> 16 | N38: 12A3+ 12C1+12C2 (2), 12A4(2) | W38: =I38+K38+M38+O38+Q38+R38+S38+T38+U38+V38 -> 16 | X38: =W38-17 -> -1 | Y38: 10A1(3), 10A2(3), 10B1(3), 10B2(3), 12B3(3), 12C1(2), 12C2(2) | Z38: 19 | AC38: =Z38+AB38 -> 19 | AF38: 12B3(2) | AG38: 2 | AO38: =AC38+AE38+AG38+AI38+AJ38+AK38+AL38+AM38+AN38 -> 21 | AR38: =I38+M38 -> 16 | AS38: =AR38+O38 -> 16 | AT38: =AR38 -> 16 | AU38: =(((I38+M38)*18)-(17*18))+(O38*10)+Q38+R38+S38+T38+U38+V38 -> -18 | AV38: =L38+N38+(P38*10)+R38+S38+T38+U38+V38+W38 -> #VALUE! | AW38: =AU38+AV38 -> #VALUE! | AX38: =(I38+K38+M38+Q38)-17 -> -1 | AY38: =O38+R38 -> 0
A39: G | B39: MÔN SINH | I39: =F39+H39 -> 0 | W39: =I39+K39+M39+O39+Q39+R39+S39+T39+U39+V39 -> 0
A40: 25 | B40: Ngô Thị Đông Tràng | C40: Tổ phó CM | D40: Sinh học | E40: 10A1(2), 10B2(2), 10C1(2), 11B1(2); CĐ Sinh: 10B2(1), 11B1(1) | F40: 10 | G40: CN 11B1(4); Tổ phó (1) | H40: 5 | I40: =F40+H40 -> 15 | J40: 10A1, 10B2, 10C1, 11B1 | K40: 4 | L40: 11B1(3) | M40: 3 | W40: =I40+K40+M40+O40+Q40+R40+S40+T40+U40+V40 -> 22 | X40: =W40-17 -> 5 | Y40: 10B1 (3), 12B1 (3), 12B2 (3), 12B3 (3) | Z40: 12 | AA40: CN 10B1 (4); tổ phó (1) | AB40: 5 | AC40: =Z40+AB40 -> 17 | AF40: 12A1 12B2 12B3(2), 12B1 (2) | AG40: 4 | AO40: =AC40+AE40+AG40+AI40+AJ40+AK40+AL40+AM40+AN40 -> 21 | AR40: =I40+M40 -> 18 | AS40: =AR40+O40 -> 18 | AT40: =AR40 -> 18 | AU40: =(((I40+M40)*18)-(17*18))+(O40*10)+Q40+R40+S40+T40+U40+V40 -> 18 | AV40: =L40+N40+(P40*10)+R40+S40+T40+U40+V40+W40 -> #VALUE! | AW40: =AU40+AV40 -> #VALUE! | AX40: =(I40+K40+M40+Q40)-17 -> 5 | AY40: =O40+R40 -> 0
A41: 26 | B41: Phạm Thị Thu | C41: Giáo viên | D41: Sinh học | E41: 11A1(2), 11A2(2), 11B2(2), 12A1 (2), 12A2 (2); CĐ Sinh: 11B2(1) | F41: 11 | I41: =F41+H41 -> 11 | J41: 11A1, 11A2, 11B2, 12A1, 12A2 | K41: 5 | L41: 11A1 (3), 10A2 (3) | M41: 6 | W41: =I41+K41+M41+O41+Q41+R41+S41+T41+U41+V41 -> 22 | X41: =W41-17 -> 5 | Y41: 10A1 (2), 10A2 (2), 10B2 (3), 11A3 (2), 11A4 (2), | Z41: 11 | AA41: TV (3) | AB41: 3 | AC41: =Z41+AB41 -> 14 | AD41: 11A2 (3) | AE41: 3 | AO41: =AC41+AE41+AG41+AI41+AJ41+AK41+AL41+AM41+AN41 -> 17 | AR41: =I41+M41 -> 17 | AS41: =AR41+O41 -> 17 | AT41: =AR41 -> 17 | AU41: =(((I41+M41)*18)-(17*18))+(O41*10)+Q41+R41+S41+T41+U41+V41 -> 0 | AV41: =L41+N41+(P41*10)+R41+S41+T41+U41+V41+W41 -> #VALUE! | AW41: =AU41+AV41 -> #VALUE! | AX41: =(I41+K41+M41+Q41)-17 -> 5 | AY41: =O41+R41 -> 0
A42: 27 | B42: Trương Thị Lài | C42: Giáo viên | D42: Sinh học | E42: 10A2(2), 10B1(2), 12A3(2), 12A4(2); CĐ 10B1(1) | F42: 9 | G42: CN10B1 (4) | H42: 4 | I42: =F42+H42 -> 13 | J42: 10A2, 10B1, 12A3, 12A4 | K42: 4 | L42: 10B1 (3) | M42: 3 | W42: =I42+K42+M42+O42+Q42+R42+S42+T42+U42+V42 -> 20 | X42: =W42-17 -> 3 | Y42: 11A1 (2), 11A2 (2), 12A1 (2), 12A2 (2), 12C1 (2), 12C2 (2), | Z42: 12 | AA42: CN 11A1 (4) | AB42: 4 | AC42: =Z42+AB42 -> 16 | AD42: 11A1 (3) | AE42: 3 | AO42: =AC42+AE42+AG42+AI42+AJ42+AK42+AL42+AM42+AN42 -> 19 | AR42: =I42+M42 -> 16 | AS42: =AR42+O42 -> 16 | AT42: =AR42 -> 16 | AU42: =(((I42+M42)*18)-(17*18))+(O42*10)+Q42+R42+S42+T42+U42+V42 -> -18 | AV42: =L42+N42+(P42*10)+R42+S42+T42+U42+V42+W42 -> #VALUE! | AW42: =AU42+AV42 -> #VALUE! | AX42: =(I42+K42+M42+Q42)-17 -> 3 | AY42: =O42+R42 -> 0
A43: H | B43: MÔN GD KT- PL | I43: =F43+H43 -> 0 | W43: =I43+K43+M43+O43+Q43+R43+S43+T43+U43+V43 -> 0
A44: 28 | B44: Đỗ Nguyễn Hoàng Thúy Vy | C44: Giáo viên | D44: GDKT &PL | E44: 12C1(2), 12C2(2), 12C3(2); 10C3 (2), 10C4 (2) | F44: 10 | G44: CN 10C4 (4) | H44: 4 | I44: =F44+H44 -> 14 | L44: 10C4 (3) | M44: 3 | P44: 10A1 (1), 10A2 (1), 10C3 (1), 10C4 (1) | W44: =I44+K44+M44+O44+Q44+R44+S44+T44+U44+V44 -> 17 | X44: =W44-17 -> 0 | Y44: 10C3 (2), 11C1 (2), 11C2 (2), 11C3 (2) | Z44: 8 | AA44: 11C3 (4) | AB44: 4 | AC44: =Z44+AB44 -> 12 | AD44: 11C1 (3), 11C3 (3) | AE44: 6 | AO44: =AC44+AE44+AG44+AI44+AJ44+AK44+AL44+AM44+AN44 -> 18 | AP44: Cả năm: - 107 tiết | AR44: =I44+M44 -> 17 | AS44: =AR44+O44 -> 17 | AT44: =AR44 -> 17 | AU44: =(((I44+M44)*18)-(17*18))+(O44*10)+Q44+R44+S44+T44+U44+V44 -> 0 | AV44: =(((AC44+AE44)*17)-(17*17))+(AG44*17)+AI44+AJ44+AK44+AL44+AM44+AN44 -> 17 | AW44: =AU44+AV44 -> 17 | AX44: =(I44+K44+M44+Q44)-17 -> 0 | AY44: =O44+R44 -> 0
A45: 29 | B45: Đinh Ngọc Mỹ Tiên | C45: Giáo viên | D45: GDKT &PL | E45: 10C1(2), 10C2(2); 11C1(2), 11C2(2), 11C3 (2) | F45: 10 | G45: CN 10C1 (4) | H45: 4 | I45: =F45+H45 -> 14 | L45: 10C1 (3) | M45: 3 | P45: 10B1 (1), 10B2 (1), 10C1(1), 10C2(1); | W45: =I45+K45+M45+O45+Q45+R45+S45+T45+U45+V45 -> 17 | X45: =W45-17 -> 0 | AX45: =(I45+K45+M45+Q45)-17 -> 0 | AY45: =O45+R45 -> 0
A46: I | B46: NGỮ VĂN | I46: =F46+H46 -> 0 | W46: =I46+K46+M46+O46+Q46+R46+S46+T46+U46+V46 -> 0
A47: 30 | B47: Trần Xuân Trường | C47: Tổ trưởng CM | D47: Ngữ văn | E47: 12A2 (3), 12A3 (3), 12A4 (3), 11B1 (3);11C2(4) | F47: 16 | G47: TTCM (3) | H47: 3 | I47: =F47+H47 -> 19 | N47: 12A2 (2), 12A3 (2), 12A4 (2) | R47: 0 | S47: 0 | T47: 0 | U47: 0 | V47: 0 | W47: =I47+K47+M47+O47+Q47+R47+S47+T47+U47+V47 -> 19 | X47: =W47-17 -> 2 | AC47: =Z47+AB47 -> 0 | AJ47: 0 | AK47: 0 | AL47: 0 | AM47: 0 | AO47: =AC47+AE47+AG47+AI47+AJ47+AK47+AL47+AM47+AN47 -> 0 | AR47: =I47+M47 -> 19 | AS47: =AR47+O47 -> 19 | AT47: =AR47 -> 19 | AU47: =(((I47+M47)*18)-(17*18))+(O47*10)+Q47+R47+S47+T47+U47+V47 -> 36 | AV47: =L47+N47+(P47*10)+R47+S47+T47+U47+V47+W47 -> #VALUE! | AW47: =AU47+AV47 -> #VALUE! | AX47: =(I47+K47+M47+Q47)-17 -> 2 | AY47: =O47+R47 -> 0
A48: 31 | B48: Nguyễn Thị Hồng Vân | C48: Giáo viên | D48: Ngữ văn | E48: 10A2 (3), 10B1 (3), 10B2 (3), 10C1 (4),12C2(4), 12C1 (4) | F48: 21 | G48: 0 | H48: 0 | I48: =F48+H48 -> 21 | N48: 12C1 (2), 12C2 (2) | R48: 0 | S48: 0 | T48: 0 | U48: 0 | V48: 0 | W48: =I48+K48+M48+O48+Q48+R48+S48+T48+U48+V48 -> 21 | X48: =W48-17 -> 4 | AC48: =Z48+AB48 -> 0 | AJ48: 0 | AK48: 0 | AL48: 0 | AM48: 0 | AN48: 0 | AO48: =AC48+AE48+AG48+AI48+AJ48+AK48+AL48+AM48+AN48 -> 0 | AR48: =I48+M48 -> 21 | AS48: =AR48+O48 -> 21 | AT48: =AR48 -> 21 | AU48: =(((I48+M48)*18)-(17*18))+(O48*10)+Q48+R48+S48+T48+U48+V48 -> 72 | AV48: =L48+N48+(P48*10)+R48+S48+T48+U48+V48+W48 -> #VALUE! | AW48: =AU48+AV48 -> #VALUE! | AX48: =(I48+K48+M48+Q48)-17 -> 4 | AY48: =O48+R48 -> 0
A49: 32 | B49: Trịnh Thị Ngọc Hân | C49: Giáo viên | D49: Ngữ văn | E49: 11A2 (3), 11C1 (4), 12A5 (3), 10C2 (4), 12C3 (4) | F49: 18 | G49: 0 | H49: 0 | I49: =F49+H49 -> 18 | N49: 12A5 (2), 12C3 (2) | R49: 0 | S49: 0 | T49: 0 | U49: 0 | V49: 0 | W49: =I49+K49+M49+O49+Q49+R49+S49+T49+U49+V49 -> 18 | X49: =W49-17 -> 1 | AC49: =Z49+AB49 -> 0 | AJ49: 0 | AK49: 0 | AL49: 0 | AM49: 0 | AN49: 0 | AO49: =AC49+AE49+AG49+AI49+AJ49+AK49+AL49+AM49+AN49 -> 0 | AR49: =I49+M49 -> 18 | AS49: =AR49+O49 -> 18 | AT49: =AR49 -> 18 | AU49: =(((I49+M49)*18)-(17*18))+(O49*10)+Q49+R49+S49+T49+U49+V49 -> 18 | AV49: =L49+N49+(P49*10)+R49+S49+T49+U49+V49+W49 -> #VALUE! | AW49: =AU49+AV49 -> #VALUE! | AX49: =(I49+K49+M49+Q49)-17 -> 1 | AY49: =O49+R49 -> 0
A50: 33 | B50: Võ Thị Kiều Trang | C50: Giáo viên | D50: Ngữ văn | E50: NGHỈ HẬU SẢN | I50: =F50+H50 -> 0 | R50: 0 | S50: 0 | T50: 0 | U50: 0 | V50: 0 | W50: =I50+K50+M50+O50+Q50+R50+S50+T50+U50+V50 -> 0 | X50: =W50 -> 0 | AC50: =Z50+AB50 -> 0 | AJ50: 0 | AK50: 0 | AL50: 0 | AM50: 0 | AO50: =AC50+AE50+AG50+AI50+AJ50+AK50+AL50+AM50+AN50 -> 0 | AP50: Cống hiến 02 tiết chấm giám khảo | AR50: =I50+M50 -> 0 | AS50: =AR50+O50 -> 0 | AT50: =AR50 -> 0 | AU50: =(((I50+M50)*18)-(17*18))+(O50*10)+Q50+R50+S50+T50+U50+V50 -> -306 | AV50: =L50+N50+(P50*10)+R50+S50+T50+U50+V50+W50 -> 0 | AW50: =AU50+AV50 -> -306 | AX50: =(I50+K50+M50+Q50) -> 0 | AY50: =O50+R50 -> 0 | AZ50: Thai sản
A51: 34 | B51: Nguyễn Thị Như Huỳnh | C51: Giáo viên | D51: Ngữ văn | E51: 10C3 (4), 11B2 (3), 11C3 (4), 12A1 (3), 11A1(3) | F51: 17 | I51: =F51+H51 -> 17 | N51: 12A1 (2) | W51: =I51+K51+M51+O51+Q51+R51+S51+T51+U51+V51 -> 17 | X51: =W51-17 -> 0 | AX51: =(I51+K51+M51+Q51)-17 -> 0 | AY51: =O51+R51 -> 0
A52: K | B52: MÔN ĐỊA LÍ | I52: =F52+H52 -> 0 | W52: =I52+K52+M52+O52+Q52+R52+S52+T52+U52+V52 -> 0
A53: 35 | B53: Nguyễn Văn Hiện | C53: Tổ phó CM | D53: Địa lý | E53: 10C2 (2), 10C4 (2), 11C1 (2), 12C3 (2). CĐ Địa:10C2 (1), 10C4 (1), 11C1 (1), 12C3 (1). | F53: 12 | G53: TPCM (1) | H53: 1 | I53: =F53+H53 -> 13 | L53: 12C3(3) | M53: 3 | N53: 12C3 (2) | P53: 12C3, 12A1, 12A2, 10C2, 10C4, 11C1, 11A1, 11A2 | R53: 0 | S53: 0 | T53: 0 | U53: 0 | V53: 0 | W53: =I53+K53+M53+O53+Q53+R53+S53+T53+U53+V53 -> 16 | X53: =W53-17 -> -1 | Y53: 10C1 (3), 10C2 (3), 10C3 (3), 11C2 (3), 12C2 (3) | Z53: 15 | AA53: TPCM(1) | AB53: 1 | AC53: =Z53+AB53 -> 16 | AF53: 12C2 (2) | AG53: 2 | AJ53: 0 | AK53: 0 | AL53: 0 | AM53: 0 | AN53: 0 | AO53: =AC53+AE53+AG53+AI53+AJ53+AK53+AL53+AM53+AN53 -> 18 | AR53: =I53+M53 -> 16 | AS53: =AR53+O53 -> 16 | AT53: =AR53 -> 16 | AU53: =(((I53+M53)*18)-(17*18))+(O53*10)+Q53+R53+S53+T53+U53+V53 -> -18 | AV53: =L53+N53+(P53*10)+R53+S53+T53+U53+V53+W53 -> #VALUE! | AW53: =AU53+AV53 -> #VALUE! | AX53: =(I53+K53+M53+Q53)-17 -> -1 | AY53: =O53+R53 -> 0
A54: 36 | B54: Nguyễn Thanh Quân | C54: Giáo viên | D54: Địa lý | E54: 11C2 (2), 11C3 (2), 12C1 (2); CĐ Địa: 11C2 (1), 11C3 (1), 12C1 (1) | F54: 9 | G54: CN 12C1 (4) | H54: 4 | I54: =F54+H54 -> 13 | L54: 12C1 (3) | M54: 3 | N54: 12C1 (2) | P54: 12C1, 12A3, 12A4, 10A2, 10B1, 10B2, 11C2, 11C3 | R54: 0 | S54: 0 | T54: 0 | U54: 0 | V54: 0 | W54: =I54+K54+M54+O54+Q54+R54+S54+T54+U54+V54 -> 16 | X54: =W54-17 -> -1 | Y54: 11C1 (3), 11C3 (3), 12C1 (3), 12C3 (3); | Z54: 12 | AA54: CN 12C3 (4) | AB54: 4 | AC54: =Z54+AB54 -> 16 | AD54: 12C3 (3) | AE54: 3 | AF54: 12C1 (2), 12C3 (2) | AG54: 4 | AJ54: 0 | AK54: 0 | AL54: 0 | AM54: 0 | AN54: 0 | AO54: =AC54+AE54+AG54+AI54+AJ54+AK54+AL54+AM54+AN54 -> 23 | AR54: =I54+M54 -> 16 | AS54: =AR54+O54 -> 16 | AT54: =AR54 -> 16 | AU54: =(((I54+M54)*18)-(17*18))+(O54*10)+Q54+R54+S54+T54+U54+V54 -> -18 | AV54: =L54+N54+(P54*10)+R54+S54+T54+U54+V54+W54 -> #VALUE! | AW54: =AU54+AV54 -> #VALUE! | AX54: =(I54+K54+M54+Q54)-17 -> -1 | AY54: =O54+R54 -> 0
A55: 37 | B55: Trần Song Hồng Đào | C55: Giáo viên | D55: Địa lý | E55: 10C1 (2), 10C3 (2), 12C2 (2). CĐ Địa: 10C1 (1), 10C3 (1), 12C2 (1). | F55: 9 | G55: CN 10C3 (4) | H55: 4 | I55: =F55+H55 -> 13 | L55: l2C2 (3) | M55: 3 | N55: 12C2 (2) | P55: 12C2, 12A5, 10C1, 10C3, 10A1, 11B1, 11B2 | W55: =I55+K55+M55+O55+Q55+R55+S55+T55+U55+V55 -> 16 | X55: =W55-17 -> -1 | AX55: =(I55+K55+M55+Q55)-17 -> -1 | AY55: =O55+R55 -> 0
A56: L | B56: MÔN GDTC | I56: =F56+H56 -> 0 | N56: =N56 -> 0 | W56: =I56+K56+M56+O56+Q56+R56+S56+T56+U56+V56 -> 0
A57: 38 | B57: Nguyễn Văn En | C57: Tổ trưởng CM | D57: GDTC | E57: 10B1(2),10B2(2),10C1(2),11B1(2),11B2(2),10C2(2),12A2(2),12A3(2) | F57: 16 | G57: TTCM(3) | H57: 3 | I57: =F57+H57 -> 19 | W57: =I57+K57+M57+O57+Q57+R57+S57+T57+U57+V57 -> 19 | X57: =W57-17 -> 2 | Y57: 10B1(2),10B2(2),11A4(2),11A5(2),12A1(2),12A2(2),12B3(2) | Z57: 14 | AA57: TTCM(3) | AB57: 3 | AC57: =Z57+AB57 -> 17 | AD57: 10A1 (3) | AE57: 3 | AO57: =AC57+AE57+AG57+AI57+AJ57+AK57+AL57+AM57+AN57 -> 20 | AR57: =I57+M57 -> 19 | AS57: =AR57+O57 -> 19 | AT57: =AR57 -> 19 | AU57: =(((I57+M57)*18)-(17*18))+(O57*10)+Q57+R57+S57+T57+U57+V57 -> 36 | AV57: =L57+N57+(P57*10)+R57+S57+T57+U57+V57+W57 -> 19 | AW57: =AU57+AV57 -> 55 | AX57: =(I57+K57+M57+Q57)-17 -> 2 | AY57: =O57+R57 -> 0
A58: 39 | B58: Phạm Hồng Hải | C58: Giáo viên | D58: GDTC | E58: 10C3(2),10C4(2),11C1(2),11C2(2)12A4(2),12A5(2) | F58: 12 | G58: CN 11C1 (4); TVTL (4) | H58: 8 | I58: =F58+H58 -> 20 | W58: =I58+K58+M58+O58+Q58+R58+S58+T58+U58+V58 -> 20 | X58: =W58-17 -> 3 | Y58: 10C1(2),10C2(2),11A2(2),11A3(2)12B1(2),12B2(2) | Z58: 12 | AA58: TVTL(4) | AB58: 4 | AC58: =Z58+AB58 -> 16 | AD58: 10A2 (3) | AE58: 3 | AO58: =AC58+AE58+AG58+AI58+AJ58+AK58+AL58+AM58+AN58 -> 19 | AR58: =I58+M58 -> 20 | AS58: =AR58+O58 -> 20 | AT58: =AR58 -> 20 | AU58: =(((I58+M58)*18)-(17*18))+(O58*10)+Q58+R58+S58+T58+U58+V58 -> 54 | AV58: =L58+N58+(P58*10)+R58+S58+T58+U58+V58+W58 -> 20 | AW58: =AU58+AV58 -> 74 | AX58: =(I58+K58+M58+Q58)-17 -> 3 | AY58: =O58+R58 -> 0
A59: 40 | B59: Trần Hồ Minh Tiến | C59: Giáo viên | D59: GDTC | E59: 10A1(2),10A2(2),12A1(2),11A1(2),11A2(2),12C1(2),12C2(2) | F59: 14 | G59: CN 11A1(4) | H59: 4 | I59: =F59+H59 -> 18 | W59: =I59+K59+M59+O59+Q59+R59+S59+T59+U59+V59 -> 18 | X59: =W59-17 -> 1 | Y59: 10A1(2),10A2(2),11A1(2),11C1(2)11C2(2),12C1(2),12C2(2) | Z59: 14 | AA59: CN 10A1(4) | AB59: 4 | AC59: =Z59+AB59 -> 18 | AO59: =AC59+AE59+AG59+AI59+AJ59+AK59+AL59+AM59+AN59 -> 18 | AR59: =I59+M59 -> 18 | AS59: =AR59+O59 -> 18 | AT59: =AR59 -> 18 | AU59: =(((I59+M59)*18)-(17*18))+(O59*10)+Q59+R59+S59+T59+U59+V59 -> 18 | AV59: =L59+N59+(P59*10)+R59+S59+T59+U59+V59+W59 -> 18 | AW59: =AU59+AV59 -> 36 | AX59: =(I59+K59+M59+Q59)-17 -> 1 | AY59: =O59+R59 -> 0
A60: M | B60: MÔN GDQP-AN | I60: =F60+H60 -> 0 | W60: =I60+K60+M60+O60+Q60+R60+S60+T60+U60+V60 -> 0
A61: 41 | B61: Nguyễn Thị Thu Hằng | C61: Giáo viên | D61: GDQP &AN | E61: 10A1(1),10A2(1),10B1(1),10B2(1),10C1(1),10C2(1),10C3,10C4,11A1(1),11A2(1),11B1(1),11B2(1),11C1(1),11C2(1),12A1(1),12A2(1),12A3(1),12A4(1),12A5(1),12C1(1),12C2(1) | F61: 21 | I61: =F61+H61 -> 21 | W61: =I61+K61+M61+O61+Q61+R61+S61+T61+U61+V61 -> 21 | X61: =W61-17 -> 4 | Y61: 10A1(1),10A2(1),10B1(1),10B2(1),10C1(1),10C2(1),11A1(1),11A2(1),11A3(1),11A4(1),11A5(1),11C1(1),11C2(1),12A1(1),12A2(1),12B1(1),12B2(1),12B3(1),12C1(1),12C2(1) | Z61: 20 | AC61: =Z61+AB61 -> 20 | AO61: =AC61+AE61+AG61+AI61+AJ61+AK61+AL61+AM61+AN61 -> 20 | AR61: =I61+M61 -> 21 | AS61: =AR61+O61 -> 21 | AT61: =AR61 -> 21 | AU61: =(((I61+M61)*18)-(17*18))+(O61*10)+Q61+R61+S61+T61+U61+V61 -> 72 | AV61: =L61+N61+(P61*10)+R61+S61+T61+U61+V61+W61 -> 21 | AW61: =AU61+AV61 -> 93 | AX61: =(I61+K61+M61+Q61)-17 -> 4 | AY61: =O61+R61 -> 0
A62: N | B62: MÔN LỊCH SỬ | I62: =F62+H62 -> 0 | W62: =I62+K62+M62+O62+Q62+R62+S62+T62+U62+V62 -> 0 | X62: =W62-V17 -> 0 | AC62: =Z62+AB62 -> 0 | AO62: =AC62+AE62+AG62+AI62+AJ62+AK62+AL62+AM62+AN62 -> 0 | AR62: =I62+M62 -> 0 | AS62: =AR62+O62 -> 0 | AT62: =AR62 -> 0 | AU62: =(((I62+M62)*18)-(17*18))+(O62*10)+Q62+R62+S62+T62+U62+V62 -> -306 | AV62: =L62+N62+(P62*10)+R62+S62+T62+U62+V62+W62 -> 0 | AW62: =AU62+AV62 -> -306 | AX62: =(I62+K62+M62+Q62) -> 0 | AY62: =O62+R62 -> 0
A63: 42 | B63: Phạm Thị Ngọc Diệu | C63: Giáo viên | D63: Lịch sử | E63: 12A1(2), 12A2 (2), 12A3(2), 12A4(2), 12C2(2), 12C3(2), 11A1(1), 11A2(1), 11B1 (1), 11B2(1), 11C1(1), 11C2(1), 11C3(1). CĐ: 12C2(1), 12C3(1), 11C1(1), 11C2(1), 11C3(1). | F63: 24 | G63: 0 | H63: 0 | I63: =F63+H63 -> 24 | N63: 12A1+12A2 (2), 12A3+12A4+12A5 (2), 12C2 (2), 12C3 (2) | O63: 0 | Q63: 0 | R63: 0 | S63: 0 | T63: 0 | U63: 0 | V63: 0 | W63: =I63+K63+M63+O63+Q63+R63+S63+T63+U63+V63 -> 24 | X63: =W63-17 -> 7 | AC63: =Z63+AB63 -> 0 | AO63: =AC63+AE63+AG63+AI63+AJ63+AK63+AL63+AM63+AN63 -> 0 | AR63: =I63+M63 -> 24 | AS63: =AR63+O63 -> 24 | AT63: =AR63 -> 24 | AU63: =(((I63+M63)*18)-(17*18))+(O63*10)+Q63+R63+S63+T63+U63+V63 -> 126 | AV63: =L63+N63+(P63*10)+R63+S63+T63+U63+V63+W63 -> #VALUE! | AW63: =AU63+AV63 -> #VALUE! | AX63: =(I63+K63+M63+Q63)-17 -> 7 | AY63: =O63+R63 -> 0
A64: 43 | B64: Lê Thị Cẩm Quyên | C64: Giáo viên | D64: Lịch sử | E64: 12A5(2), 12C1(2), 10A1(2), 10A2(2), 10B1(2), 10B2(2), 10C1(2), 10C2(2), 10C3(2) 10C4(2). CĐ: 12C1(1), 10C1(1), 10C2(1), 10C3(1), 10C4(1) | F64: 25 | G64: 0 | H64: 0 | I64: =F64+H64 -> 25 | N64: 12C1(2) | R64: 0 | S64: 0 | T64: 0 | U64: 0 | V64: 0 | W64: =I64+K64+M64+O64+Q64+R64+S64+T64+U64+V64 -> 25 | X64: =W64-17 -> 8 | AC64: =Z64+AB64 -> 0 | AO64: =AC64+AE64+AG64+AI64+AJ64+AK64+AL64+AM64+AN64 -> 0 | AR64: =I64+M64 -> 25 | AS64: =AR64+O64 -> 25 | AT64: =AR64 -> 25 | AU64: =(((I64+M64)*18)-(17*18))+(O64*10)+Q64+R64+S64+T64+U64+V64 -> 144 | AV64: =L64+N64+(P64*10)+R64+S64+T64+U64+V64+W64 -> #VALUE! | AW64: =AU64+AV64 -> #VALUE! | AX64: =(I64+K64+M64+Q64)-17 -> 8 | AY64: =O64+R64 -> 0
W65: =I65+K65+M65+O65+Q65+R65+S65+T65+U65+V65 -> 0
A66: O | B66: MÔN TIN | I66: =F66+H66 -> 0 | W66: =I66+K66+M66+O66+Q66+R66+S66+T66+U66+V66 -> 0
A67: 44 | B67: Nguyễn Thị Huyền Trân | C67: Giáo viên | D67: Tin học | E67: Tin: 12A1(2), 12A2(2), 12A5 (2), 12C3(2), 10B1(2),10B2(2),10C3(2),10C4(2) | F67: 16 | G67: CNTT (3) | H67: 3 | I67: =F67+H67 -> 19 | J67: 10C3, 10C4, 12A5, 12C3 | K67: 4 | W67: =I67+K67+M67+O67+Q67+R67+S67+T67+U67+V67 -> 23 | X67: =W67-17 -> 6 | Y67: Tin: 12A1(2), 12A2(2), 12C3(2), 11A1(2), 11A2(2), 11A5(2) | Z67: 12 | AA67: CN 12A2(4) CNTT(3) | AB67: 7 | AC67: =Z67+AB67 -> 19 | AO67: =AC67+AE67+AG67+AI67+AJ67+AK67+AL67+AM67+AN67 -> 19 | AR67: =I67+M67 -> 19 | AS67: =AR67+O67 -> 19 | AT67: =AR67 -> 19 | AU67: =(((I67+M67)*18)-(17*18))+(O67*10)+Q67+R67+S67+T67+U67+V67 -> 36 | AV67: =L67+N67+(P67*10)+R67+S67+T67+U67+V67+W67 -> 23 | AW67: =AU67+AV67 -> 59 | AX67: =(I67+K67+M67+Q67)-17 -> 6 | AY67: =O67+R67 -> 0
A68: 45 | B68: Trương Phụng Thọ | C68: Tổ phó CM | D68: Tin học | E68: Tin: 11A1(2),11A2(2),11C1(2),11C2(2),11C3(2) | F68: 10 | G68: CN 11C3(4) TPCM(1) | H68: 5 | I68: =F68+H68 -> 15 | J68: 11C1, 11C2, 11C3 | K68: 3 | L68: 11C3 (3) | M68: 3 | W68: =I68+K68+M68+O68+Q68+R68+S68+T68+U68+V68 -> 21 | X68: =W68-17 -> 4 | Y68: Tin: 10A1(2), 10A2(2), 10C1(2), 10C2(2), 10C3(2), 11C3(2) | Z68: 12 | AA68: CN 10C3(4) TPCM(1) | AB68: 5 | AC68: =Z68+AB68 -> 17 | AD68: 10C3 (3) | AE68: 3 | AO68: =AC68+AE68+AG68+AI68+AJ68+AK68+AL68+AM68+AN68 -> 20 | AR68: =I68+M68 -> 18 | AS68: =AR68+O68 -> 18 | AT68: =AR68 -> 18 | AU68: =(((I68+M68)*18)-(17*18))+(O68*10)+Q68+R68+S68+T68+U68+V68 -> 18 | AV68: =L68+N68+(P68*10)+R68+S68+T68+U68+V68+W68 -> #VALUE! | AW68: =AU68+AV68 -> #VALUE! | AX68: =(I68+K68+M68+Q68)-17 -> 4 | AY68: =O68+R68 -> 0
A69: P | B69: GIÁO DỤC ĐỊA PHƯƠNG/THỈNH GIẢNG | I69: =F69+H69 -> 0 | W69: =I69+K69+M69+O69+Q69+R69+S69+T69+U69+V69 -> 0
B70: Nguyễn Thị Thúy Hồng | D70: Âm nhạc | E70: 8 K12 | F70: 8 | I70: =F70+H70 -> 8 | W70: =I70+K70+M70+O70+Q70+R70+S70+T70+U70+V70 -> 8 | AC70: =Z70+AB70 -> 0 | AO70: =AC70+AE70+AG70+AI70+AJ70+AK70+AL70+AM70+AN70 -> 0 | AR70: =I70+M70 -> 8 | AS70: =AR70+O70 -> 8 | AT70: =AR70 -> 8 | AU70: =(((I70+M70)*18)-(17*18))+(O70*10)+Q70+R70+S70+T70+U70+V70 -> -162 | AV70: =L70+N70+(P70*10)+R70+S70+T70+U70+V70+W70 -> 8 | AW70: =AU70+AV70 -> -154 | AX70: =(I70+K70+M70+Q70) -> 8 | AY70: =O70+R70 -> 0
B71: Nguyễn Thị Thùy Ngân | D71: Mĩ thuật | E71: 7 K11 | F71: 7 | I71: =F71+H71 -> 7 | W71: =I71+K71+M71+O71+Q71+R71+S71+T71+U71+V71 -> 7 | AX71: =(I71+K71+M71+Q71) -> 7 | AY71: =O71+R71 -> 0
W72: =I72+K72+M72+O72+Q72+R72+S72+T72+U72+V72 -> 0 | AX72: =(I72+K72+M72+Q72) -> 0 | AY72: =O72+R72 -> 0
W73: =I73+K73+M73+O73+Q73+R73+S73+T73+U73+V73 -> 0 | AX73: =(I73+K73+M73+Q73) -> 0 | AY73: =O73+R73 -> 0
W74: =I74+K74+M74+O74+Q74+R74+S74+T74+U74+V74 -> 0 | AX74: =(I74+K74+M74+Q74) -> 0 | AY74: =O74+R74 -> 0
N76: Cần Đước, ngày tháng năm 2026
O77: HIỆU TRƯỞNG
O83: Nguyễn Minh Triều
A85: Tổng số lớp: 23 lớp. Trong đó chia ra:
B86: Khối 10: GDPT 08 lớp
B87: Khối 11: GDPT 06 lớp, GDTX 01 lớp.
B88: Khối 12: GDPT 07 lớp, GDTX 01 lớp.
A89: Tổng số VC, NLĐ: 45; trong đó: CBQL: 03; GV: 42; Nhân viên: 04,
B90: Hợp đồng theo NĐ 111: 02 bảo vệ.
A92: Công tác chủ nhiệm | H92: Khối 10 (26.27) | M92: Khối 11 (25.26) | P92: Khối 12 (24.25)
A93: Khối 10 | C93: Khối 11 | E93: Khối 12 | H93: Tổ hợp Môn học lựa chọn (04 môn) | I93: Cụm Chuyên đề học tập có môn học lựa chọn (03 chuyên đề) | L93: Số lớp (8) | M93: Tổ hợp Môn học lựa chọn (04 môn) | N93: Cụm Chuyên đề học tập có môn học lựa chọn (03 chuyên đề) | O93: Số lớp (7) | P93: Tổ hợp Môn học lựa chọn (04 môn) | Q93: Cụm Chuyên đề học tập có môn học lựa chọn (03 chuyên đề) | R93: Số lớp (8)
A94: 10A1: | B94: Giang | C94: 11A1: | D94: Tiến | E94: 12A1: | F94: Khanh | H94: Lý, Hóa, Sinh, Công nghệ (T.Kế&CN) | I94: Toán, Lý, Hóa | L94: 10A1, 10A2 | M94: Lý (2), Hóa (2), Sinh (2), Tin học (2) | N94: Toán (1), Lý (1), Hóa (1) | O94: 11A1, 11A2 | P94: Lý (2), Hóa (2), Sinh (2), Tin học (2) | Q94: Toán, Lý (1), Hóa (1) | R94: 12A1,12A2
A95: 10A2: | B95: Ngân | C95: 11A2: | D95: Duyên | E95: 12A2: | F95: Hà | H95: Lý, Hóa, Sinh, Tin học | I95: Toán, Hóa, Sinh | L95: 10B1, 10B2 | M95: Lý (2), Hóa (2), Sinh (2), Công nghệ (2) (trồng trọt) | N95: Toán (1), Hóa(1), Sinh(1) | O95: 11B1, 11B2 | P95: Lý (2), Hóa (2), Sinh (2), Công nghệ (2) (trồng trọt) | Q95: Toán, Lý (1), Hóa (1) | R95: 12A3,12A4
A96: 10B1: | B96: Lài | C96: 11B1: | D96: Tràng | E96: 12A3: | F96: Thảo | H96: Hóa, Sinh, Địa, Giáo dục KT&PL | I96: Văn, Sử, Địa | L96: 10C1 | M96: Lý (2), Tin (2), Địa (2), Giáo dục KT và PL (2) | N96: Văn (1), Sử (1), Địa (1) | O96: 11C1, 11C2 | P96: Lý (2), Hóa (2),Tin (2), Công nghệ (2) (T.Kế&CN) | Q96: Toán, Lý (1), Hóa (1) | R96: 12A5
A97: 10B2: | B97: Thủy | C97: 11B2: | D97: Phong | E97: 12A4: | F97: Tân | H97: Lý, CN(T.Kế&CN), Địa,Giáo dục KT&PL | I97: Văn, Sử, Địa | L97: 10C2 | M97: Địa (2), Giáo dục KT và PL (2), Tin học (2), Lý (2) | N97: Văn (1), Sử (1), Địa (1) | O97: 11C3 | P97: Lý (2), Hóa (2), Địa, Giáo dục KT và PL (2) | Q97: Văn (1), Sử (1), Địa (1) | R97: 12C1,12C2
A98: 10C1: | B98: Tiên | C98: 11C1: | D98: Hải | E98: 12A5: | F98: Khoa | H98: Lý,Tin, Địa, Giáo dục KT&PL | I98: Văn, Sử, Địa | L98: 10C3,10C4 | P98: Địa (2), Giáo dục KT và PL (2), Tin học (2), Công nghệ (2) (T.Kế&CN) | Q98: Văn (1), Sử (1), Địa (1) | R98: 12C3
A99: 10C2: | B99: An | C99: 11C2: | D99: Thoa | E99: 12C1: | F99: Quân
A100: 10C3: | B100: Đào | C100: 11C3: | D100: Thọ | E100: 12C2: | F100: Thạch
A101: 10C4: | B101: Vy | E101: 12C3: | F101: Nhàn
A103: Trải nghiệm HN
A104: Khối 10 | C104: Khối 11 | E104: Khối 12
A105: 10A1: | C105: 11A1: | E105: 12A1:
A106: 10A2: | C106: 11A2: | E106: 12A2:
A107: 10B1: | C107: 11B1: | E107: 12A3:
A108: 10B2: | C108: 11B2: | E108: 12A4:
A109: 10C1: | C109: 11C1: | E109: 12A5:
...

Sheet T4
A1: SỞ GIÁO DỤC VÀ ĐÀO TẠO TÂY NINH | D1: CỘNG HÒA XÃ HỘI CHỦ NGHĨA VIỆT NAM | R1: Tổng số lớp: 23 lớp. Trong đó chia ra:
A2: TRƯỜNG THPT CHU VĂN AN | D2: Độc lập -Tự do - Hạnh phúc | Q2: Khối 10: GDPT 08 lớp
A3: BẢNG PHÂN CÔNG CHUYÊN MÔN NĂM HỌC 2026- 2027- Áp dụng 28.9.2026 - Tuần 4 | Q3: Khối 11: GDPT 06 lớp, GDTX 01 lớp.
Q4: Khối 12: GDPT 07 lớp, GDTX 01 lớp. | AU4: =54-18 -> 36 | AV4: =51-17 -> 34
A5: STT | B5: Họ và tên | C5: Chức vụ/Vị trí công tác | D5: Chuyên môn | E5: DẠY LỚP VÀ KIÊM NHIỆM HK1 | I5: Cộng số tiết dạy lớp và kiêm nhiệm/ tuần | J5: AI | L5: HĐ trải nghiệm- HN | N5: Ôn thi TN THPT HK1 | P5: Giáo dục địa phương | R5: Số tiết quy đổi HK1 | W5: Tổng số tiết/ tuần | X5: Ghi chú | Y5: DẠY LỚP VÀ KIÊM NHIỆM HỌC KỲ 2 | AC5: Cộng số tiết dạy lớp và kiêm nhiệm/ tuần | AD5: HĐ trải nghiệm- HN | AF5: Ôn thi TN THPT HK1 | AH5: Giáo dục địa phương | AJ5: Số tiết quy đổi HK2 | AO5: Tổng số tiết/ tuần | AP5: Ghi chú | AR5: T1-6, | AS5: T7-16 | AT5: T17,18 | AU5: TS tiết tăng HK1 | AV5: TS tiết tăng HK2 | AW5: TS tiết tăng CN | AX5: Tổng số tiết tăng HK1 buổi 1 | AY5: Tổng số tiết tăng HK1 buổi 2
E6: Phân công chuyên môn (Dạy lớp)- HK1 | G6: Công việc kiêm nhiệm (TTCM, TPCM, BTĐTN, P.BTĐTN, CTCĐ, PCTCĐ, BCHCĐ, TTCĐ, TTND, TV, TB, VN, TDTT, C.Nhiệm lớp, TVTL...) | J6: PC lớp | K6: Số tiết | L6: PC lớp | M6: TS tiết | N6: PC lớp dạy ôn thi TN THPT HK1 | O6: TS tiết | P6: PC lớp dạy Giáo dục địa phương | Q6: TS tiết | R6: Số tiết dạy BD HSG (1t dạy trực tiếp=1t quy đổi) | S6: Số tiết BD Hội thao quốc phòng (1t dạy trực tiếp=1t quy đổi) | T6: Số tiết BD Hội khỏe PĐ (1t dạy trực tiếp=1t quy đổi) | U6: Số tiết BD KHKT (1t dạy trực tiếp=1t quy đổi) | V6: Số tiết BGK chấm thi cấp trường (1t dạy trực tiếp=1t quy đổi) | Y6: Phân công chuyên môn (Dạy lớp)- HK2 | AA6: Công việc kiêm nhiệm (TTCM, TPCM, BTĐTN, P.BTĐTN, CTCĐ, PCTCĐ, BCHCĐ, TTCĐ, TTND, TV, TB, VN, TDTT, C.Nhiệm lớp, TVTL...) | AD6: PC lớp | AE6: TS tiết | AF6: PC lớp dạy ôn thi TN THPT HK1 | AG6: TS tiết | AH6: PC lớp dạy Giáo dục địa phương | AI6: TS tiết | AJ6: Số tiết dạy BD HSG (1t dạy trực tiếp=1t quy đổi) | AK6: Số tiết BD Hội thao quốc phòng (1t dạy trực tiếp=1t quy đổi) | AL6: Số tiết BD Hội khỏe PĐ (1t dạy trực tiếp=1t quy đổi) | AM6: Số tiết BD KHKT (1t dạy trực tiếp=1t quy đổi) | AN6: Số tiết BGK chấm thi cấp trường (1t dạy trực tiếp=1t quy đổi) | AR6: Số tiết /tuần | AS6: Số tiết /tuần | AT6: Số tiết /tuần
E7: Dạy lớp (Môn dạy) | F7: Tổng số tiết | G7: Kiêm nhiệm | H7: Số tiết kiêm nhiệm | Y7: Dạy lớp (Môn dạy, HĐTNHN) | Z7: Tổng số tiết | AA7: Kiêm nhiệm | AB7: Số tiết kiêm nhiệm | AS7: Dạy ôn TN | AU7: =SUM(AU10:AU69) -> 720 | AV7: =SUM(AV10:AV69) -> #VALUE! | AW7: =AV7+AU7 -> #VALUE!
A8: 1 | B8: 2 | C8: 3 | D8: 4 | E8: 5 | F8: 6 | G8: 7 | H8: 8 | I8: 9 | J8: 10 | K8: 11 | L8: 12 | M8: 13 | N8: 14 | O8: 15 | P8: 16 | Q8: 16 | R8: 17 | S8: 18 | T8: 19 | U8: 20 | V8: 21 | W8: 22 | X8: 23 | Y8: 23 | Z8: 24 | AA8: 25 | AB8: 26 | AC8: 27 | AD8: 28 | AE8: 29 | AF8: 30 | AG8: 31 | AH8: 32 | AI8: 33 | AJ8: 34 | AK8: 35 | AL8: 36 | AM8: 37 | AN8: 38 | AO8: 39 | AP8: 40
B9: Cán bộ quản lý
A10: 1 | B10: Nguyễn Minh Triều | C10: Hiệu trưởng | D10: Vật lý | G10: HT (15) | H10: 15 | I10: =F10+H10 -> 15 | L10: 10C3 (3) | M10: 3 | W10: =I10+K10+M10+O10+Q10+R10+S10+T10+U10+V10 -> 18 | X10: =W10-17 -> 1 | AA10: HT (15) | AB10: 15 | AC10: =Z10+AB10 -> 15 | AD10: 12B1 (3) | AE10: 3 | AO10: =AC10+AE10+AG10+AI10+AJ10+AK10+AL10+AM10+AN10 -> 18 | AR10: =I10+M10 -> 18 | AS10: =AR10+O10 -> 18 | AT10: =AR10 -> 18 | AU10: =(((I10+M10)*18)-(17*18))+(O10*10)+Q10+R10+S10+T10+U10+V10 -> 18 | AV10: =(((AC10+AE10)*17)-(17*17))+(AG10*17)+AI10+AJ10+AK10+AL10+AM10+AN10 -> 17 | AW10: =AU10+AV10 -> 35 | AX10: =(I10+K10+M10+Q10)-15-2 -> 1 | AY10: =O10+R10 -> 0
A11: 2 | B11: Mã Thành Thái | C11: Phó Hiệu trưởng | D11: Ngữ văn | E11: 10A1 (3); 10C4 (4) | F11: 7 | G11: PHT (13) | H11: 13 | I11: =F11+H11 -> 20 | N11: 0 | T11: 0 | U11: 0 | V11: 0 | W11: =I11+K11+M11+O11+Q11+R11+S11+T11+U11+V11 -> 20 | X11: =W11-17 -> 3 | Y11: 11C3 (4), 11A4 (3) | Z11: 7 | AA11: PHT (13) | AB11: 13 | AC11: =Z11+AB11 -> 20 | AF11: 0 | AG11: 0 | AJ11: 0 | AK11: 0 | AL11: 0 | AM11: 0 | AN11: 0 | AO11: =AC11+AE11+AG11+AI11+AJ11+AK11+AL11+AM11+AN11 -> 20 | AP11: Cống hiến 01 tiết chính khoá/01 tuần và tiết chấm giám khảo | AR11: =I11+M11 -> 20 | AS11: =AR11+O11 -> 20 | AT11: =AR11 -> 20 | AU11: =(((I11+M11)*18)-(17*18))+(O11*10)+Q11+R11+S11+T11+U11+V11 -> 54 | AV11: =(((AC11+AE11)*17)-(17*17))+(AG11*17)+AI11+AJ11+AK11+AL11+AM11+AN11 -> 51 | AW11: =AU11+AV11 -> 105 | AX11: =(I11+K11+M11+Q11)-13-4 -> 3 | AY11: =O11+R11 -> 0
A12: 3 | B12: Nguyễn Thị Anh Đào | C12: Phó Hiệu trưởng | D12: Hóa học | G12: PHT (13) | H12: 13 | I12: =F12+H12 -> 13 | L12: 12A4 (3), 12A5 (3) | M12: 6 | W12: =I12+K12+M12+O12+Q12+R12+S12+T12+U12+V12 -> 19 | X12: =W12-17 -> 2 | Z12: =N12+P12+R12+T12+U12+V12+W12+X12+Y12 -> 21 | AA12: PHT (13) | AB12: 13 | AC12: =Z12+AB12 -> 34 | AD12: 12B3 (3), 12C1 (3) | AE12: 6 | AO12: =AC12+AE12+AG12+AI12+AJ12+AK12+AL12+AM12+AN12 -> 40 | AR12: =I12+M12 -> 19 | AS12: =AR12+O12 -> 19 | AT12: =AR12 -> 19 | AU12: =(((I12+M12)*18)-(17*18))+(O12*10)+Q12+R12+S12+T12+U12+V12 -> 36 | AV12: =(((AC12+AE12)*17)-(17*17))+(AG12*17)+AI12+AJ12+AK12+AL12+AM12+AN12 -> 391 | AW12: =AU12+AV12 -> 427 | AX12: =(I12+K12+M12+Q12)-13-4 -> 2 | AY12: =O12+R12 -> 0
A13: A | B13: MÔN TOÁN | W13: =I13+K13+M13+O13+Q13+R13+S13+T13+U13+V13 -> 0
A14: 4 | B14: Phạm Duy Phương | C14: Tổ phó CM | D14: Toán | E14: Toán: 11A1(3), 11A2(3), 10B1(3), 10B2(3) CĐ Toán: 11A1(1), 11A2(1), 10B1(1), 10B2(1) | F14: 16 | G14: TPCM (1) | H14: 1 | I14: 17 | W14: =I14+K14+M14+O14+Q14+R14+S14+T14+U14+V14 -> 17 | X14: =W14-17 -> 0 | Y14: Toán: 10A1 (4), 10A2 (4), 10C1 (3),10C2 (3), 10C3 (3), 11A5 (4), 11C3 (3) | Z14: 24 | AA14: TPCM (1). | AB14: 1 | AC14: =Z14+AB14 -> 25 | AO14: =AC14+AE14+AG14+AI14+AJ14+AK14+AL14+AM14+AN14 -> 25 | AP14: Học TCCT | AR14: =I14+M14 -> 17 | AS14: =AR14+O14 -> 17 | AT14: =AR14 -> 17 | AU14: =(((I14+M14)*18)-(17*18))+(O14*10)+Q14+R14+S14+T14+U14+V14 -> 0 | AV14: =(((AC14+AE14)*17)-(17*17))+(AG14*17)+AI14+AJ14+AK14+AL14+AM14+AN14 -> 136 | AW14: =AU14+AV14 -> 136 | AX14: =(I14+K14+M14+Q14)-17 -> 0 | AY14: =O14+R14 -> 0
A15: 5 | B15: Nguyễn Thị Kim Xuân | C15: Giáo viên | D15: Toán | E15: Toán: 12A1(3), 12A4(3), 10A1(3), 10C1(3), CĐ Toán: 12A1(1), 12A4(1), 10A1 (1). | F15: 15 | H15: 0 | I15: 15 | N15: 12A1, 12A4 | W15: =I15+K15+M15+O15+Q15+R15+S15+T15+U15+V15 -> 15 | X15: =W15-17 -> -2 | Y15: Toán: 11A4 (4), 12B2 (4), 12C1(3). | Z15: 11 | AA15: C.Nhiệm 12C1 (4) | AB15: 4 | AC15: =Z15+AB15 -> 15 | AF15: Toán: 12B2, 12C1 | AG15: 4 | AO15: =AC15+AE15+AG15+AI15+AJ15+AK15+AL15+AM15+AN15 -> 19 | AR15: =I15+M15 -> 15 | AS15: =AR15+O15 -> 15 | AT15: =AR15 -> 15 | AU15: =(((I15+M15)*18)-(17*18))+(O15*10)+Q15+R15+S15+T15+U15+V15 -> -36 | AV15: =(((AC15+AE15)*17)-(17*17))+(AG15*17)+AI15+AJ15+AK15+AL15+AM15+AN15 -> 34 | AW15: =AU15+AV15 -> -2 | AX15: =(I15+K15+M15+Q15)-17 -> -2 | AY15: =O15+R15 -> 0
A16: 6 | B16: Huỳnh Thanh Nhàn | C16: Giáo viên | D16: Toán | E16: Toán: 12C1(3), 12C3(3), 11C1(3), 11C2(3) CĐ Toán: | F16: 12 | G16: C.Nhiệm 12C3(4) | H16: 4 | I16: 16 | N16: 12C1, 12C3 | W16: =I16+K16+M16+O16+Q16+R16+S16+T16+U16+V16 -> 16 | X16: =W16-17 -> -1 | Y16: Toán: 12A2 (4), 12B3(4). | Z16: 8 | AA16: C.Nhiệm 12A2 (4), P.BTĐTN (6) | AB16: 10 | AC16: =Z16+AB16 -> 18 | AF16: Toán: 12A2, 12B3 | AG16: 4 | AO16: =AC16+AE16+AG16+AI16+AJ16+AK16+AL16+AM16+AN16 -> 22 | AR16: =I16+M16 -> 16 | AS16: =AR16+O16 -> 16 | AT16: =AR16 -> 16 | AU16: =(((I16+M16)*18)-(17*18))+(O16*10)+Q16+R16+S16+T16+U16+V16 -> -18 | AV16: =(((AC16+AE16)*17)-(17*17))+(AG16*17)+AI16+AJ16+AK16+AL16+AM16+AN16 -> 85 | AW16: =AU16+AV16 -> 67 | AX16: =(I16+K16+M16+Q16)-17 -> -1 | AY16: =O16+R16 -> 0
A17: 7 | B17: Nguyễn Thị Hồng Thảo | C17: Giáo viên | D17: Toán | E17: Toán: 12A3(3), 12A5(3), 10C4(3) CĐ Toán: 12A3(1), 12A5(1) | F17: 11 | G17: C.Nhiệm 12A3(4) | H17: 4 | I17: 15 | N17: 12A3, 12A5 | W17: =I17+K17+M17+O17+Q17+R17+S17+T17+U17+V17 -> 15 | X17: =W17-17 -> -2 | Y17: Toán: 11A3(4), 11C1(3), 12A1 (4), 12C2(3). | Z17: 14 | AA17: C.Nhiệm 11A3 (4) | AB17: 4 | AC17: =Z17+AB17 -> 18 | AF17: Toán: 12A1, 12C2 | AG17: 4 | AO17: =AC17+AE17+AG17+AI17+AJ17+AK17+AL17+AM17+AN17 -> 22 | AR17: =I17+M17 -> 15 | AS17: =AR17+O17 -> 15 | AT17: =AR17 -> 15 | AU17: =(((I17+M17)*18)-(17*18))+(O17*10)+Q17+R17+S17+T17+U17+V17 -> -36 | AV17: =(((AC17+AE17)*17)-(17*17))+(AG17*17)+AI17+AJ17+AK17+AL17+AM17+AN17 -> 85 | AW17: =AU17+AV17 -> 49 | AX17: =(I17+K17+M17+Q17)-17 -> -2 | AY17: =O17+R17 -> 0
A18: 8 | B18: Trần Thị Kim Ngân | C18: Giáo viên | D18: Toán | E18: Toán: 11B1(3), 11C3(3), 10A2(3), 10C3(3); 10C2(3) CĐ Toán: 11B1(1), 10A2(1), | F18: 17 | G18: C.Nhiệm 10A2(4) | H18: 4 | I18: 21 | W18: =I18+K18+M18+O18+Q18+R18+S18+T18+U18+V18 -> 21 | X18: =W18-17 -> 4 | Y18: Toán: 11A2(4), 12B1 (4), 12C3(3). | Z18: 11 | AA18: C.Nhiệm 12B1 (4) | AB18: 4 | AC18: =Z18+AB18 -> 15 | AF18: Toán: 12B1, 12C3 | AG18: 4 | AO18: =AC18+AE18+AG18+AI18+AJ18+AK18+AL18+AM18+AN18 -> 19 | AR18: =I18+M18 -> 21 | AS18: =AR18+O18 -> 21 | AT18: =AR18 -> 21 | AU18: =(((I18+M18)*18)-(17*18))+(O18*10)+Q18+R18+S18+T18+U18+V18 -> 72 | AV18: =(((AC18+AE18)*17)-(17*17))+(AG18*17)+AI18+AJ18+AK18+AL18+AM18+AN18 -> 34 | AW18: =AU18+AV18 -> 106 | AX18: =(I18+K18+M18+Q18)-17 -> 4 | AY18: =O18+R18 -> 0
A19: 9 | B19: Võ Nguyên Thạch | C19: Giáo viên | D19: Toán | E19: Toán: 12A2(3), 12C2 (3), 11B2(3) CĐ Toán: 12A2(1), 11B2(1) | F19: 11 | G19: C.Nhiệm 12C2(4) | H19: 4 | I19: 15 | N19: 12A2, 12C2 | W19: =I19+K19+M19+O19+Q19+R19+S19+T19+U19+V19 -> 15 | X19: =W19-17 -> -2 | Y19: Toán: 10A3(4), 10A4 (4), 11A1 (4), 11C2(3). | Z19: 15 | AA19: C.Nhiệm 11C2 (4) | AB19: 4 | AC19: =Z19+AB19 -> 19 | AO19: =AC19+AE19+AG19+AI19+AJ19+AK19+AL19+AM19+AN19 -> 19 | AR19: =I19+M19 -> 15 | AS19: =AR19+O19 -> 15 | AT19: =AR19 -> 15 | AU19: =(((I19+M19)*18)-(17*18))+(O19*10)+Q19+R19+S19+T19+U19+V19 -> -36 | AV19: =(((AC19+AE19)*17)-(17*17))+(AG19*17)+AI19+AJ19+AK19+AL19+AM19+AN19 -> 34 | AW19: =AU19+AV19 -> -2 | AX19: =(I19+K19+M19+Q19)-17 -> -2 | AY19: =O19+R19 -> 0
A20: B | B20: MÔN TIẾNG ANH | I20: =F20+H20 -> 0 | W20: =I20+K20+M20+O20+Q20+R20+S20+T20+U20+V20 -> 0
A21: 10 | B21: Phạm Thị Thanh Giang | C21: Tổ trưởng CM | D21: Tiếng Anh | E21: 10A2 (3), 10B1(3), 12C1(3), 10A1 (3) | F21: 12 | G21: CN 10A1 (4), TTCM(3) | H21: 7 | I21: =F21+H21 -> 19 | L21: 10A1 (3) | M21: 3 | W21: =I21+K21+M21+O21+Q21+R21+S21+T21+U21+V21 -> 22 | X21: =W21-17 -> 5 | Y21: 10A1 (3) ,10A2(3)10B1(3),12B2(3) | Z21: 12 | AA21: CN10A2(4) TTCM(3) | AB21: 7 | AC21: =Z21+AB21 -> 19 | AO21: =AC21+AE21+AG21+AI21+AJ21+AK21+AL21+AM21+AN21 -> 19 | AR21: =I21+M21 -> 22 | AS21: =AR21+O21 -> 22 | AT21: =AR21 -> 22 | AU21: =(((I21+M21)*18)-(17*18))+(O21*10)+Q21+R21+S21+T21+U21+V21 -> 90 | AV21: =L21+N21+(P21*10)+R21+S21+T21+U21+V21+W21 -> #VALUE! | AW21: =AU21+AV21 -> #VALUE! | AX21: =(I21+K21+M21+Q21)-17 -> 5 | AY21: =O21+R21 -> 0
A22: 11 | B22: Nguyễn Trương Đăng Khoa | C22: Giáo viên | D22: Tiếng Anh | E22: 10C3 (3), 10C1(3), 10C4(3), 12A4(3), 12A5 (3) | F22: 15 | G22: CN 12A5 (4) | H22: 4 | I22: =F22+H22 -> 19 | W22: =I22+K22+M22+O22+Q22+R22+S22+T22+U22+V22 -> 19 | X22: =W22-17 -> 2 | Y22: 11A5(3),11C1(3), 11C2(3),12A2(3),12B1(3) | Z22: 15 | AA22: CN 11C1(4) | AB22: 4 | AC22: =Z22+AB22 -> 19 | AF22: 12A2,12B | AG22: 2 | AO22: =AC22+AE22+AG22+AI22+AJ22+AK22+AL22+AM22+AN22 -> 21 | AR22: =I22+M22 -> 19 | AS22: =AR22+O22 -> 19 | AT22: =AR22 -> 19 | AU22: =(((I22+M22)*18)-(17*18))+(O22*10)+Q22+R22+S22+T22+U22+V22 -> 36 | AV22: =L22+N22+(P22*10)+R22+S22+T22+U22+V22+W22 -> 19 | AW22: =AU22+AV22 -> 55 | AX22: =(I22+K22+M22+Q22)-17 -> 2 | AY22: =O22+R22 -> 0
A23: 12 | B23: Nguyễn Thị Kim Thoa | C23: Giáo viên | D23: Tiếng Anh | E23: 11B2 (3), 11C1 (3), 11C2 (3), 12A3 (3) | F23: 12 | G23: CN 11C2(4) | H23: 4 | I23: =F23+H23 -> 16 | L23: 11C2 (3) | M23: 3 | W23: =I23+K23+M23+O23+Q23+R23+S23+T23+U23+V23 -> 19 | X23: =W23-17 -> 2 | Y23: 10B2(3), 10C1(3),10C2(3), 12A1(3), 12C2(3) | Z23: 15 | AA23: CN 12C2(4) | AB23: 4 | AC23: =Z23+AB23 -> 19 | AF23: 12A1,12C2 | AG23: 2 | AO23: =AC23+AE23+AG23+AI23+AJ23+AK23+AL23+AM23+AN23 -> 21 | AR23: =I23+M23 -> 19 | AS23: =AR23+O23 -> 19 | AT23: =AR23 -> 19 | AU23: =(((I23+M23)*18)-(17*18))+(O23*10)+Q23+R23+S23+T23+U23+V23 -> 36 | AV23: =L23+N23+(P23*10)+R23+S23+T23+U23+V23+W23 -> #VALUE! | AW23: =AU23+AV23 -> #VALUE! | AX23: =(I23+K23+M23+Q23)-17 -> 2 | AY23: =O23+R23 -> 0
A24: 13 | B24: Lê Thị Hồng Thủy | C24: Giáo viên | D24: Tiếng Anh | E24: 10B2(3), 10C2(3), 12A1(3), 12A2(3) | F24: 12 | G24: CN 10B2(4) | H24: 4 | I24: =F24+H24 -> 16 | L24: 10B2 (3) | M24: 3 | N24: K12 (2) | W24: =I24+K24+M24+O24+Q24+R24+S24+T24+U24+V24 -> 19 | X24: =W24-17 -> 2 | Y24: 11A1(3), 11A2(3), 11A3(3), 11A4(3),12B3(3), 12C1(3) | Z24: 18 | AA24: CN 11A2(4) | AB24: 4 | AC24: =Z24+AB24 -> 22 | AO24: =AC24+AE24+AG24+AI24+AJ24+AK24+AL24+AM24+AN24 -> 22 | AR24: =I24+M24 -> 19 | AS24: =AR24+O24 -> 19 | AT24: =AR24 -> 19 | AU24: =(((I24+M24)*18)-(17*18))+(O24*10)+Q24+R24+S24+T24+U24+V24 -> 36 | AV24: =L24+N24+(P24*10)+R24+S24+T24+U24+V24+W24 -> #VALUE! | AW24: =AU24+AV24 -> #VALUE! | AX24: =(I24+K24+M24+Q24)-17 -> 2 | AY24: =O24+R24 -> 0
A25: 14 | B25: Lê Kỳ Duyên | C25: Giáo viên | D25: Tiếng Anh | E25: 11A1(3), 11A2(3),11B1(3),12C2(3) | F25: 12 | G25: CN 11A2(4) | H25: 4 | I25: =F25+H25 -> 16 | L25: 11A2 (3) | M25: 3 | W25: =I25+K25+M25+O25+Q25+R25+S25+T25+U25+V25 -> 19 | X25: =W25-17 -> 2 | AR25: =I25+M25 -> 19 | AT25: =AR25 -> 19 | AX25: =(I25+K25+M25+Q25)-17 -> 2 | AY25: =O25+R25 -> 0
A26: C | B26: MÔN VẬT LÝ | I26: =F26+H26 -> 0 | W26: =I26+K26+M26+O26+Q26+R26+S26+T26+U26+V26 -> 0
A27: 15 | B27: Trần Thanh Tâm | C27: Tổ trưởng CM | D27: Vật lý | E27: Lý: 11A2(2), 11C3(2), 12A4(2), 12C1(2), 12C2(2) CĐ Lý: 11A2(1), 12A4(1) | F27: 12 | G27: TTCM (3) | H27: 3 | I27: =F27+H27 -> 15 | J27: 12C1, 12C2 | K27: 2 | N27: 12A4 +C1+C2 | R27: 0 | S27: 0 | T27: 0 | U27: 0 | V27: 0 | W27: =I27+K27+M27+O27+Q27+R27+S27+T27+U27+V27 -> 17 | X27: =W27-17 -> 0 | Y27: 10A2(3), 11A4(3), 11C1(2), 11C2(2), 12A2(3), | Z27: 13 | AA27: TTCM | AB27: 3 | AC27: =Z27+AB27 -> 16 | AD27: 12A2(3) | AE27: 3 | AF27: 12A2 | AG27: 2 | AJ27: 0 | AK27: 0 | AL27: 0 | AM27: 0 | AN27: 0 | AO27: =AC27+AE27+AG27+AI27+AJ27+AK27+AL27+AM27+AN27 -> 21 | AR27: =I27+M27 -> 15 | AS27: =AR27+O27 -> 15 | AT27: =AR27 -> 15 | AU27: =(((I27+M27)*18)-(17*18))+(O27*10)+Q27+R27+S27+T27+U27+V27 -> -36 | AV27: =(((AC27+AE27)*17)-(17*17))+(AG27*17)+AI27+AJ27+AK27+AL27+AM27+AN27 -> 68 | AW27: =AU27+AV27 -> 32 | AX27: =(I27+K27+M27+Q27)-17 -> 0 | AY27: =O27+R27 -> 0
A28: 16 | B28: Trần Tấn Phương | C28: Giáo viên | D28: Vật lý | E28: Lý: 10A1(2), 10B2(2), 10C2(2), 10C3(2), 10C4(2), 12A3(2) CĐ Lý: 12A3(1), 10A1(1) | F28: 14 | G28: TKHĐ(2) | H28: 2 | I28: =F28+H28 -> 16 | L28: 12A3 (3) | M28: 3 | N28: 12A3 | R28: 0 | S28: 0 | T28: 0 | U28: 0 | V28: 0 | W28: =I28+K28+M28+O28+Q28+R28+S28+T28+U28+V28 -> 19 | X28: =W28-17 -> 2 | Y28: 10B1(2), 11A3(3), 12A1(3), 12C3(2), | Z28: 10 | AA28: CN 12A1, TKHĐ | AB28: 6 | AC28: =Z28+AB28 -> 16 | AD28: 11C2(3), 12A1(3) | AE28: 6 | AF28: 12A1 | AG28: 2 | AJ28: 0 | AK28: 0 | AL28: 0 | AM28: 0 | AN28: 0 | AO28: =AC28+AE28+AG28+AI28+AJ28+AK28+AL28+AM28+AN28 -> 24 | AR28: =I28+M28 -> 19 | AS28: =AR28+O28 -> 19 | AT28: =AR28 -> 19 | AU28: =(((I28+M28)*18)-(17*18))+(O28*10)+Q28+R28+S28+T28+U28+V28 -> 36 | AV28: =(((AC28+AE28)*17)-(17*17))+(AG28*17)+AI28+AJ28+AK28+AL28+AM28+AN28 -> 119 | AW28: =AU28+AV28 -> 155 | AX28: =(I28+K28+M28+Q28)-17 -> 2 | AY28: =O28+R28 -> 0
A29: 17 | B29: Nguyễn Bùi Yến Khanh | C29: Giáo viên | D29: Vật lý | E29: LÝ: 11A1(2), 11B2(2), 12A1(2); CĐ Lý: 12A1(1), 11A1(1) | F29: 8 | G29: CN 12A1 (4) | H29: 4 | I29: =F29+H29 -> 12 | L29: 12A1(3); 10C2 (3) | M29: 6 | N29: 12A1(2) | R29: 0 | S29: 0 | T29: 0 | U29: 0 | V29: 0 | W29: =I29+K29+M29+O29+Q29+R29+S29+T29+U29+V29 -> 18 | X29: =W29-17 -> 1 | Y29: 10A1(3), 10B2(2), 10C1(2), 10C2(2), 11A2(3); | Z29: 12 | AB29: 0 | AC29: =Z29+AB29 -> 12 | AD29: 11A3(3), 11A4(3) | AE29: 6 | AG29: 0 | AJ29: 0 | AK29: 0 | AL29: 0 | AM29: 0 | AN29: 0 | AO29: =AC29+AE29+AG29+AI29+AJ29+AK29+AL29+AM29+AN29 -> 18 | AR29: =I29+M29 -> 18 | AS29: =AR29+O29 -> 18 | AT29: =AR29 -> 18 | AU29: =(((I29+M29)*18)-(17*18))+(O29*10)+Q29+R29+S29+T29+U29+V29 -> 18 | AV29: =(((AC29+AE29)*17)-(17*17))+(AG29*17)+AI29+AJ29+AK29+AL29+AM29+AN29 -> 17 | AW29: =AU29+AV29 -> 35 | AX29: =(I29+K29+M29+Q29)-17 -> 1 | AY29: =O29+R29 -> 0
A30: 18 | B30: Nguyễn Thị Bé Hà | C30: Giáo viên | D30: Vật lý | E30: Lý: 12A2(2), 10A2(2),10B1(2) CĐ Lý: 12A2(1), 10A2(1) | F30: 8 | G30: CN 12A2(4) | H30: 4 | I30: =F30+H30 -> 12 | L30: 12A2(3) | M30: 3 | N30: 12A2 (2) | R30: 0 | S30: 0 | T30: 0 | U30: 0 | V30: 0 | W30: =I30+K30+M30+O30+Q30+R30+S30+T30+U30+V30 -> 15 | X30: =W30-17 -> -2 | Y30: 11A1(3), 11A5(3), 12B1(2),12B2(2), 12B3(2), | Z30: 12 | AA30: CN 12B2 | AB30: 4 | AC30: =Z30+AB30 -> 16 | AD30: 12B2(3) | AE30: 3 | AF30: 12B2 | AG30: 2 | AJ30: 0 | AK30: 0 | AL30: 0 | AM30: 0 | AN30: 0 | AO30: =AC30+AE30+AG30+AI30+AJ30+AK30+AL30+AM30+AN30 -> 21 | AR30: =I30+M30 -> 15 | AS30: =AR30+O30 -> 15 | AT30: =AR30 -> 15 | AU30: =(((I30+M30)*18)-(17*18))+(O30*10)+Q30+R30+S30+T30+U30+V30 -> -36 | AV30: =(((AC30+AE30)*17)-(17*17))+(AG30*17)+AI30+AJ30+AK30+AL30+AM30+AN30 -> 68 | AW30: =AU30+AV30 -> 32 | AX30: =(I30+K30+M30+Q30)-17 -> -2 | AY30: =O30+R30 -> 0
A31: 19 | B31: Lê Thị Trúc Linh | C31: Giáo viên | D31: Vật lý_Tin | E31: Lý: 11B1(2), 11C1(2); 11C2(2), 12A5(2) CĐ Lý: 12A5(1) | F31: 9 | G31: PBT | H31: 6 | I31: =F31+H31 -> 15 | N31: 12A5(2) | R31: 0 | S31: 0 | T31: 0 | U31: 0 | V31: 0 | W31: =I31+K31+M31+O31+Q31+R31+S31+T31+U31+V31 -> 15 | X31: =W31-17 -> -2 | Y31: 10A1(3), 10B2(2), 10C1(2), 10C2(2), 11A2(3); | Z31: 12 | AA31: CN 10C1: Phó BT | AB31: 10 | AC31: =Z31+AB31 -> 22 | AD31: 10C1(3) | AE31: 3 | AF31: 0 | AG31: 0 | AJ31: 0 | AK31: 0 | AL31: 0 | AM31: 0 | AN31: 0 | AO31: =AC31+AE31+AG31+AI31+AJ31+AK31+AL31+AM31+AN31 -> 25 | AR31: =I31+M31 -> 15 | AS31: =AR31+O31 -> 15 | AT31: =AR31 -> 15 | AU31: =(((I31+M31)*18)-(17*18))+(O31*10)+Q31+R31+S31+T31+U31+V31 -> -36 | AV31: =(((AC31+AE31)*17)-(17*17))+(AG31*17)+AI31+AJ31+AK31+AL31+AM31+AN31 -> 136 | AW31: =AU31+AV31 -> 100 | AX31: =(I31+K31+M31+Q31)-17 -> -2 | AY31: =O31+R31 -> 0
A32: D | B32: MÔN CÔNG NGHỆ | I32: =F32+H32 -> 0 | W32: =I32+K32+M32+O32+Q32+R32+S32+T32+U32+V32 -> 0
A33: 20 | B33: Phạm Thanh Phong | C33: TPCM | D33: Công nghệ | E33: 11B1(2), 11B2 (2), 12A3(2), 12A4(2) | F33: 8 | G33: CN 11B2 (4); TP (1) | H33: 5 | I33: =F33+H33 -> 13 | L33: 11B2(3), 11C1 (3) | M33: 6 | N33: 0 | R33: 0 | S33: 0 | T33: 0 | U33: 0 | V33: 0 | W33: =I33+K33+M33+O33+Q33+R33+S33+T33+U33+V33 -> 19 | X33: =W33-17 -> 2 | Y33: 10B1(2), 10B2 (2), 11A3(2), 11A4(2); | Z33: 8 | AA33: CN 11A4 (4); TP (1) | AB33: 5 | AC33: =Z33+AB33 -> 13 | AD33: 10B1(3), 10B2(3) | AE33: 6 | AF33: 0 | AG33: 0 | AJ33: 0 | AK33: 0 | AL33: 0 | AM33: 0 | AN33: 0 | AO33: =AC33+AE33+AG33+AI33+AJ33+AK33+AL33+AM33+AN33 -> 19 | AR33: =I33+M33 -> 19 | AS33: =AR33+O33 -> 19 | AT33: =AR33 -> 19 | AU33: =(((I33+M33)*18)-(17*18))+(O33*10)+Q33+R33+S33+T33+U33+V33 -> 36 | AV33: =L33+N33+(P33*10)+R33+S33+T33+U33+V33+W33 -> #VALUE! | AW33: =AU33+AV33 -> #VALUE! | AX33: =(I33+K33+M33+Q33)-17 -> 2 | AY33: =O33+R33 -> 0
A34: 21 | B34: Nguyễn Trường An | C34: Giáo viên | D34: Công nghệ | E34: 12A5(2), 12C3 (2), 10A1(2), 10A2(2), 10C2(2) | F34: 10 | G34: CN 10C2 (4), TB (3) | H34: 7 | I34: =F34+H34 -> 17 | J34: 10C2 | K34: 1 | N34: 0 | R34: 0 | S34: 0 | T34: 0 | U34: 0 | V34: 0 | W34: =I34+K34+M34+O34+Q34+R34+S34+T34+U34+V34 -> 18 | X34: =W34-17 -> 1 | Y34: 11A5(2), 11C3 (2), 12B1(2), 12B2(2), 12B3(2), | Z34: 10 | AA34: CN 11A5, TB (3) | AB34: 7 | AC34: =Z34+AB34 -> 17 | AD34: 11A5(3) | AE34: 3 | AF34: 0 | AG34: 0 | AJ34: 0 | AK34: 0 | AL34: 0 | AM34: 0 | AN34: 0 | AO34: =AC34+AE34+AG34+AI34+AJ34+AK34+AL34+AM34+AN34 -> 20 | AR34: =I34+M34 -> 17 | AS34: =AR34+O34 -> 17 | AT34: =AR34 -> 17 | AU34: =(((I34+M34)*18)-(17*18))+(O34*10)+Q34+R34+S34+T34+U34+V34 -> 0 | AV34: =L34+N34+(P34*10)+R34+S34+T34+U34+V34+W34 -> 18 | AW34: =AU34+AV34 -> 18 | AX34: =(I34+K34+M34+Q34)-17 -> 1 | AY34: =O34+R34 -> 0
A35: E | B35: MÔN HÓA HỌC | I35: =F35+H35 -> 0 | W35: =I35+K35+M35+O35+Q35+R35+S35+T35+U35+V35 -> 0
A36: 22 | B36: Trần Lê Tấn Đức | C36: Tổ trưởng CM | D36: Hóa học | E36: Hóa: 11A1(2), 11A2(2), 11B1(2), 11B2(2), 12A1(2); CĐ Hóa: 11A1(1), 11A2(1), 11B1(1), 11B2(1), 12A1(1) | F36: 15 | G36: TTCM(3) | H36: 3 | I36: =F36+H36 -> 18 | N36: 12A1 (2) | W36: =I36+K36+M36+O36+Q36+R36+S36+T36+U36+V36 -> 18 | X36: =W36-17 -> 1 | Y36: 11A1(3), 11A2(3), 11A3(3), 11A5(3), 12B1(3) | Z36: 17 | AA36: TTCM(3) | AB36: 3 | AC36: =Z36+AB36 -> 20 | AF36: 12B1(2) | AG36: 2 | AO36: =AC36+AE36+AG36+AI36+AJ36+AK36+AL36+AM36+AN36 -> 22 | AR36: =I36+M36 -> 18 | AS36: =AR36+O36 -> 18 | AT36: =AR36 -> 18 | AU36: =(((I36+M36)*18)-(17*18))+(O36*10)+Q36+R36+S36+T36+U36+V36 -> 18 | AV36: =L36+N36+(P36*10)+R36+S36+T36+U36+V36+W36 -> #VALUE! | AW36: =AU36+AV36 -> #VALUE! | AX36: =(I36+K36+M36+Q36)-17 -> 1 | AY36: =O36+R36 -> 0
A37: 23 | B37: Nguyễn Hữu Tân | C37: Giáo viên | D37: Hóa học | E37: Hóa: 10B1(2), 10B2 (2), 12A2(2), 12A4(2), 10C1(2), CĐ Hóa: 10B1(1), 10B2(1), 12A2(1), 12A4(1) | F37: 14 | G37: CN 12A4 (4) | H37: 4 | I37: =F37+H37 -> 18 | N37: 12A2 (2), 12A4(2) | W37: =I37+K37+M37+O37+Q37+R37+S37+T37+U37+V37 -> 18 | X37: =W37-17 -> 1 | Y37: 11A4(3), 11C1(2), 11C2(2), 12A1(3),12A2(3), 12B2(3) | Z37: 16 | AC37: =Z37+AB37 -> 16 | AF37: 12A1,A2(2), 12B2(2), | AG37: 4 | AO37: =AC37+AE37+AG37+AI37+AJ37+AK37+AL37+AM37+AN37 -> 20 | AR37: =I37+M37 -> 18 | AS37: =AR37+O37 -> 18 | AT37: =AR37 -> 18 | AU37: =(((I37+M37)*18)-(17*18))+(O37*10)+Q37+R37+S37+T37+U37+V37 -> 18 | AV37: =L37+N37+(P37*10)+R37+S37+T37+U37+V37+W37 -> #VALUE! | AW37: =AU37+AV37 -> #VALUE! | AX37: =(I37+K37+M37+Q37)-17 -> 1 | AY37: =O37+R37 -> 0
A38: 24 | B38: Ung Nguyễn Thị Thùy Dương | C38: Giáo viên | D38: Hóa học | E38: Hóa: 10A1(2), 10A2(2), 12A3(2), 12A5(2), 12C2(2); 12C1(2), CĐ Hóa: 10A1(1), 10A2(1), 12A3(1), 12A5(1) | F38: 16 | I38: =F38+H38 -> 16 | N38: 12A3+ 12C1+12C2 (2), 12A5(2) | W38: =I38+K38+M38+O38+Q38+R38+S38+T38+U38+V38 -> 16 | X38: =W38-17 -> -1 | Y38: 10A1(3), 10A2(3), 10B1(3), 10B2(3), 12B3(3), 12C1(2), 12C2(2) | Z38: 19 | AC38: =Z38+AB38 -> 19 | AF38: 12B3(2) | AG38: 2 | AO38: =AC38+AE38+AG38+AI38+AJ38+AK38+AL38+AM38+AN38 -> 21 | AR38: =I38+M38 -> 16 | AS38: =AR38+O38 -> 16 | AT38: =AR38 -> 16 | AU38: =(((I38+M38)*18)-(17*18))+(O38*10)+Q38+R38+S38+T38+U38+V38 -> -18 | AV38: =L38+N38+(P38*10)+R38+S38+T38+U38+V38+W38 -> #VALUE! | AW38: =AU38+AV38 -> #VALUE! | AX38: =(I38+K38+M38+Q38)-17 -> -1 | AY38: =O38+R38 -> 0
A39: G | B39: MÔN SINH | I39: =F39+H39 -> 0 | W39: =I39+K39+M39+O39+Q39+R39+S39+T39+U39+V39 -> 0
A40: 25 | B40: Ngô Thị Đông Tràng | C40: Tổ phó CM | D40: Sinh học | E40: 10A1(2), 10B2(2), 10C1(2), 11B1(2); CĐ Sinh: 10B2(1), 11B1(1) | F40: 10 | G40: CN 11B1(4); Tổ phó (1) | H40: 5 | I40: =F40+H40 -> 15 | J40: 10A1, 10B2, 10C1, 11B1 | K40: 4 | L40: 11B1(3) | M40: 3 | W40: =I40+K40+M40+O40+Q40+R40+S40+T40+U40+V40 -> 22 | X40: =W40-17 -> 5 | Y40: 10B1 (3), 12B1 (3), 12B2 (3), 12B3 (3) | Z40: 12 | AA40: CN 10B1 (4); tổ phó (1) | AB40: 5 | AC40: =Z40+AB40 -> 17 | AF40: 12A1 12B2 12B3(2), 12B1 (2) | AG40: 4 | AO40: =AC40+AE40+AG40+AI40+AJ40+AK40+AL40+AM40+AN40 -> 21 | AR40: =I40+M40 -> 18 | AS40: =AR40+O40 -> 18 | AT40: =AR40 -> 18 | AU40: =(((I40+M40)*18)-(17*18))+(O40*10)+Q40+R40+S40+T40+U40+V40 -> 18 | AV40: =L40+N40+(P40*10)+R40+S40+T40+U40+V40+W40 -> #VALUE! | AW40: =AU40+AV40 -> #VALUE! | AX40: =(I40+K40+M40+Q40)-17 -> 5 | AY40: =O40+R40 -> 0
